Workbook
Name __A: #REF!
Name __Anonymous_Sheet_DB__1: #REF!
Name __Anonymous_Sheet_DB__1_1: #REF!
Name __Anonymous_Sheet_DB__1_2: #REF!
Name __Anonymous_Sheet_DB__1_3: #REF!
Name __Anonymous_Sheet_DB__1_4: #REF!
Name __Anonymous_Sheet_DB__1_5: #REF!
Name __Anonymous_Sheet_DB__1_6: #REF!
Name __Anonymous_Sheet_DB__1_7: #REF!
Name __Anonymous_Sheet_DB__2: #REF!
Name _A666666: #REF!
Name _A666666: #REF!
Name _B65555: #REF!
Name _B65555: #REF!
Name _B666666: #REF!
Name _C666666: #REF!
Name _D666666: #REF!
Name _E666666: #REF!
Name _Toc531607230: 'Likvidácia odpadov'!#REF!
Name czk: #REF!
Name D: #REF!
Name D: #REF!
Name D: #REF!
Name D: #REF!
Name D: #REF!
Name D: #REF!
Name D: #REF!
Name D: #REF!
Name D: #REF!
Name D: #REF!
Name D: #REF!
Name dflt1: #REF!
Name dflt2: #REF!
Name dflt3: #REF!
Name doch100: #REF!
Name doch150: #REF!
Name doch200: #REF!
Name doch25: #REF!
Name doch50: #REF!
Name E: #REF!
Name E: #REF!
Name E: #REF!
Name E: #REF!
Name E: #REF!
Name E: #REF!
Name E: #REF!
Name E: #REF!
Name E: #REF!
Name E: #REF!
Name E: #REF!
Name Excel_BuiltIn__FilterDatabase_2: #REF!
Name Excel_BuiltIn__FilterDatabase_3: #REF!
Name Excel_BuiltIn__FilterDatabase_4: #REF!
Name Excel_BuiltIn__FilterDatabase_6: #REF!
Name Excel_BuiltIn__FilterDatabase_7: #REF!
Name Excel_BuiltIn__FilterDatabase_8: #REF!
Name Excel_BuiltIn_Print_Area_1: SO36b!$A$4:$H$41
Name Excel_BuiltIn_Print_Area_1: 'SO34.04'!$A$4:$H$341
Name Excel_BuiltIn_Print_Area_1_1: SO36b!$A$4:$H$41
Name Excel_BuiltIn_Print_Area_1_1: 'SO34.04'!$A$4:$H$341

Sheet TL
A8: Názov zákazky: | C8: =+Obsah!N1 -> 15709 - Nižná / Tr 110/22kV | G8: Stupeň:
C9: =+Obsah!N2 -> - komplexná rekonštrukcia | G9: VPP
C10: =+Obsah!N3
A11: Časť: | C11: E. Prílohy
A12: Objekt: | G12: DCC: | H12: &ECA
A13: VÝKAZ VÝMER
A15: Vypracoval: | D15: Schválil: | F15: Dátum: | G15: Počet listov:
A16: Kolektív | D16: Ing. Bálik, Ing. Ladiver | F16: =Obsah!Z3 -> 46174 | G16: 181
G46: Výtlačok
A53: c
A54: b
A55: a
A56: Zmena | B56: Názov zmeny | F56: Dátum | G56: Vykonal

Sheet Obsah
K1: Stavba: | N1: 15709 - Nižná / Tr 110/22kV | W1: Stavebník: | Z1: Stredoslovenská distribučná, a. s., Pri Rajčianke 2927/8, 010 47 Žilina
N2: - komplexná rekonštrukcia | W2: Miesto: | Z2: Tr 110/22 kV Nižná
W3: Dátum: | Z3: 46174
A4: Obsah:
B5: Rekapitulácia
B6: D. Dokumentácia stavebných objektov a prevádzkových súborov
B7: P01_PS01_Demontáže
B8: P02_PS04_Transformátory 110kV
B9: P03_PS06_Tlmivky a odporníky
B10: P04_PS09_R110kV
B11: P05_PS10_R22kV
B12: P06_PS30_RIS
B13: P07_PS31_Elektrické ochrany
B14: P08_PS50_VLSP striedavá
B15: P09_PS51_VLSP jednosmerná
B16: P10_PS52_VLSP zabezpečená
... B62: I_Odpady

Sheet Rekapitulácia stavby
A1: Rekapitulácia objektov stavby
A2: Stavba: | B2: =Obsah!N1 -> 15709 - Nižná / Tr 110/22kV
B3: =Obsah!N2 -> - komplexná rekonštrukcia
B4: =Obsah!N3
A5: Investor / stavebník: | B5: =Obsah!Z1 -> Stredoslovenská distribučná, a. s., Pri Rajčianke 2927/8, 010 47 Žilina | E5: Projektant: | F5: LiV-EPI, s.r.o. Trenčianska 56/F, 82109 Bratislava
A6: Zhotoviteľ: | B6: Bude stanovený výberovým konaním | E6: Spracoval: | F6: Ing. Bálik, Ing. Ladiver
A7: Miesto: | B7: =Obsah!Z2 -> Tr 110/22 kV Nižná | E7: Dátum: | F7: =Obsah!Z3 -> 46174
A9: Kód | B9: Zákazka | C9: Cena bez DPH | D9: DPH | E9: Cena s DPH | F9: ZRN | G9: HZS | H9: VRN
B11: =B4 | C11: =SUM(C12:C44,C46,C49:C52,C55:C56,C58:C60) -> 0
A12: =+MID(B12,5,4) -> SO11 | B12: =Obsah!B24 -> S01_SO11_Vedenia 22kV | C12: =SUM(F12:H12) -> 0 | D12: =C12*23% -> 0 | E12: =D12+C12 -> 0 | F12: ='SO11'!H107 -> 0 | G12: ='SO11'!H113 -> 0 | H12: ='SO11'!H116 -> 0
A13: =+MID(B13,5,4) -> SO31 | B13: =Obsah!B25 -> S02_SO31_Rozvodňa 110kV | C13: =SUM(F13:H13) -> 0 | D13: =C13*23% -> 0 | E13: =D13+C13 -> 0 | F13: ='SO31'!J97 -> 0 | G13: 0 | H13: ='SO31'!J104 -> 0
A14: =+MID(B14,5,4) -> SO32 | B14: =Obsah!B26 -> S03_SO32_Stanovište transformátorov | C14: =SUM(F14:H14) -> 0 | D14: =C14*23% -> 0 | E14: =D14+C14 -> 0 | F14: ='SO32'!J97 -> 0 | G14: 0 | H14: ='SO32'!J102 -> 0
A15: =+MID(B15,5,4) -> SO33 | B15: =Obsah!B27 -> S04_SO33_Stanovište tlmiviek a odporníkov | C15: =SUM(F15:H15) -> 0 | D15: =C15*23% -> 0 | E15: =D15+C15 -> 0 | F15: ='SO33'!J97 -> 0 | G15: 0 | H15: ='SO33'!J102 -> 0
A16: =+MID(B16,5,4) -> SO34 | B16: =Obsah!B28 -> S05_SO34_Budová spoločných prevádzok
A17: =+MID(B17,5,7) -> SO34.01 | B17: =Obsah!B29 -> S05_SO34.01_ASR (+ statika) | C17: =SUM(F17:H17) -> 0 | D17: =C17*23% -> 0 | E17: =D17+C17 -> 0 | F17: ='SO34.01 '!J97+'SO34.01 '!J106+'SO34.01 '!J124 -> 0 | G17: 0 | H17: ='SO34.01 '!J128 -> 0
A18: =+MID(B18,5,7) -> SO34.03 | B18: =Obsah!B30 -> S05_SO34.03_Zdravotechnická inštalácia | C18: =SUM(F18:H18) -> 0 | D18: =C18*23% -> 0 | E18: =D18+C18 -> 0 | F18: ='SO34.03'!G13+'SO34.03'!G26 -> 0 | G18: 0 | H18: ='SO34.03'!G125 -> 0
A19: =+MID(B19,5,7) -> SO34.04 | B19: =Obsah!B31 -> S05_SO34.04_Vzduchotechnika a chladenie | C19: =SUM(F19:H19) -> 0 | D19: =C19*23% -> 0 | E19: =D19+C19 -> 0 | F19: ='SO34.04'!G333 -> 0 | G19: ='SO34.04'!H334 -> 0 | H19: ='SO34.04'!G336 -> 0
A20: =+MID(B20,5,7) -> SO34.05 | B20: =Obsah!B32 -> S05_SO34.05_Vykurovanie | C20: =SUM(F20:H20) -> 0 | D20: =C20*23% -> 0 | E20: =D20+C20 -> 0 | F20: ='SO34.05'!J120 -> 0 | G20: 0 | H20: ='SO34.05'!J132 -> 0
A21: =+MID(B21,5,7) -> SO34.06 | B21: =Obsah!B33 -> S05_SO34.06_Elektroinštalácia | C21: =SUM(F21:H21) -> 0 | D21: =C21*23% -> 0 | E21: =D21+C21 -> 0 | F21: =SO34_06!I226 -> 0 | G21: =SO34_06!I233 -> 0 | H21: =SO34_06!I236 -> 0
A22: =+MID(B22,5,7) -> SO34.07 | B22: =Obsah!B34 -> S05_SO34.07_Výzbroj káblových trás | C22: =SUM(F22:H22) -> 0 | D22: =C22*23% -> 0 | E22: =D22+C22 -> 0 | F22: ='SO34.07'!I135 -> 0 | G22: ='SO34.07'!I138 -> 0 | H22: ='SO34.07'!I138 -> 0
A23: =+MID(B23,5,7) -> SO34.08 | B23: =Obsah!B35 -> S05_SO34.08_Systémové prestupy | C23: =SUM(F23:H23) -> 0 | D23: =C23*23% -> 0 | E23: =D23+C23 -> 0 | F23: ='SO34.08'!I45 -> 0 | G23: ='SO34.08'!I48 -> 0 | H23: ='SO34.08'!I48 -> 0
A24: =+MID(B28,5,4) -> SO36 | B24: =Obsah!B36 -> S06_SO36_Technologické domčeky
A25: =+MID(B25,5,4) -> SO36 | B25: =Obsah!B37 -> S06_SO36_ASR | C25: =SUM(F25:H25) -> 0 | D25: =C25*23% -> 0 | E25: =D25+C25 -> 0 | F25: ='SO36'!J125+'SO36'!J134 -> 0 | G25: 0 | H25: ='SO36'!J137 -> 0
A26: =+MID(B26,5,5) -> SO36a | B26: =Obsah!B38 -> S06_SO36a_Vyurovanie | C26: =SUM(F26:H26) -> 0 | D26: =C26*23% -> 0 | E26: =D26+C26 -> 0 | F26: =SO36a!J120 -> 0 | G26: 0 | H26: =SO36a!J128 -> 0
A27: =+MID(B27,5,5) -> SO36b | B27: =Obsah!B39 -> S06_SO36b_Vzduchotechnika | C27: =SUM(F27:H27) -> 0 | D27: =C27*23% -> 0 | E27: =D27+C27 -> 0 | F27: =SO36b!G33 -> 0 | G27: =SO36b!H34 -> 0 | H27: =SO36b!G36 -> 0
A28: =+MID(B28,5,7) -> SO36_El | B28: =Obsah!B40 -> S06_SO36_Elektroinštalácia | C28: =SUM(F28:H28) -> 0 | D28: =C28*23% -> 0 | E28: =D28+C28 -> 0 | F28: ='SO36-ELI'!I129 -> 0 | G28: ='SO36-ELI'!I136 -> 0 | H28: ='SO36-ELI'!I139 -> 0
A29: =+MID(B29,5,4) -> SO37 | B29: =Obsah!B41 -> S07_SO37_SO38_SO39_Vonkajšie osvetlenie | C29: =SUM(F29:H29) -> 0 | D29: =C29*23% -> 0 | E29: =D29+C29 -> 0 | F29: ='SO37'!I144 -> 0 | G29: ='SO37'!I150 -> 0 | H29: ='SO37'!I153 -> 0
A30: =+MID(B30,5,4) -> SO41 | B30: =Obsah!B42 -> S08_SO41_Vnútorné komunikácie | C30: =SUM(F30:H30) -> 0 | D30: =C30*23% -> 0 | E30: =D30+C30 -> 0 | F30: ='SO41'!J97 -> 0 | G30: 0 | H30: ='SO41'!J105 -> 0
A31: =+MID(B31,5,4) -> SO42 | B31: =Obsah!B43 -> S09_SO42_Káblové kanály
A32: =+MID(B32,5,7) -> SO42.01 | B32: =Obsah!B44 -> S09_SO42.01_ASR (+ Statika) | C32: =SUM(F32:H32) -> 0 | D32: =C32*23% -> 0 | E32: =D32+C32 -> 0 | F32: ='SO42.01'!J97+'SO42.01'!J106+'SO42.01'!J109 -> 0 | G32: 0 | H32: ='SO42.01'!J111 -> 0
A33: =+MID(B33,5,7) -> SO42.03 | B33: =Obsah!B45 -> S09_SO42.03_Výzbroj káblových trás | C33: =SUM(F33:H33) -> 0 | D33: =C33*23% -> 0 | E33: =D33+C33 -> 0 | F33: ='SO42.03'!I77 -> 0 | G33: 0 | H33: ='SO42.03'!I80 -> 0
A34: =+MID(B34,5,7) -> SO42.04 | B34: =Obsah!B46 -> S09_SO42.04_Systémové prestupy | C34: =SUM(F34:H34) -> 0 | D34: =C34*23% -> 0 | E34: =D34+C34 -> 0 | F34: ='SO42.04'!I46 -> 0 | G34: 0 | H34: ='SO42.04'!I49 -> 0
A35: =+MID(B35,5,4) -> SO45 | B35: =Obsah!B47 -> S10_SO45_Hrubá úprava terénu | C35: =SUM(F35:H35) -> 0 | D35: =C35*23% -> 0 | E35: =D35+C35 -> 0 | F35: ='SO45'!J97 -> 0 | G35: 0 | H35: ='SO45'!J101 -> 0
A36: =+MID(B36,5,4) -> SO46 | B36: =Obsah!B48 -> S10_SO46_Konečná úprava terénu | C36: =SUM(F36:H36) -> 0 | D36: =C36*23% -> 0 | E36: =D36+C36 -> 0 | F36: ='SO46'!J97 -> 0 | G36: 0 | H36: ='SO46'!J104 -> 0
A37: =+MID(B37,5,4) -> SO47 | B37: =Obsah!B49 -> S11_SO47_Vonkajšie oplotenie | C37: =SUM(F37:H37) -> 0 | D37: =C37*23% -> 0 | E37: =D37+C37 -> 0 | F37: ='SO47'!J97+'SO47'!J105+'SO47'!J107 -> 0 | G37: 0 | H37: ='SO47'!J109 -> 0
A38: =+MID(B38,5,4) -> SO48 | B38: =Obsah!B50 -> S12_SO48_Vnútorné oplotenie | C38: =SUM(F38:H38) -> 0 | D38: =C38*23% -> 0 | E38: =D38+C38 -> 0 | F38: ='SO48'!J97+'SO48'!J103+'SO48'!J105 -> 0 | G38: 0 | H38: ='SO48'!J107 -> 0
A39: =+MID(B39,5,4) -> SO49 | B39: =Obsah!B51 -> S13_SO49_Demolácie | C39: =SUM(F39:H39) -> 0 | D39: =C39*23% -> 0 | E39: =D39+C39 -> 0 | F39: ='SO49'!J97+'SO49'!J102+'SO49'!J104 -> 0 | G39: 0 | H39: ='SO49'!J107 -> 0
A40: =+MID(B40,5,4) -> SO50 | B40: =Obsah!B52 -> S14_SO50_Uzemnenie | C40: =SUM(F40:H40) -> 0 | D40: =C40*23% -> 0 | E40: =D40+C40 -> 0 | F40: ='SO50'!I45 -> 0 | G40: ='SO50'!I48 -> 0 | H40: ='SO50'!I51 -> 0
A41: =+MID(B41,5,4) -> SO63 | B41: =Obsah!B53 -> S15_SO63_Dažďová kanalizácia | C41: =SUM(F41:H41) -> 0 | D41: =C41*23% -> 0 | E41: =D41+C41 -> 0 | F41: ='SO63'!G13+'SO63'!G89+'SO63'!G93 -> 0 | G41: 0 | H41: ='SO63'!G104 -> 0
A42: =+MID(B42,5,4) -> SO64 | B42: =Obsah!B54 -> S16_SO64_Splašková kanalizácia | C42: =SUM(F42:H42) -> 0 | D42: =C42*23% -> 0 | E42: =D42+C42 -> 0 | F42: ='SO64 '!J97 -> 0 | G42: 0 | H42: ='SO64 '!J102 -> 0
A43: =+MID(B43,5,4) -> SO66 | B43: =Obsah!B55 -> S16_SO66_Žumpa | C43: =SUM(F43:H43) -> 0 | D43: =C43*23% -> 0 | E43: =D43+C43 -> 0 | F43: ='SO66'!G13 -> 0 | G43: 0 | H43: ='SO66'!G43 -> 0
A44: =+MID(B44,5,4) -> SO71 | B44: =Obsah!B56 -> S17_SO71_Vodovodná prípojka | C44: =SUM(F44:H44) -> 0 | D44: =C44*23% -> 0 | E44: =D44+C44 -> 0 | F44: ='SO71'!G13+'SO71'!G50 -> 0 | G44: 0 | H44: ='SO71'!G55 -> 0
A45: F | B45: =Obsah!B58 -> POV_SO_Plán organizácie výstavby_stavebné objekty | C45: =SUM(C46:C46) -> 0 | D45: =SUM(D46:D46) -> 0 | E45: =SUM(E46:E46) -> 0 | F45: =SUM(F46:F46) -> 0 | G45: =SUM(G46:G46) -> 0 | H45: =SUM(H46:H46) -> 0
A46: =+MID(B46,1,6) -> POV_SO | B46: =Obsah!B58 -> POV_SO_Plán organizácie výstavby_stavebné objekty | C46: =SUM(F46:H46) -> 0 | D46: =C46*23% -> 0 | E46: =D46+C46 -> 0 | F46: =POV_SO!J97+POV_SO!J105 -> 0 | G46: =POV_SO!J107 -> 0 | H46: =POV_SO!J108 -> 0
A48: H | B48: =Obsah!B61 -> H_Ostatné | C48: =SUM(C49:C52,C55:C56,C58) -> 0 | D48: =SUM(D49:D58) -> 0 | E48: =SUM(E49:E58) -> 0 | F48: =SUM(F49:F58) -> 0 | G48: =SUM(G49:G58) -> 0 | H48: =SUM(H49:H58) -> 0
A49: H.1 | B49: Kataster + Geodetické práce - zameranie objektov pred a po realizácii (vrátane geometrického plánu) | C49: =SUM(F49) -> 0 | D49: =C49*23% -> 0 | E49: =D49+C49 -> 0 | F49: 0
A50: H.2 | B50: Geodetické práce - vytýčenie dotknutých jestvujúcich inžinierskych sietí (protokoly o vytýčení IS), pred zahájením a po ukončení stavby | C50: =SUM(F50) -> 0 | D50: =C50*23% -> 0 | E50: =D50+C50 -> 0 | F50: 0
A51: H.3 | B51: 3D skenovanie po ukončení stavby | C51: =SUM(F51) -> 0 | D51: =C51*23% -> 0 | E51: =D51+C51 -> 0 | F51: 0
A52: H.4 | B52: Príprava a zabezpečenie podkladov pre kolaudačné rozhodnutie na stavbu alebo jej časti, na ktoré je vydané stavebné povolenie, alebo povolenia na dočasné užívanie stavby ak si to charakter stavby vyžaduje | C52: =SUM(F52) -> 0 | D52: =C52*23% -> 0 | E52: =D52+C52 -> 0 | F52: 0
A53: H.5 | B53: Meranie krokových a dotykových napätí s protokolom. | C53: DODÁVATEĽ NENACEŇUJE | D53: DODÁVATEĽ NENACEŇUJE | E53: DODÁVATEĽ NENACEŇUJE | F53: DODÁVATEĽ NENACEŇUJE
A54: H.6 | B54: Meranie elektr. a magnet. polí v ESt s protokolom pre potreby kolaudácie | C54: DODÁVATEĽ NENACEŇUJE | D54: DODÁVATEĽ NENACEŇUJE | E54: DODÁVATEĽ NENACEŇUJE | F54: DODÁVATEĽ NENACEŇUJE
A55: H.7 | B55: Mimostavenisková preprava materiálu dodávateľa zhotoviteľom zo skladu objednávateľa | C55: =SUM(F55) -> 0 | D55: =C55*23% -> 0 | E55: =D55+C55 -> 0 | F55: 0
A56: H.8 | B56: Zaškolenie obsluhy | C56: =SUM(F56) -> 0 | D56: =C56*23% -> 0 | E56: =D56+C56 -> 0 | F56: 0
A57: H.9 | B57: Úradné skúšky pre uvedenie zariadení do prevádzky (pre celú stavbu) | C57: DODÁVATEĽ NENACEŇUJE | D57: DODÁVATEĽ NENACEŇUJE | E57: DODÁVATEĽ NENACEŇUJE | F57: DODÁVATEĽ NENACEŇUJE
A58: H.10 | B58: Kompletačná činnosť | C58: =SUM(F58) -> 0 | D58: =C58*23% -> 0 | E58: =D58+C58 -> 0 | F58: 0
A59: I | B59: =Obsah!B62 -> I_Odpady | C59: =SUM(C60:C60) -> 0 | D59: =SUM(D60:D60) -> 0 | E59: =SUM(E60:E60) -> 0 | F59: =SUM(F60:F60) -> 0 | G59: =SUM(G60:G60) -> 0 | H59: =SUM(H60:H60) -> 0
A60: l.1 | B60: Likvidácia odpadov - náklady | C60: =SUM(F60) -> 0 | D60: =C60*23% -> 0 | E60: =D60+C60 -> 0 | F60: ='Likvidácia odpadov'!H64 -> 0
B61: Celkom | C61: =C11 -> 0 | D61: =D11 -> 0 | E61: =E11 -> 0 | F61: =F11 -> 0 | G61: =G11 -> 0 | H61: =H11 -> 0

Sheet SO11
A1: =+TL!A13 -> VÝKAZ VÝMER
A2: Stavba: | D2: =Obsah!N1 -> 15709 - Nižná / Tr 110/22kV
D3: =Obsah!N2 -> - komplexná rekonštrukcia
D4: =Obsah!N3
A5: Časť: | D5: =Obsah!B6 -> D. Dokumentácia stavebných objektov a prevádzkových súborov
A6: Objekt: | D6: =Obsah!B24 -> S01_SO11_Vedenia 22kV
A8: Stavebník: | D8: =Obsah!Z1 -> Stredoslovenská distribučná, a. s., Pri Rajčianke 2927/8, 010 47 Žilina | G8: Spracoval: | H8: Ing. Repka
A9: Miesto: | D9: =Obsah!Z2 -> Tr 110/22 kV Nižná | G9: Dátum: | H9: =Obsah!Z3 -> 46174
A11: P.Č. | B11: Kód položky | C11: TTŠ / SAP | D11: Popis | E11: MJ | F11: Množstvo celkom | G11: Cena jednotková | H11: Cena celkom
B12: M | D12: Práce a dodávky M | H12: =SUM(H13,H28,H48,H53,H55,H104) -> 0
C13: 025 | D13: Zemné práce | H13: =SUM(H14:H27) -> 0
A14: 1 | B14: EL10 | C14: 460120002.3 | D14: ZAHOZ JAMY PRE KABEL.SPOJKU RUCNE TR.3-4 | E14: M3 | F14: 4 | H14: =F14*G14 -> 0
A15: =A14+1 -> 2 | B15: EH39 | C15: 460200304.1 | D15: HLBENIE KABEL.RYHY 50X120CM STROJ.TR.4 | E15: M | F15: 40 | H15: =F15*G15 -> 0
A16: =A15+1 -> 3 | B16: EH92 | C16: 460200884.1 | D16: HLBENIE KABEL.RYHY 80X120CM STROJ.TR.4 | E16: M | F16: 50 | H16: =F16*G16 -> 0
A17: =A16+1 -> 4 | B17: EL07 | C17: 460230014 | D17: VYKOP JAMY-SPOJKA NAD 10KV RUCNE TR.4 | E17: KUS | F17: 2 | H17: =F17*G17 -> 0
A18: =A17+1 -> 5 | B18: EI81 | C18: 460300002.3 | D18: ZAHRN KABEL.RYHY STROJ.VO VOLNOM TERENE | E18: M3 | F18: 72 | H18: =F18*G18 -> 0
A19: =A18+1 -> 6 | B19: EN03 | C19: 460300006 | D19: HUTNENIE ZEMINY STROJNE,VRSTVA 20CM | E19: M3 | F19: 72 | H19: =F19*G19 -> 0
A20: =A19+1 -> 7 | B20: EJ41 | C20: 460490012 | D20: FOLIA VYSTRAZNA Z PVC ,SIRKA 33 CM - VN | E20: M | F20: 190 | H20: =F20*G20 -> 0
A21: =A20+1 -> 8 | B21: EL19 | C21: 460490053 | D21: VYPODLOZ.,ODDELENIE,KRYTIE SPOJKY DO 35K | E21: KUS | F21: 2 | H21: =F21*G21 -> 0
A22: =A21+1 -> 9 | B22: EK19 | C22: 460510025.1 | D22: RURA NA OPTICKY KABEL 40x3 | E22: M | F22: 140 | H22: =F22*G22 -> 0
A23: =A22+1 -> 10 | B23: EK19A | C23: 460510025.2 | D23: KONCOVKA PRE HDPE CHRANICKU 40MM | E23: KUS | F23: 4 | H23: =F23*G23 -> 0
A24: =A23+1 -> 11 | B24: EK19C | C24: 460510025.4 | D24: MARKER ELEKTRONICKY S ID | E24: KUS | F24: 6 | H24: =F24*G24 -> 0
A25: =A24+1 -> 12 | B25: EK11 | C25: 460510032 | D25: PRESTUP Z FXKV RUR 16CM | E25: M | F25: 200 | H25: =F25*G25 -> 0
A26: =A25+1 -> 13 | B26: EN01 | C26: 460600001 | D26: ODVOZ ZEMINY DO VZDIALENOSTI 1KM | E26: M3 | F26: 24 | H26: =F26*G26 -> 0
A27: =A26+1 -> 14 | B27: EQ06 | C27: 460620014 | D27: PROVIZORNA UPRAVA TERENU ZEMINOU TR.4 | E27: M2 | F27: 90 | H27: =F27*G27 -> 0
A28: =A27+1 -> 15 | C28: 031 | D28: Montážne a demontážne práce | H28: =SUM(H29:H47) -> 0
A29: =A28+1 -> 16 | B29: CU09 | C29: 0G0180 | D29: OBMEDZOVAC PREPAT.HDA-24N-NFQ NA SIET | E29: KUS | F29: 9 | H29: =F29*G29 -> 0 | I29: DODAVKA SSD
A30: =A29+1 -> 17 | B30: CU11 | C30: 0G0181.A | D30: TIENENY 22kV ZVODIC PREPATIA | E30: SADA | F30: 5 | H30: =F30*G30 -> 0 | I30: DODAVKA SSD
A31: =A30+1 -> 18 | B31: BB11 | C31: 210010249 | D31: ZLAB OCHRANNY 12X12X250CM | E31: KUS | F31: 3 | H31: =F31*G31 -> 0 | I31: DODAVKA SSD
A32: =A31+1 -> 19 | B32: HG81A | C32: 210021051.2 | D32: MONT.DREV.PRICHYTKY PRE KAB.DO 4 OTVOROV 240MM-PRIEHR STOZ. | E32: KUS | F32: 12 | H32: =F32*G32 -> 0 | I32: DODAVKA SSD
A33: =A32+1 -> 20 | B33: HY02 | C33: 210040201.10 | D33: KONZOLA 1200 NA ST. - KKK | E33: KUS | F33: 6 | H33: =F33*G33 -> 0 | I33: DODAVKA SSD
A34: =A33+1 -> 21 | B34: BX41 | C34: 210070512 | D34: PRUZNA SPOJKA PS 50/10 PRE AL PAS | E34: KUS | F34: 9 | H34: =F34*G34 -> 0 | I34: DODAVKA SSD
A35: =A34+1 -> 22 | B35: BT62 | C35: 210100103 | D35: SVORKA PPN - FARGO DO 120MM2 | E35: KUS | F35: 9 | H35: =F35*G35 -> 0 | I35: DODAVKA SSD
A36: =A35+1 -> 23 | B36: CI20 | C36: 210100105 | D36: UKONC.A ZAPOJ.VODICA 120MM2 VCITANE OKA | E36: KUS | F36: 9 | H36: =F36*G36 -> 0 | I36: DODAVKA SSD
A37: =A36+1 -> 24 | B37: CK70 | C37: 210100821.8 | D37: KONCOVKA STUDENA 150-240 MM2 VONKAJSIA | E37: SADA | F37: 3 | H37: =F37*G37 -> 0 | I37: DODAVKA SSD
A38: =A37+1 -> 25 | B38: CL82 | C38: 210102021.2 | D38: SPOJKA KAB.SXSU 5131 185-240MM2 AXEKCY | E38: KUS | F38: 6 | H38: =F38*G38 -> 0 | I38: DODAVKA SSD
A39: =A38+1 -> 26 | B39: CM08 | C39: 210102142 | D39: PRIPLATOK K MONT.KONC.22-35KV Z PLOSINY | E39: KUS | F39: 3 | H39: =F39*G39 -> 0 | I39: DODAVKA SSD
A40: =A39+1 -> 27 | B40: CU46 | C40: 210120322.1 | D40: MONT.OBMED.PREPAT.VN HDA-24N-NFQ NA SIET | E40: KUS | F40: 9 | H40: =F40*G40 -> 0 | I40: DODAVKA SSD
... A47: =A46+1 -> 34 | B47: CK18 | C47: 210P100811.1 | D47: KONCOVKA VNUTORNA DO 1X240 MM2 AXEKCY | E47: KUS | F47: 5 | H47: =F47*G47 -> 0 | I47: DODAVKA SSD
A48: =A47+1 -> 35 | C48: 116 | D48: Ostatné náklady | H48: =SUM(H49:H52) -> 0
A49: =A48+1 -> 36 | B49: XU70 | C49: 0G0548 | D49: PREVZATIE VYPNUTEHO EL.ZARIADENIA | E49: PRIP | F49: 2 | H49: =F49*G49 -> 0 | I49: DODAVKA SSD
A50: =A49+1 -> 37 | B50: XU74 | C50: 0G0552 | D50: VYKON STAVBYVEDUCEHO | E50: PRIP | F50: 5 | H50: =F50*G50 -> 0 | I50: DODAVKA SSD
A51: =A50+1 -> 38 | B51: XU75 | C51: 0G0553 | D51: VYPRACOVANIE REV.SPRAVY | E51: PRIP | F51: 1 | H51: =F51*G51 -> 0 | I51: DODAVKA SSD
A52: =A51+1 -> 39 | B52: XU76 | C52: 0G0554 | D52: KENETRONOVE SKUSKY | E52: PRIP | F52: 2 | H52: =F52*G52 -> 0 | I52: DODAVKA SSD
A53: =A52+1 -> 40 | C53: 117 | D53: Doprava | H53: =SUM(H54) -> 0 | I53: DODAVKA SSD
A54: =A53+1 -> 41 | B54: XE22 | C54: VPC-SSE.4 | D54: NAKLADY ZA DOPRAVU | E54: EUR | F54: 1 | H54: =F54*G54 -> 0 | I54: DODAVKA SSD
B55: 21-Mat | D55: Materiál | H55: =SUM(H56:H103) -> 0
A56: =A54+1 -> 42 | B56: 25758 | D56: KABEL NA2XS(F)2Y 1x240/25 MM2 12,7/22kV | E56: m | F56: 1259.9999 | H56: =F56*G56 -> 0 | I56: DODAVKA SSD
A57: =A56+1 -> 43 | B57: 8894 | D57: ZVODIC PREPATIA TIEN. 22 KV | E57: SUP | F57: 5 | H57: =F57*G57 -> 0 | I57: DODAVKA SSD
A58: =A57+1 -> 44 | B58: 8919 | D58: ZVODIC PREPATIA VN NA VODIC+GH201DP | E58: ks | F58: 9 | H58: =F58*G58 -> 0 | I58: DODAVKA SSD
A59: =A58+1 -> 45 | D59: KONCOVKA VNUTORNA POLT-24E/1XI-ML-5-13 | E59: SUP | F59: 5 | H59: =F59*G59 -> 0 | I59: DODAVKA SSD
A60: =A59+1 -> 46 | B60: 8252 | D60: SVORKA FARGO - GA - 105 | E60: ks | F60: 9 | H60: =F60*G60 -> 0 | I60: DODAVKA SSD
A61: =A60+1 -> 47 | B61: 8925 | D61: SPOJKA PRUZNA AL PASU 50/10 | E61: ks | F61: 9 | H61: =F61*G61 -> 0 | I61: DODAVKA SSD
A62: =A61+1 -> 48 | B62: 3870 | D62: RURA HDPE KORUGOVANA 160MM/6M | E62: ks | F62: 33.2 | H62: =F62*G62 -> 0 | I62: DODAVKA SSD
A63: =A62+1 -> 49 | B63: 746 | D63: DOSKA LAMINATOVA KRYCIA - CERVENA | E63: m | F63: 199.5 | H63: =F63*G63 -> 0 | I63: DODAVKA SSD
A64: =A63+1 -> 50 | B64: 27982 | D64: KONCOVKA STUDENA 150-240 MM2 VONKAJSIA | E64: SUP | F64: 3 | H64: =F64*G64 -> 0 | I64: DODAVKA SSD
A65: =A64+1 -> 51 | B65: 8472 | D65: SPOJKA VN ZA TEPLA 120-240 MM2 | E65: ks | F65: 6 | H65: =F65*G65 -> 0 | I65: DODAVKA SSD
A66: =A65+1 -> 52 | B66: 9044 | D66: PRICHYTKA /3 KABLE PRIEMER KABLA 38-51MM | E66: ks | F66: 24 | H66: =F66*G66 -> 0 | I66: DODAVKA SSD
A67: =A66+1 -> 53 | B67: 7588 | D67: KONZOLA 1200 MM | E67: ks | F67: 6 | H67: =F67*G67 -> 0 | I67: DODAVKA SSD
A68: =A67+1 -> 54 | B68: 22419 | D68: OCEL TVAROVA U 50 PZ | E68: ks | F68: 79.68 | H68: =F68*G68 -> 0 | I68: DODAVKA SSD
A69: =A68+1 -> 55 | B69: 9128 | D69: POKLOP KABELOVY BETONOVY 50X230X500mm | E69: ks | F69: 82 | H69: =F69*G69 -> 0 | I69: DODAVKA SSD
A70: =A69+1 -> 56 | B70: 561 | D70: OKO KABLOVE SKRUTKOVE do 36kV 95-240 M12 | E70: ks | F70: 15 | H70: =F70*G70 -> 0 | I70: DODAVKA SSD
A71: =A70+1 -> 57 | B71: 22714 | D71: VODIC IZOLOVANY 120 mm2 22 kV | E71: m | F71: 47.249998 | H71: =F71*G71 -> 0 | I71: DODAVKA SSD
... A101: =A100+1 -> 87 | B101: 13815 | D101: PASKA VIAZACIA NA KABEL 2,5x160MM CIERNA | E101: ks | F101: 10 | H101: =F101*G101 -> 0 | I101: DODAVKA SSD
A102: =A101+1 -> 88 | B102: 21-M | D102: Podružný materiál | E102: % | G102: =SUM(H56:H101) -> 0 | H102: =(F102*G102)/100 -> 0 | I102: DODAVKA SSD
A103: =A102+1 -> 89 | B103: 21-ZR | D103: Zásobovacia réžia | E103: % | G103: =SUM(H56:H102) -> 0 | H103: =(F103*G103)/100 -> 0 | I103: DODAVKA SSD
B104: 21-PMC | D104: Mimoceníkové položky | H104: =SUM(H105:H106) -> 0 | I104: DODAVKA SSD
A105: =A103+1 -> 90 | B105: MCP-1 | D105: Vypracovanie dielenskej dokumentácie OK | E105: hod | F105: 8 | H105: =G105*F105 -> 0 | I105: DODAVKA SSD
A106: =A105+1 -> 91 | B106: MCP-3 | D106: Montážné mechanizmy | E106: hod | F106: 8 | H106: =G106*F106 -> 0 | I106: DODAVKA SSD
D107: Základné rozpočtové náklady: | H107: =H12 -> 0 | I107: DODAVKA SSD
B108: 21-HZS | D108: Hodinové zúčtovacie sadzby | H108: =SUM(H109:H112) -> 0 | I108: DODAVKA SSD
A109: =A106+1 -> 92 | B109: HZS-1 | D109: Individuálne skúšky | E109: hod | F109: 24 | H109: =G109*F109 -> 0 | I109: DODAVKA SSD
A110: =A109+1 -> 93 | B110: HZS-2 | D110: Predkoplexné skúšky | E110: hod | F110: 12 | H110: =G110*F110 -> 0 | I110: DODAVKA SSD
A111: =A110+1 -> 94 | B111: HZS-3 | D111: Komplexné skúšky | E111: hod | F111: 6 | H111: =G111*F111 -> 0 | I111: DODAVKA SSD
A112: =A111+1 -> 95 | B112: HZS-4 | D112: Odborné prehliadky a odborné skúšky + revízne správy | E112: hod | F112: 8 | H112: =G112*F112 -> 0 | I112: DODAVKA SSD
D113: Hodinové zúčtovacie sadzby: | H113: =H108 -> 0 | I113: DODAVKA SSD
B114: 21-VRN | D114: Vedľajšie rozpočtové náklady | H114: =SUM(H115) -> 0 | I114: DODAVKA SSD
A115: =A112+1 -> 96 | B115: VRN-1 | D115: Ostatné (doprava, okolité vplyvy, drobné montážne práce, pridružené výkony, podružný materiál, zásobovacia réžia a iné) | E115: % | H115: =G115*F115/100 -> 0 | I115: DODAVKA SSD
D116: Vedľajšie rozpočtové náklady: | H116: =H114 -> 0
D118: Cena celkom v €, bez DPH | H118: =H107+H113+H116 -> 0

Sheet SO31
L2: >> skryté stĺpce << | AT2: {3d040ad9-634c-46a2-9f11-f0f6ebf4a03e}
AT3: 0
D4: KRYCÍ LIST ROZPOČTU | M4: v --- nižšie sa nachádzajú doplnkové a pomocné údaje k zostavám --- v | AT4: False
D6: Stavba:
E7: =_xlfn.CONCAT(Obsah!N1," ",Obsah!N2) -> 15709 - Nižná / Tr 110/22kV - komplexná rekonštrukcia
D8: Objekt:
E9: SO31 - Rozvodňa 110 kV
D11: JKSO: | I11: ČS:
D12: Miesto: | F12: Nižná | I12: Dátum: | J12: =Obsah!Z3 -> 46174
D14: Objednávateľ: | I14: IČO:
E15: STREDOSLOVENSKÁ DISTRIBUčNÁ a.s. | I15: IČ DPH:
D17: Zhotoviteľ: | I17: IČO:
E18: určený výberom | I18: IČ DPH:
D20: Projektant: | I20: IČO:
E21: LiV-EPI, s.r.o. | I21: IČ DPH:
D23: Spracovateľ: | I23: IČO:
E24: Ing Peter Lukačovič | I24: IČ DPH:
D26: Poznámka:
D30: Cena bez DPH | J30: =ROUND(J96,2) -> 0
F32: Základ dane | I32: Sadzba dane | J32: Výška dane
D33: DPH | E33: základná | F33: =ROUND((SUM(BE125:BE155)), 2) -> 0 | I33: 0.23 | J33: =ROUND(((SUM(BE125:BE155))*I33), 2) -> 0
E34: znížená | F34: =J30 -> 0 | I34: 0.23 | J34: =ROUND((F34*I34), 2) -> 0
E35: zákl. prenesená | F35: =ROUND((SUM(BG125:BG155)), 2) -> 0 | I35: 0.23 | J35: =0 -> 0
E36: zníž. prenesená | F36: =ROUND((SUM(BH125:BH155)), 2) -> 0 | I36: 0.23 | J36: =0 -> 0
E37: nulová | F37: =ROUND((SUM(BI125:BI155)), 2) -> 0 | I37: 0 | J37: =0 -> 0
D39: Cena s DPH | G39: v | H39: EUR | J39: =SUM(J30:J37) -> 0
D50: Projektant | G50: Spracovateľ
D61: Dátum a podpis: | F61: Pečiatka | G61: Dátum a podpis: | J61: Pečiatka
D65: Objednávateľ | G65: Zhotoviteľ
D76: Dátum a podpis: | F76: Pečiatka | G76: Dátum a podpis: | J76: Pečiatka
C82: REKAPITULÁCIA ROZPOČTU
C84: Stavba:
E85: =E7 -> 15709 - Nižná / Tr 110/22kV - komplexná rekonštrukcia
C86: Objekt:
E87: =E9 -> SO31 - Rozvodňa 110 kV
C89: Miesto: | F89: =F12 -> Nižná | I89: Dátum: | J89: =IF(J12="","",J12) -> 46174
C91: Objednávateľ: | F91: =E15 -> STREDOSLOVENSKÁ DISTRIBUčNÁ a.s. | I91: Projektant: | J91: =E21 -> LiV-EPI, s.r.o.
C92: Zhotoviteľ: | F92: =IF(E18="","",E18) -> určený výberom | I92: Spracovateľ: | J92: =E24 -> Ing Peter Lukačovič
C94: Kód dielu - Popis | J94: Cena celkom [EUR]
C96: Náklady z rozpočtu | J96: =J97+J104 -> 0 | AU96: -1
D97: HSV - Práce a dodávky HSV | J97: =J126 -> 0
D98: 1 - Zemné práce | J98: =J127 -> 0
D99: 2 - Zakladanie | J99: =J129 -> 0
D100: 3 - Zvislé a kompletné konštrukcie | J100: =J141 -> 0
D101: 6 - Úpravy povrchov, podlahy, osadenie | J101: =J143 -> 0
D102: 9 - Ostatné konštrukcie a práce-búranie | J102: =J148 -> 0
D103: 99 - Presun hmôt HSV | J103: =J154 -> 0
D104: VRN - Vedľajšie rozpočtové náklady | J104: =J156 -> 0
D105: =_xlfn.CONCAT(" ",F157) -> Ostatné (doprava, vplyvy, pridružené výkony, réžia, drobné montážne práce a materiál...) | J105: =J157 -> 0
C112: ROZPOČET
C114: Stavba:
E115: =E7 -> 15709 - Nižná / Tr 110/22kV - komplexná rekonštrukcia
C116: Objekt:
E117: =E9 -> SO31 - Rozvodňa 110 kV
C119: Miesto: | F119: =F12 -> Nižná | I119: Dátum: | J119: =IF(J12="","",J12) -> 46174
C121: Objednávateľ: | F121: =E15 -> STREDOSLOVENSKÁ DISTRIBUčNÁ a.s. | I121: Projektant: | J121: =E21 -> LiV-EPI, s.r.o.
C122: Zhotoviteľ: | F122: =IF(E18="","",E18) -> určený výberom | I122: Spracovateľ: | J122: =E24 -> Ing Peter Lukačovič
C124: PČ | D124: Typ | E124: Kód | F124: Popis | G124: MJ | H124: Množstvo | I124: J.cena [EUR] | J124: Cena celkom [EUR] | K124: Cenová sústava | N124: DPH | O124: J. Nh [h] | P124: Nh celkom [h] | Q124: J. hmotnosť [t] | R124: Hmotnosť celkom [t] | S124: J. suť [t] | T124: Suť Celkom [t]
C125: Náklady z rozpočtu | J125: =J126+J156 -> 0 | P125: =P126 -> 3802.6566 | R125: =R126 -> 716.6135 | T125: =T126 -> 0 | AT125: D | AU125: -1 | BK125: =BK126 -> 0
D126: D | E126: HSV | F126: Práce a dodávky HSV | J126: =BK126 -> 0 | P126: =P127+P129+P141+P143+P148+P154 -> 3802.6566 | R126: =R127+R129+R141+R143+R148+R154 -> 716.6135 | T126: =T127+T129+T141+T143+T148+T154 -> 0 | AR126: 1 | AT126: D | AU126: 0 | AY126: ROZPOCET | BK126: =BK127+BK129+BK141+BK143+BK148+BK154 -> 0
D127: D | E127: 1 | F127: Zemné práce | J127: =BK127 -> 0 | P127: =P128 -> 0 | R127: =R128 -> 0 | T127: =T128 -> 0 | AR127: 1 | AT127: D | AU127: 1 | AY127: ROZPOCET | BK127: =BK128 -> 0
C128: 1 | D128: K | E128: 11110110 | F128: Výkaz výmer má informatívny charakter. Uchádzač vyhlasuje, že vykonal kontrolu podkladov v Zadaní tohto výberového konania, prepočítal si všetky množstvá a tieto ocenil v celom rozsahu. | H128: 0 | I128: 0 | J128: =ROUND(I128*H128,2) -> 0 | N128: znížená | O128: 0.01 | P128: =O128*H128 -> 0 | Q128: 0 | R128: =Q128*H128 -> 0 | S128: 0 | T128: =S128*H128 -> 0 | AR128: 4 | AT128: K | AU128: 2 | AY128: ROZPOCET | BE128: =IF(N128="základná",J128,0) -> 0 | BF128: =IF(N128="znížená",J128,0) -> 0 | BG128: =IF(N128="zákl. prenesená",J128,0) -> 0 | BH128: =IF(N128="zníž. prenesená",J128,0) -> 0 | BI128: =IF(N128="nulová",J128,0) -> 0 | BJ128: 2 | BK128: =ROUND(I128*H128,2) -> 0 | BL128: 4 | BM128: -50795009
D129: D | E129: 2 | F129: Zakladanie | J129: =BK129 -> 0 | P129: =SUM(P130:P140) -> 1414.2275 | R129: =SUM(R130:R140) -> 661.36885 | T129: =SUM(T130:T140) -> 0 | AR129: 1 | AT129: D | AU129: 1 | AY129: ROZPOCET | BK129: =SUM(BK130:BK140) -> 0
C130: 2 | D130: K | E130: 271533011.S | F130: Násyp pod základové konštrukcie so zhutnením na Edef2= 65MPa z kameniva hrubého drveného fr. 4 - 8 mm | G130: m3 | H130: 33.75 | J130: =ROUND(I130*H130,2) -> 0 | N130: znížená | O130: 1.1318 | P130: =O130*H130 -> 38.19825 | Q130: 2.07 | R130: =Q130*H130 -> 69.8625 | S130: 0 | T130: =S130*H130 -> 0 | AR130: 4 | AT130: K | AU130: 2 | AY130: ROZPOCET | BE130: =IF(N130="základná",J130,0) -> 0 | BF130: =IF(N130="znížená",J130,0) -> 0 | BG130: =IF(N130="zákl. prenesená",J130,0) -> 0 | BH130: =IF(N130="zníž. prenesená",J130,0) -> 0 | BI130: =IF(N130="nulová",J130,0) -> 0 | BJ130: 2 | BK130: =ROUND(I130*H130,2) -> 0 | BL130: 4 | BM130: -574208156
C131: 3 | D131: K | E131: 271533041.S | F131: Násyp pod základové konštrukcie so zhutnením na Edef2=65MPa z kameniva hrubého drveného fr. 16 - 32 mm | G131: m3 | H131: 33.75 | J131: =ROUND(I131*H131,2) -> 0 | N131: znížená | O131: 1.1318 | P131: =O131*H131 -> 38.19825 | Q131: 2.07 | R131: =Q131*H131 -> 69.8625 | S131: 0 | T131: =S131*H131 -> 0 | AR131: 4 | AT131: K | AU131: 2 | AY131: ROZPOCET | BE131: =IF(N131="základná",J131,0) -> 0 | BF131: =IF(N131="znížená",J131,0) -> 0 | BG131: =IF(N131="zákl. prenesená",J131,0) -> 0 | BH131: =IF(N131="zníž. prenesená",J131,0) -> 0 | BI131: =IF(N131="nulová",J131,0) -> 0 | BJ131: 2 | BK131: =ROUND(I131*H131,2) -> 0 | BL131: 4 | BM131: 888996673
C132: 4 | D132: K | E132: 273313611.S | F132: Betón základových dosiek, prostý tr. C 16/20, X0(SK)-Dmax16-S3 | G132: m3 | H132: 22.79 | J132: =ROUND(I132*H132,2) -> 0 | N132: znížená | O132: 0.61771 | P132: =O132*H132 -> 14.077611 | Q132: 2.2375227 | R132: =Q132*H132 -> 50.993142 | S132: 0 | T132: =S132*H132 -> 0 | AR132: 4 | AT132: K | AU132: 2 | AY132: ROZPOCET | BE132: =IF(N132="základná",J132,0) -> 0 | BF132: =IF(N132="znížená",J132,0) -> 0 | BG132: =IF(N132="zákl. prenesená",J132,0) -> 0 | BH132: =IF(N132="zníž. prenesená",J132,0) -> 0 | BI132: =IF(N132="nulová",J132,0) -> 0 | BJ132: 2 | BK132: =ROUND(I132*H132,2) -> 0 | BL132: 4 | BM132: -1801711112
C133: 5 | D133: K | E133: 273351217.S | F133: Debnenie stien základových dosiek, zhotovenie-tradičné | G133: m2 | H133: 31.612 | J133: =ROUND(I133*H133,2) -> 0 | N133: znížená | O133: 0.788 | P133: =O133*H133 -> 24.910256 | Q133: 0.0097095 | R133: =Q133*H133 -> 0.30693671 | S133: 0 | T133: =S133*H133 -> 0 | AR133: 4 | AT133: K | AU133: 2 | AY133: ROZPOCET | BE133: =IF(N133="základná",J133,0) -> 0 | BF133: =IF(N133="znížená",J133,0) -> 0 | BG133: =IF(N133="zákl. prenesená",J133,0) -> 0 | BH133: =IF(N133="zníž. prenesená",J133,0) -> 0 | BI133: =IF(N133="nulová",J133,0) -> 0 | BJ133: 2 | BK133: =ROUND(I133*H133,2) -> 0 | BL133: 4 | BM133: 1582719802
C134: 6 | D134: K | E134: 273351218.S | F134: Debnenie stien základových dosiek, odstránenie-tradičné | G134: m2 | H134: 31.612 | J134: =ROUND(I134*H134,2) -> 0 | N134: znížená | O134: 0.322 | P134: =O134*H134 -> 10.179064 | Q134: 0 | R134: =Q134*H134 -> 0 | S134: 0 | T134: =S134*H134 -> 0 | AR134: 4 | AT134: K | AU134: 2 | AY134: ROZPOCET | BE134: =IF(N134="základná",J134,0) -> 0 | BF134: =IF(N134="znížená",J134,0) -> 0 | BG134: =IF(N134="zákl. prenesená",J134,0) -> 0 | BH134: =IF(N134="zníž. prenesená",J134,0) -> 0 | BI134: =IF(N134="nulová",J134,0) -> 0 | BJ134: 2 | BK134: =ROUND(I134*H134,2) -> 0 | BL134: 4 | BM134: 1241617877
C135: 7 | D135: K | E135: 273362402.S | F135: Výstuž základových dosiek zo zvár. sietí KARI, priemer drôtu 4/4 mm, veľkosť oka 150x150 mm | G135: m2 | H135: 250.69 | J135: =ROUND(I135*H135,2) -> 0 | N135: znížená | O135: 0.04092 | P135: =O135*H135 -> 10.258235 | Q135: 0.00157561 | R135: =Q135*H135 -> 0.39498967 | S135: 0 | T135: =S135*H135 -> 0 | AR135: 4 | AT135: K | AU135: 2 | AY135: ROZPOCET | BE135: =IF(N135="základná",J135,0) -> 0 | BF135: =IF(N135="znížená",J135,0) -> 0 | BG135: =IF(N135="zákl. prenesená",J135,0) -> 0 | BH135: =IF(N135="zníž. prenesená",J135,0) -> 0 | BI135: =IF(N135="nulová",J135,0) -> 0 | BJ135: 2 | BK135: =ROUND(I135*H135,2) -> 0 | BL135: 4 | BM135: 1277825563
C136: 8 | D136: K | E136: 275321511.S | F136: Betón základových pätiek, železový (bez výstuže), tr. C 30/37, XC4, XA1, Cl0,4. Dmax16-S3 | G136: m3 | H136: 189.932 | J136: =ROUND(I136*H136,2) -> 0 | N136: znížená | O136: 0.604 | P136: =O136*H136 -> 114.71893 | Q136: 2.36833 | R136: =Q136*H136 -> 449.82165 | S136: 0 | T136: =S136*H136 -> 0 | AR136: 4 | AT136: K | AU136: 2 | AY136: ROZPOCET | BE136: =IF(N136="základná",J136,0) -> 0 | BF136: =IF(N136="znížená",J136,0) -> 0 | BG136: =IF(N136="zákl. prenesená",J136,0) -> 0 | BH136: =IF(N136="zníž. prenesená",J136,0) -> 0 | BI136: =IF(N136="nulová",J136,0) -> 0 | BJ136: 2 | BK136: =ROUND(I136*H136,2) -> 0 | BL136: 4 | BM136: -617188572
C137: 9 | D137: M | E137: 478512 | F137: Sika WT-200 P (kryštalická a tesniaca prísada) | G137: kg | H137: 664.762 | J137: =ROUND(I137*H137,2) -> 0 | N137: znížená | O137: 0 | P137: =O137*H137 -> 0 | Q137: 0.001 | R137: =Q137*H137 -> 0.664762 | S137: 0 | T137: =S137*H137 -> 0 | AR137: 8 | AT137: M | AU137: 2 | AY137: ROZPOCET | BE137: =IF(N137="základná",J137,0) -> 0 | BF137: =IF(N137="znížená",J137,0) -> 0 | BG137: =IF(N137="zákl. prenesená",J137,0) -> 0 | BH137: =IF(N137="zníž. prenesená",J137,0) -> 0 | BI137: =IF(N137="nulová",J137,0) -> 0 | BJ137: 2 | BK137: =ROUND(I137*H137,2) -> 0 | BL137: 4 | BM137: -537996540
C138: 10 | D138: K | E138: 275351217.S | F138: Debnenie stien základových pätiek, zhotovenie-tradičné | G138: m2 | H138: 426.416 | J138: =ROUND(I138*H138,2) -> 0 | N138: znížená | O138: 1.052 | P138: =O138*H138 -> 448.58963 | Q138: 0.0097095 | R138: =Q138*H138 -> 4.1402862 | S138: 0 | T138: =S138*H138 -> 0 | AR138: 4 | AT138: K | AU138: 2 | AY138: ROZPOCET | BE138: =IF(N138="základná",J138,0) -> 0 | BF138: =IF(N138="znížená",J138,0) -> 0 | BG138: =IF(N138="zákl. prenesená",J138,0) -> 0 | BH138: =IF(N138="zníž. prenesená",J138,0) -> 0 | BI138: =IF(N138="nulová",J138,0) -> 0 | BJ138: 2 | BK138: =ROUND(I138*H138,2) -> 0 | BL138: 4 | BM138: -838068371
C139: 11 | D139: K | E139: 275351218.S | F139: Debnenie stien základových pätiek, odstránenie-tradičné | G139: m2 | H139: 426.416 | J139: =ROUND(I139*H139,2) -> 0 | N139: znížená | O139: 0.43 | P139: =O139*H139 -> 183.35888 | Q139: 0 | R139: =Q139*H139 -> 0 | S139: 0 | T139: =S139*H139 -> 0 | AR139: 4 | AT139: K | AU139: 2 | AY139: ROZPOCET | BE139: =IF(N139="základná",J139,0) -> 0 | BF139: =IF(N139="znížená",J139,0) -> 0 | BG139: =IF(N139="zákl. prenesená",J139,0) -> 0 | BH139: =IF(N139="zníž. prenesená",J139,0) -> 0 | BI139: =IF(N139="nulová",J139,0) -> 0 | BJ139: 2 | BK139: =ROUND(I139*H139,2) -> 0 | BL139: 4 | BM139: 1994562816
C140: 12 | D140: K | E140: 275361821.S | F140: Výstuž základových pätiek z ocele B500 (10505) | G140: t | H140: 15.037 | J140: =ROUND(I140*H140,2) -> 0 | N140: znížená | O140: 35.362 | P140: =O140*H140 -> 531.73839 | Q140: 1.0189585 | R140: =Q140*H140 -> 15.322079 | S140: 0 | T140: =S140*H140 -> 0 | AR140: 4 | AT140: K | AU140: 2 | AY140: ROZPOCET | BE140: =IF(N140="základná",J140,0) -> 0 | BF140: =IF(N140="znížená",J140,0) -> 0 | BG140: =IF(N140="zákl. prenesená",J140,0) -> 0 | BH140: =IF(N140="zníž. prenesená",J140,0) -> 0 | BI140: =IF(N140="nulová",J140,0) -> 0 | BJ140: 2 | BK140: =ROUND(I140*H140,2) -> 0 | BL140: 4 | BM140: -79867150
D141: D | E141: 3 | F141: Zvislé a kompletné konštrukcie | J141: =BK141 -> 0 | P141: =P142 -> 19.543424 | R141: =R142 -> 0.269376 | T141: =T142 -> 0 | AR141: 1 | AT141: D | AU141: 1 | AY141: ROZPOCET | BK141: =BK142 -> 0
C142: 13 | D142: K | E142: 334353762.S1 | F142: Debnenie konštrukcií- príplatok k debneniu , za lišty do debnenia 50/50 mm, resp 25/25mm | G142: m | H142: 195.2 | J142: =ROUND(I142*H142,2) -> 0 | N142: znížená | O142: 0.10012 | P142: =O142*H142 -> 19.543424 | Q142: 0.00138 | R142: =Q142*H142 -> 0.269376 | S142: 0 | T142: =S142*H142 -> 0 | AR142: 4 | AT142: K | AU142: 2 | AY142: ROZPOCET | BE142: =IF(N142="základná",J142,0) -> 0 | BF142: =IF(N142="znížená",J142,0) -> 0 | BG142: =IF(N142="zákl. prenesená",J142,0) -> 0 | BH142: =IF(N142="zníž. prenesená",J142,0) -> 0 | BI142: =IF(N142="nulová",J142,0) -> 0 | BJ142: 2 | BK142: =ROUND(I142*H142,2) -> 0 | BL142: 4 | BM142: 1797327475
D143: D | E143: 6 | F143: Úpravy povrchov, podlahy, osadenie | J143: =BK143 -> 0 | P143: =SUM(P144:P147) -> 550.39274 | R143: =SUM(R144:R147) -> 0.9522796 | T143: =SUM(T144:T147) -> 0 | AR143: 1 | AT143: D | AU143: 1 | AY143: ROZPOCET | BK143: =SUM(BK144:BK147) -> 0
C144: 14 | D144: K | E144: 6226613351 | F144: Zjednocujúci náter betónových konštrukcií dvojnásobný Sikagard 704S, alebo ekvivalentný | G144: m2 | H144: 192.18 | J144: =ROUND(I144*H144,2) -> 0 | N144: znížená | O144: 2.128 | P144: =O144*H144 -> 408.95904 | Q144: 0.00022 | R144: =Q144*H144 -> 0.0422796 | S144: 0 | T144: =S144*H144 -> 0 | AR144: 4 | AT144: K | AU144: 2 | AY144: ROZPOCET | BE144: =IF(N144="základná",J144,0) -> 0 | BF144: =IF(N144="znížená",J144,0) -> 0 | BG144: =IF(N144="zákl. prenesená",J144,0) -> 0 | BH144: =IF(N144="zníž. prenesená",J144,0) -> 0 | BI144: =IF(N144="nulová",J144,0) -> 0 | BJ144: 2 | BK144: =ROUND(I144*H144,2) -> 0 | BL144: 4 | BM144: 1371858297
C145: 15 | D145: K | E145: 631319151 | F145: Príplatok za prehlad. povrchu betónovej mazaniny | G145: m2 | H145: 42.58 | J145: =ROUND(I145*H145,2) -> 0 | N145: znížená | O145: 2.783 | P145: =O145*H145 -> 118.50014 | Q145: 0 | R145: =Q145*H145 -> 0 | S145: 0 | T145: =S145*H145 -> 0 | AR145: 4 | AT145: K | AU145: 2 | AY145: ROZPOCET | BE145: =IF(N145="základná",J145,0) -> 0 | BF145: =IF(N145="znížená",J145,0) -> 0 | BG145: =IF(N145="zákl. prenesená",J145,0) -> 0 | BH145: =IF(N145="zníž. prenesená",J145,0) -> 0 | BI145: =IF(N145="nulová",J145,0) -> 0 | BJ145: 2 | BK145: =ROUND(I145*H145,2) -> 0 | BL145: 4 | BM145: -1243123923
C146: 21 | D146: K | E146: 632451601.S | F146: Ochranný antikorózny náter na báze cementu na výstuž hr. 1 mm | G146: m2 | H146: 52 | J146: =ROUND(I146*H146,2) -> 0 | N146: znížená | O146: 0.25003 | P146: =O146*H146 -> 13.00156 | Q146: 0.0005 | R146: =Q146*H146 -> 0.026 | S146: 0 | T146: =S146*H146 -> 0 | AR146: 4 | AT146: K | AU146: 2 | AY146: ROZPOCET | BE146: =IF(N146="základná",J146,0) -> 0 | BF146: =IF(N146="znížená",J146,0) -> 0 | BG146: =IF(N146="zákl. prenesená",J146,0) -> 0 | BH146: =IF(N146="zníž. prenesená",J146,0) -> 0 | BI146: =IF(N146="nulová",J146,0) -> 0 | BJ146: 2 | BK146: =ROUND(I146*H146,2) -> 0 | BL146: 4 | BM146: 2011090673
C147: 20 | D147: K | E147: 632451622.S | F147: Sanácia betónovej konštrukcie opravnou (reprofilačnou) maltou na betón a murivo hr. 10 mm | G147: m2 | H147: 52 | J147: =ROUND(I147*H147,2) -> 0 | N147: znížená | O147: 0.191 | P147: =O147*H147 -> 9.932 | Q147: 0.017 | R147: =Q147*H147 -> 0.884 | S147: 0 | T147: =S147*H147 -> 0 | AR147: 4 | AT147: K | AU147: 2 | AY147: ROZPOCET | BE147: =IF(N147="základná",J147,0) -> 0 | BF147: =IF(N147="znížená",J147,0) -> 0 | BG147: =IF(N147="zákl. prenesená",J147,0) -> 0 | BH147: =IF(N147="zníž. prenesená",J147,0) -> 0 | BI147: =IF(N147="nulová",J147,0) -> 0 | BJ147: 2 | BK147: =ROUND(I147*H147,2) -> 0 | BL147: 4 | BM147: -1802048448
D148: D | E148: 9 | F148: Ostatné konštrukcie a práce-búranie | J148: =BK148 -> 0 | P148: =SUM(P149:P153) -> 63.32712 | R148: =SUM(R149:R153) -> 54.023 | T148: =SUM(T149:T153) -> 0 | AR148: 1 | AT148: D | AU148: 1 | AY148: ROZPOCET | BK148: =SUM(BK149:BK153) -> 0
C149: 19 | D149: K | E149: 938902071.S | F149: Očistenie povrchu betónových konštrukcií tlakovou vodou | G149: m2 | H149: 52 | J149: =ROUND(I149*H149,2) -> 0 | N149: znížená | O149: 0.087 | P149: =O149*H149 -> 4.524 | Q149: 0 | R149: =Q149*H149 -> 0 | S149: 0 | T149: =S149*H149 -> 0 | AR149: 4 | AT149: K | AU149: 2 | AY149: ROZPOCET | BE149: =IF(N149="základná",J149,0) -> 0 | BF149: =IF(N149="znížená",J149,0) -> 0 | BG149: =IF(N149="zákl. prenesená",J149,0) -> 0 | BH149: =IF(N149="zníž. prenesená",J149,0) -> 0 | BI149: =IF(N149="nulová",J149,0) -> 0 | BJ149: 2 | BK149: =ROUND(I149*H149,2) -> 0 | BL149: 4 | BM149: -270569381
C150: 22 | D150: K | E150: 953943123.S | F150: Osadenie drobných kovových predmetov do betónu pred zabetónovaním, hmotnosti 5-15 kg/kus (bez dodávky) | G150: ks | H150: 4 | J150: =ROUND(I150*H150,2) -> 0 | N150: znížená | O150: 0.52503 | P150: =O150*H150 -> 2.10012 | Q150: 0.00025 | R150: =Q150*H150 -> 0.001 | S150: 0 | T150: =S150*H150 -> 0 | AR150: 4 | AT150: K | AU150: 2 | AY150: ROZPOCET | BE150: =IF(N150="základná",J150,0) -> 0 | BF150: =IF(N150="znížená",J150,0) -> 0 | BG150: =IF(N150="zákl. prenesená",J150,0) -> 0 | BH150: =IF(N150="zníž. prenesená",J150,0) -> 0 | BI150: =IF(N150="nulová",J150,0) -> 0 | BJ150: 2 | BK150: =ROUND(I150*H150,2) -> 0 | BL150: 4 | BM150: -663010280
C151: 23 | D151: M | E151: 133210003625.S | F151: Rámik ROXTEC GH6x3 GALV | G151: ks | H151: 4 | J151: =ROUND(I151*H151,2) -> 0 | N151: znížená | O151: 0 | P151: =O151*H151 -> 0 | Q151: 1 | R151: =Q151*H151 -> 4 | S151: 0 | T151: =S151*H151 -> 0 | AR151: 8 | AT151: M | AU151: 2 | AY151: ROZPOCET | BE151: =IF(N151="základná",J151,0) -> 0 | BF151: =IF(N151="znížená",J151,0) -> 0 | BG151: =IF(N151="zákl. prenesená",J151,0) -> 0 | BH151: =IF(N151="zníž. prenesená",J151,0) -> 0 | BI151: =IF(N151="nulová",J151,0) -> 0 | BJ151: 2 | BK151: =ROUND(I151*H151,2) -> 0 | BL151: 4 | BM151: -270727585
C152: 16 | D152: K | E152: 953943124.S | F152: Osadenie drobných kovových predmetov do betónu pred zabetónovaním, hmotnosti 15-50 kg/kus (bez dodávky) | G152: ks | H152: 50 | J152: =ROUND(I152*H152,2) -> 0 | N152: znížená | O152: 1.13406 | P152: =O152*H152 -> 56.703 | Q152: 0.00044 | R152: =Q152*H152 -> 0.022 | S152: 0 | T152: =S152*H152 -> 0 | AR152: 4 | AT152: K | AU152: 2 | AY152: ROZPOCET | BE152: =IF(N152="základná",J152,0) -> 0 | BF152: =IF(N152="znížená",J152,0) -> 0 | BG152: =IF(N152="zákl. prenesená",J152,0) -> 0 | BH152: =IF(N152="zníž. prenesená",J152,0) -> 0 | BI152: =IF(N152="nulová",J152,0) -> 0 | BJ152: 2 | BK152: =ROUND(I152*H152,2) -> 0 | BL152: 4 | BM152: -2094707957
C153: 17 | D153: M | E153: 133310002435.S | F153: Kotevný zvarenec, 4xzávitová tyč M24, zvarenie L50x4, platničky, matice | G153: ks | H153: 50 | J153: =ROUND(I153*H153,2) -> 0 | N153: znížená | O153: 0 | P153: =O153*H153 -> 0 | Q153: 1 | R153: =Q153*H153 -> 50 | S153: 0 | T153: =S153*H153 -> 0 | AR153: 8 | AT153: M | AU153: 2 | AY153: ROZPOCET | BE153: =IF(N153="základná",J153,0) -> 0 | BF153: =IF(N153="znížená",J153,0) -> 0 | BG153: =IF(N153="zákl. prenesená",J153,0) -> 0 | BH153: =IF(N153="zníž. prenesená",J153,0) -> 0 | BI153: =IF(N153="nulová",J153,0) -> 0 | BJ153: 2 | BK153: =ROUND(I153*H153,2) -> 0 | BL153: 4 | BM153: 384703570
D154: D | E154: 99 | F154: Presun hmôt HSV | J154: =BK154 -> 0 | P154: =P155 -> 1755.1658 | R154: =R155 -> 0 | T154: =T155 -> 0 | AR154: 1 | AT154: D | AU154: 1 | AY154: ROZPOCET | BK154: =BK155 -> 0
C155: 18 | D155: K | E155: 999281111.S | F155: Presun hmôt pre opravy a údržbu objektov vrátane vonkajších plášťov výšky do 25 m | G155: t | H155: 712.613 | J155: =ROUND(I155*H155,2) -> 0 | N155: znížená | O155: 2.463 | P155: =O155*H155 -> 1755.1658 | Q155: 0 | R155: =Q155*H155 -> 0 | S155: 0 | T155: =S155*H155 -> 0 | AR155: 4 | AT155: K | AU155: 2 | AY155: ROZPOCET | BE155: =IF(N155="základná",J155,0) -> 0 | BF155: =IF(N155="znížená",J155,0) -> 0 | BG155: =IF(N155="zákl. prenesená",J155,0) -> 0 | BH155: =IF(N155="zníž. prenesená",J155,0) -> 0 | BI155: =IF(N155="nulová",J155,0) -> 0 | BJ155: 2 | BK155: =ROUND(I155*H155,2) -> 0 | BL155: 4 | BM155: 1909012296
D156: D | E156: VRN | F156: Vedľajšie rozpočtové náklady | J156: =J157 -> 0 | P156: =#REF!+#REF! -> #REF! | R156: =#REF!+#REF! -> #REF! | T156: =#REF!+#REF! -> #REF! | AR156: 5 | AT156: D | AU156: 0 | AY156: ROZPOCET | BK156: =BK157 -> 0
C157: 24 | D157: K | E157: VRN-1 | F157: Ostatné (doprava, vplyvy, pridružené výkony, réžia, drobné montážne práce a materiál...) | G157: % | J157: =H157*I157/100 -> 0 | N157: znížená | O157: 0 | P157: =O157*H157 -> 0 | Q157: 0 | R157: =Q157*H157 -> 0 | S157: 0 | T157: =S157*H157 -> 0 | AR157: 1024 | AT157: K | AU157: 2 | AY157: ROZPOCET | BE157: =IF(N157="základná",J157,0) -> 0 | BF157: =IF(N157="znížená",J157,0) -> 0 | BG157: =IF(N157="zákl. prenesená",J157,0) -> 0 | BH157: =IF(N157="zníž. prenesená",J157,0) -> 0 | BI157: =IF(N157="nulová",J157,0) -> 0 | BJ157: 2 | BK157: =ROUND(I157*H157,2)/100 -> 0 | BL157: 1024 | BM157: -567973459

Sheet SO32
L2: >> skryté stĺpce << | AT2: {8a0ad8f9-d107-4ef1-9877-3699258ff9f0}
AT3: 0
D4: KRYCÍ LIST ROZPOČTU | M4: v --- nižšie sa nachádzajú doplnkové a pomocné údaje k zostavám --- v | AT4: False
D6: Stavba:
E7: =_xlfn.CONCAT(Obsah!N1," ",Obsah!N2) -> 15709 - Nižná / Tr 110/22kV - komplexná rekonštrukcia
D8: Objekt:
E9: SO32 - Stanovište transformátorov
D11: JKSO: | I11: ČS:
D12: Miesto: | F12: Nižná | I12: Dátum: | J12: =Obsah!Z3 -> 46174
D14: Objednávateľ: | I14: IČO:
E15: STREDOSLOVENSKÁ DISTRIBUčNÁ a.s. | I15: IČ DPH:
D17: Zhotoviteľ: | I17: IČO:
E18: určený výberom | I18: IČ DPH:
D20: Projektant: | I20: IČO:
E21: LiV-EPI, s.r.o. | I21: IČ DPH:
D23: Spracovateľ: | I23: IČO:
E24: Ing Peter Lukačovič | I24: IČ DPH:
D26: Poznámka:
D30: Cena bez DPH | J30: =ROUND(J96, 2) -> 0
F32: Základ dane | I32: Sadzba dane | J32: Výška dane
D33: DPH | E33: základná | F33: =ROUND((SUM(BE123:BE142)), 2) -> 0 | I33: 0.23 | J33: =ROUND(((SUM(BE123:BE142))*I33), 2) -> 0
E34: znížená | F34: =ROUND(J30, 2) -> 0 | I34: 0.23 | J34: =ROUND((F34*I34), 2) -> 0
E35: zákl. prenesená | F35: =ROUND((SUM(BG123:BG142)), 2) -> 0 | I35: 0.23 | J35: =0 -> 0
E36: zníž. prenesená | F36: =ROUND((SUM(BH123:BH142)), 2) -> 0 | I36: 0.23 | J36: =0 -> 0
E37: nulová | F37: =ROUND((SUM(BI123:BI142)), 2) -> 0 | I37: 0 | J37: =0 -> 0
D39: Cena s DPH | G39: v | H39: EUR | J39: =SUM(J30:J37) -> 0
D50: Projektant | G50: Spracovateľ
D61: Dátum a podpis: | F61: Pečiatka | G61: Dátum a podpis: | J61: Pečiatka
D65: Objednávateľ | G65: Zhotoviteľ
D76: Dátum a podpis: | F76: Pečiatka | G76: Dátum a podpis: | J76: Pečiatka
C82: REKAPITULÁCIA ROZPOČTU
C84: Stavba:
E85: =E7 -> 15709 - Nižná / Tr 110/22kV - komplexná rekonštrukcia
C86: Objekt:
E87: =E9 -> SO32 - Stanovište transformátorov
C89: Miesto: | F89: =F12 -> Nižná | I89: Dátum: | J89: =IF(J12="","",J12) -> 46174
C91: Objednávateľ: | F91: =E15 -> STREDOSLOVENSKÁ DISTRIBUčNÁ a.s. | I91: Projektant: | J91: =E21 -> LiV-EPI, s.r.o.
C92: Zhotoviteľ: | F92: =IF(E18="","",E18) -> určený výberom | I92: Spracovateľ: | J92: =E24 -> Ing Peter Lukačovič
C94: Kód dielu - Popis | J94: Cena celkom [EUR]
C96: Náklady z rozpočtu | J96: =J97+J102 -> 0 | AU96: -1
D97: HSV - Práce a dodávky HSV | J97: =J124 -> 0
D98: 1 - Zemné práce | J98: =J125 -> 0
D99: 2 - Zakladanie | J99: =J128 -> 0
D100: 3 - Zvislé a kompletné konštrukcie | J100: =J138 -> 0
D101: 99 - Presun hmôt HSV | J101: =J141 -> 0
D102: VRN - Vedľajšie rozpočtové náklady | J102: =J143 -> 0
D103: =_xlfn.CONCAT(" ",F144) -> Ostatné (doprava, vplyvy, pridružené výkony, réžia, drobné montážne práce a materiál...) | J103: =J144 -> 0
C110: ROZPOČET
C112: Stavba:
E113: =E7 -> 15709 - Nižná / Tr 110/22kV - komplexná rekonštrukcia
C114: Objekt:
E115: =E9 -> SO32 - Stanovište transformátorov
C117: Miesto: | F117: =F12 -> Nižná | I117: Dátum: | J117: =IF(J12="","",J12) -> 46174
C119: Objednávateľ: | F119: =E15 -> STREDOSLOVENSKÁ DISTRIBUčNÁ a.s. | I119: Projektant: | J119: =E21 -> LiV-EPI, s.r.o.
C120: Zhotoviteľ: | F120: =IF(E18="","",E18) -> určený výberom | I120: Spracovateľ: | J120: =E24 -> Ing Peter Lukačovič
C122: PČ | D122: Typ | E122: Kód | F122: Popis | G122: MJ | H122: Množstvo | I122: J.cena [EUR] | J122: Cena celkom [EUR] | K122: Cenová sústava | N122: DPH | O122: J. Nh [h] | P122: Nh celkom [h] | Q122: J. hmotnosť [t] | R122: Hmotnosť celkom [t] | S122: J. suť [t] | T122: Suť Celkom [t]
C123: Náklady z rozpočtu | J123: =BK123 -> 0 | P123: =P124 -> 1030.8031 | R123: =R124 -> 354.89139 | T123: =T124 -> 0 | AT123: D | AU123: -1 | BK123: =BK124 -> 0
D124: D | E124: HSV | F124: Práce a dodávky HSV | J124: =BK124 -> 0 | P124: =P125+P128+P138+P141 -> 1030.8031 | R124: =R125+R128+R138+R141 -> 354.89139 | T124: =T125+T128+T138+T141 -> 0 | AR124: 1 | AT124: D | AU124: 0 | AY124: ROZPOCET | BK124: =BK125+BK128+BK138+BK141 -> 0
D125: D | E125: 1 | F125: Zemné práce | J125: =BK125 -> 0 | P125: =SUM(P126:P127) -> 6.264755 | R125: =SUM(R126:R127) -> 0 | T125: =SUM(T126:T127) -> 0 | AR125: 1 | AT125: D | AU125: 1 | AY125: ROZPOCET | BK125: =SUM(BK126:BK127) -> 0
C126: 1 | D126: K | E126: 11110110 | F126: Výkaz výmer má informatívny charakter. Uchádzač vyhlasuje, že vykonal kontrolu podkladov v Zadaní tohto výberového konania, prepočítal si všetky množstvá a tieto ocenil v celom rozsahu. | H126: 0 | I126: 0 | J126: =ROUND(I126*H126,2) -> 0 | N126: znížená | O126: 0.01 | P126: =O126*H126 -> 0 | Q126: 0 | R126: =Q126*H126 -> 0 | S126: 0 | T126: =S126*H126 -> 0 | AR126: 4 | AT126: K | AU126: 2 | AY126: ROZPOCET | BE126: =IF(N126="základná",J126,0) -> 0 | BF126: =IF(N126="znížená",J126,0) -> 0 | BG126: =IF(N126="zákl. prenesená",J126,0) -> 0 | BH126: =IF(N126="zníž. prenesená",J126,0) -> 0 | BI126: =IF(N126="nulová",J126,0) -> 0 | BJ126: 2 | BK126: =ROUND(I126*H126,2) -> 0 | BL126: 4 | BM126: 591437161
C127: =C126+1 -> 2 | D127: K | E127: 181101102.S | F127: Úprava pláne v zárezoch v hornine 1-4 so zhutnením na Edef2=45MPa | G127: m2 | H127: 368.515 | J127: =ROUND(I127*H127,2) -> 0 | N127: znížená | O127: 0.017 | P127: =O127*H127 -> 6.264755 | Q127: 0 | R127: =Q127*H127 -> 0 | S127: 0 | T127: =S127*H127 -> 0 | AR127: 4 | AT127: K | AU127: 2 | AY127: ROZPOCET | BE127: =IF(N127="základná",J127,0) -> 0 | BF127: =IF(N127="znížená",J127,0) -> 0 | BG127: =IF(N127="zákl. prenesená",J127,0) -> 0 | BH127: =IF(N127="zníž. prenesená",J127,0) -> 0 | BI127: =IF(N127="nulová",J127,0) -> 0 | BJ127: 2 | BK127: =ROUND(I127*H127,2) -> 0 | BL127: 4 | BM127: -616898318
D128: D | E128: 2 | F128: Zakladanie | J128: =BK128 -> 0 | P128: =SUM(P129:P137) -> 210.23221 | R128: =SUM(R129:R137) -> 204.89139 | T128: =SUM(T129:T137) -> 0 | AR128: 1 | AT128: D | AU128: 1 | AY128: ROZPOCET | BK128: =SUM(BK129:BK137) -> 0
C129: 3 | D129: K | E129: 271533011.S | F129: Násyp pod základové konštrukcie so zhutnením na Edef2=45 MPa z kameniva hrubého drveného fr. 4 - 8 mm | G129: m3 | H129: 15.455 | J129: =ROUND(I129*H129,2) -> 0 | N129: znížená | O129: 1.1318 | P129: =O129*H129 -> 17.491969 | Q129: 2.07 | R129: =Q129*H129 -> 31.99185 | S129: 0 | T129: =S129*H129 -> 0 | AR129: 4 | AT129: K | AU129: 2 | AY129: ROZPOCET | BE129: =IF(N129="základná",J129,0) -> 0 | BF129: =IF(N129="znížená",J129,0) -> 0 | BG129: =IF(N129="zákl. prenesená",J129,0) -> 0 | BH129: =IF(N129="zníž. prenesená",J129,0) -> 0 | BI129: =IF(N129="nulová",J129,0) -> 0 | BJ129: 2 | BK129: =ROUND(I129*H129,2) -> 0 | BL129: 4 | BM129: 1795201486
C130: 4 | D130: K | E130: 271533041.S | F130: Násyp pod základové konštrukcie so zhutnením na Edef2=45 MPa z kameniva hrubého drveného fr. 16 - 32 mm | G130: m3 | H130: 54.7 | J130: =ROUND(I130*H130,2) -> 0 | N130: znížená | O130: 1.1318 | P130: =O130*H130 -> 61.90946 | Q130: 2.07 | R130: =Q130*H130 -> 113.229 | S130: 0 | T130: =S130*H130 -> 0 | AR130: 4 | AT130: K | AU130: 2 | AY130: ROZPOCET | BE130: =IF(N130="základná",J130,0) -> 0 | BF130: =IF(N130="znížená",J130,0) -> 0 | BG130: =IF(N130="zákl. prenesená",J130,0) -> 0 | BH130: =IF(N130="zníž. prenesená",J130,0) -> 0 | BI130: =IF(N130="nulová",J130,0) -> 0 | BJ130: 2 | BK130: =ROUND(I130*H130,2) -> 0 | BL130: 4 | BM130: -735404500
C131: 5 | D131: K | E131: 271563001.S | F131: Násyp pod základové konštrukcie so zhutnením z kameniva drobného ťaženého fr. 0 - 4 mm | G131: m3 | H131: 3.924 | J131: =ROUND(I131*H131,2) -> 0 | N131: znížená | O131: 1.08868 | P131: =O131*H131 -> 4.2719803 | Q131: 1.932 | R131: =Q131*H131 -> 7.581168 | S131: 0 | T131: =S131*H131 -> 0 | AR131: 4 | AT131: K | AU131: 2 | AY131: ROZPOCET | BE131: =IF(N131="základná",J131,0) -> 0 | BF131: =IF(N131="znížená",J131,0) -> 0 | BG131: =IF(N131="zákl. prenesená",J131,0) -> 0 | BH131: =IF(N131="zníž. prenesená",J131,0) -> 0 | BI131: =IF(N131="nulová",J131,0) -> 0 | BJ131: 2 | BK131: =ROUND(I131*H131,2) -> 0 | BL131: 4 | BM131: 1654003904
C132: 6 | D132: K | E132: 273313311.S | F132: Betón základových dosiek, prostý tr. C 8/10 suchy | G132: m3 | H132: 1.882 | J132: =ROUND(I132*H132,2) -> 0 | N132: znížená | O132: 0.61771 | P132: =O132*H132 -> 1.1625302 | Q132: 2.3364027 | R132: =Q132*H132 -> 4.3971099 | S132: 0 | T132: =S132*H132 -> 0 | AR132: 4 | AT132: K | AU132: 2 | AY132: ROZPOCET | BE132: =IF(N132="základná",J132,0) -> 0 | BF132: =IF(N132="znížená",J132,0) -> 0 | BG132: =IF(N132="zákl. prenesená",J132,0) -> 0 | BH132: =IF(N132="zníž. prenesená",J132,0) -> 0 | BI132: =IF(N132="nulová",J132,0) -> 0 | BJ132: 2 | BK132: =ROUND(I132*H132,2) -> 0 | BL132: 4 | BM132: -1043756730
C133: 7 | D133: K | E133: 273313611.S | F133: Betón základových dosiek, prostý tr. C 16/20 | G133: m3 | H133: 20.77 | J133: =ROUND(I133*H133,2) -> 0 | N133: znížená | O133: 0.61771 | P133: =O133*H133 -> 12.829837 | Q133: 2.2375227 | R133: =Q133*H133 -> 46.473346 | S133: 0 | T133: =S133*H133 -> 0 | AR133: 4 | AT133: K | AU133: 2 | AY133: ROZPOCET | BE133: =IF(N133="základná",J133,0) -> 0 | BF133: =IF(N133="znížená",J133,0) -> 0 | BG133: =IF(N133="zákl. prenesená",J133,0) -> 0 | BH133: =IF(N133="zníž. prenesená",J133,0) -> 0 | BI133: =IF(N133="nulová",J133,0) -> 0 | BJ133: 2 | BK133: =ROUND(I133*H133,2) -> 0 | BL133: 4 | BM133: 78873606
C134: 8 | D134: K | E134: 273351217.S | F134: Debnenie stien základových dosiek, zhotovenie-tradičné | G134: m2 | H134: 16.496 | J134: =ROUND(I134*H134,2) -> 0 | N134: znížená | O134: 0.788 | P134: =O134*H134 -> 12.998848 | Q134: 0.00376776 | R134: =Q134*H134 -> 0.062152969 | S134: 0 | T134: =S134*H134 -> 0 | AR134: 4 | AT134: K | AU134: 2 | AY134: ROZPOCET | BE134: =IF(N134="základná",J134,0) -> 0 | BF134: =IF(N134="znížená",J134,0) -> 0 | BG134: =IF(N134="zákl. prenesená",J134,0) -> 0 | BH134: =IF(N134="zníž. prenesená",J134,0) -> 0 | BI134: =IF(N134="nulová",J134,0) -> 0 | BJ134: 2 | BK134: =ROUND(I134*H134,2) -> 0 | BL134: 4 | BM134: 29718233
C135: 9 | D135: K | E135: 273351218.S | F135: Debnenie stien základových dosiek, odstránenie-tradičné | G135: m2 | H135: 16.496 | J135: =ROUND(I135*H135,2) -> 0 | N135: znížená | O135: 0.322 | P135: =O135*H135 -> 5.311712 | Q135: 0 | R135: =Q135*H135 -> 0 | S135: 0 | T135: =S135*H135 -> 0 | AR135: 4 | AT135: K | AU135: 2 | AY135: ROZPOCET | BE135: =IF(N135="základná",J135,0) -> 0 | BF135: =IF(N135="znížená",J135,0) -> 0 | BG135: =IF(N135="zákl. prenesená",J135,0) -> 0 | BH135: =IF(N135="zníž. prenesená",J135,0) -> 0 | BI135: =IF(N135="nulová",J135,0) -> 0 | BJ135: 2 | BK135: =ROUND(I135*H135,2) -> 0 | BL135: 4 | BM135: 1212664985
C136: 10 | D136: K | E136: 273362402.S | F136: Výstuž základových dosiek zo zvár. sietí KARI, priemer drôtu 4/4 mm, veľkosť oka 150x150 mm | G136: m2 | H136: 244.645 | J136: =ROUND(I136*H136,2) -> 0 | N136: znížená | O136: 0.04092 | P136: =O136*H136 -> 10.010873 | Q136: 0.00157561 | R136: =Q136*H136 -> 0.38546511 | S136: 0 | T136: =S136*H136 -> 0 | AR136: 4 | AT136: K | AU136: 2 | AY136: ROZPOCET | BE136: =IF(N136="základná",J136,0) -> 0 | BF136: =IF(N136="znížená",J136,0) -> 0 | BG136: =IF(N136="zákl. prenesená",J136,0) -> 0 | BH136: =IF(N136="zníž. prenesená",J136,0) -> 0 | BI136: =IF(N136="nulová",J136,0) -> 0 | BJ136: 2 | BK136: =ROUND(I136*H136,2) -> 0 | BL136: 4 | BM136: -1161207808
C137: 11 | D137: K | E137: 289971463.S1 | F137: Geomreža pre stabilizáciu podkladu, TENSAR TriAx (TX) | G137: m2 | H137: 300.875 | J137: =ROUND(I137*H137,2) -> 0 | N137: znížená | O137: 0.28 | P137: =O137*H137 -> 84.245 | Q137: 0.0025635 | R137: =Q137*H137 -> 0.77129306 | S137: 0 | T137: =S137*H137 -> 0 | AR137: 4 | AT137: K | AU137: 2 | AY137: ROZPOCET | BE137: =IF(N137="základná",J137,0) -> 0 | BF137: =IF(N137="znížená",J137,0) -> 0 | BG137: =IF(N137="zákl. prenesená",J137,0) -> 0 | BH137: =IF(N137="zníž. prenesená",J137,0) -> 0 | BI137: =IF(N137="nulová",J137,0) -> 0 | BJ137: 2 | BK137: =ROUND(I137*H137,2) -> 0 | BL137: 4 | BM137: 87988073
D138: D | E138: 3 | F138: Zvislé a kompletné konštrukcie | J138: =BK138 -> 0 | P138: =SUM(P139:P140) -> 10.1 | R138: =SUM(R139:R140) -> 150 | T138: =SUM(T139:T140) -> 0 | AR138: 1 | AT138: D | AU138: 1 | AY138: ROZPOCET | BK138: =SUM(BK139:BK140) -> 0
C139: 12 | D139: K | E139: 389129913.S2 | F139: T101 D+M Stanovište transformátora, prefa vane 3xAW3060 celkový rozmer 6660x9220mm, kompletná dodávka GRITEC s.r.o., vrátane roštov, zábradlia, schodíšť, zemnenia, klampiariny, prestupov SAP:1000007099, dodáva objednávateľ | G139: ks | H139: 1 | J139: =ROUND(I139*H139,2) -> 0 | N139: znížená | O139: 5.05 | P139: =O139*H139 -> 5.05 | Q139: 75 | R139: =Q139*H139 -> 75 | S139: 0 | T139: =S139*H139 -> 0 | AR139: 4 | AT139: K | AU139: 2 | AY139: ROZPOCET | BE139: =IF(N139="základná",J139,0) -> 0 | BF139: =IF(N139="znížená",J139,0) -> 0 | BG139: =IF(N139="zákl. prenesená",J139,0) -> 0 | BH139: =IF(N139="zníž. prenesená",J139,0) -> 0 | BI139: =IF(N139="nulová",J139,0) -> 0 | BJ139: 2 | BK139: =ROUND(I139*H139,2) -> 0 | BL139: 4 | BM139: 2141930601
C140: 13 | D140: K | E140: 389129913.S2a | F140: T102 D+M Stanovište transformátora, prefa vane 3xAW3066 celkový rozmer 6660x9220mm, kompletná dodávka GRITEC s.r.o., vrátane roštov, zábradlia, schodíšť, zemnenia, klampiariny, prestupov SAP:1000007099, dodáva objednávateľ | G140: ks | H140: 1 | J140: =ROUND(I140*H140,2) -> 0 | N140: znížená | O140: 5.05 | P140: =O140*H140 -> 5.05 | Q140: 75 | R140: =Q140*H140 -> 75 | S140: 0 | T140: =S140*H140 -> 0 | AR140: 4 | AT140: K | AU140: 2 | AY140: ROZPOCET | BE140: =IF(N140="základná",J140,0) -> 0 | BF140: =IF(N140="znížená",J140,0) -> 0 | BG140: =IF(N140="zákl. prenesená",J140,0) -> 0 | BH140: =IF(N140="zníž. prenesená",J140,0) -> 0 | BI140: =IF(N140="nulová",J140,0) -> 0 | BJ140: 2 | BK140: =ROUND(I140*H140,2) -> 0 | BL140: 4 | BM140: 1744610773
D141: D | E141: 99 | F141: Presun hmôt HSV | J141: =BK141 -> 0 | P141: =P142 -> 804.20615 | R141: =R142 -> 0 | T141: =T142 -> 0 | AR141: 1 | AT141: D | AU141: 1 | AY141: ROZPOCET | BK141: =BK142 -> 0
C142: 14 | D142: K | E142: 998012021.S | F142: Presun hmôt pre budovy (801, 803, 812), zvislá konštr. monolit. betónová výšky do 6 m | G142: t | H142: 654.891 | J142: =ROUND(I142*H142,2) -> 0 | N142: znížená | O142: 1.228 | P142: =O142*H142 -> 804.20615 | Q142: 0 | R142: =Q142*H142 -> 0 | S142: 0 | T142: =S142*H142 -> 0 | AR142: 4 | AT142: K | AU142: 2 | AY142: ROZPOCET | BE142: =IF(N142="základná",J142,0) -> 0 | BF142: =IF(N142="znížená",J142,0) -> 0 | BG142: =IF(N142="zákl. prenesená",J142,0) -> 0 | BH142: =IF(N142="zníž. prenesená",J142,0) -> 0 | BI142: =IF(N142="nulová",J142,0) -> 0 | BJ142: 2 | BK142: =ROUND(I142*H142,2) -> 0 | BL142: 4 | BM142: -964402652
D143: D | E143: VRN | F143: Vedľajšie rozpočtové náklady | J143: =J144 -> 0 | P143: =#REF!+#REF! -> #REF! | R143: =#REF!+#REF! -> #REF! | T143: =#REF!+#REF! -> #REF! | AR143: 5 | AT143: D | AU143: 0 | AY143: ROZPOCET | BK143: =BK144 -> 0
C144: 15 | D144: K | E144: VRN-1 | F144: Ostatné (doprava, vplyvy, pridružené výkony, réžia, drobné montážne práce a materiál...) | G144: % | J144: =H144*I144/100 -> 0 | N144: znížená | O144: 0 | P144: =O144*H144 -> 0 | Q144: 0 | R144: =Q144*H144 -> 0 | S144: 0 | T144: =S144*H144 -> 0 | AR144: 1024 | AT144: K | AU144: 2 | AY144: ROZPOCET | BE144: =IF(N144="základná",J144,0) -> 0 | BF144: =IF(N144="znížená",J144,0) -> 0 | BG144: =IF(N144="zákl. prenesená",J144,0) -> 0 | BH144: =IF(N144="zníž. prenesená",J144,0) -> 0 | BI144: =IF(N144="nulová",J144,0) -> 0 | BJ144: 2 | BK144: =ROUND(I144*H144,2)/100 -> 0 | BL144: 1024 | BM144: -567973459

Sheet SO33
L2: >> skryté stĺpce << | AT2: {a6a041a3-27c0-497c-b730-f38eab34a894}
AT3: 0
D4: KRYCÍ LIST ROZPOČTU | M4: v --- nižšie sa nachádzajú doplnkové a pomocné údaje k zostavám --- v | AT4: False
D6: Stavba:
E7: =_xlfn.CONCAT(Obsah!N1," ",Obsah!N2) -> 15709 - Nižná / Tr 110/22kV - komplexná rekonštrukcia
D8: Objekt:
E9: SO33 - Stanovište tlmiviek
D11: JKSO: | I11: ČS:
D12: Miesto: | F12: Nižná | I12: Dátum: | J12: =Obsah!Z3 -> 46174
D14: Objednávateľ: | I14: IČO:
E15: STREDOSLOVENSKÁ DISTRIBUčNÁ a.s. | I15: IČ DPH:
D17: Zhotoviteľ: | I17: IČO:
E18: určený výberom | I18: IČ DPH:
D20: Projektant: | I20: IČO:
E21: LiV-EPI, s.r.o. | I21: IČ DPH:
D23: Spracovateľ: | I23: IČO:
E24: Ing Peter Lukačovič | I24: IČ DPH:
D26: Poznámka:
D30: Cena bez DPH | J30: =ROUND(J96, 2) -> 0
F32: Základ dane | I32: Sadzba dane | J32: Výška dane
D33: DPH | E33: základná | F33: =ROUND((SUM(BE123:BE143)), 2) -> 0 | I33: 0.23 | J33: =ROUND(((SUM(BE123:BE143))*I33), 2) -> 0
E34: znížená | F34: =ROUND(J30, 2) -> 0 | I34: 0.23 | J34: =ROUND((F34*I34), 2) -> 0
E35: zákl. prenesená | F35: =ROUND((SUM(BG123:BG143)), 2) -> 0 | I35: 0.23 | J35: =0 -> 0
E36: zníž. prenesená | F36: =ROUND((SUM(BH123:BH143)), 2) -> 0 | I36: 0.23 | J36: =0 -> 0
E37: nulová | F37: =ROUND((SUM(BI123:BI143)), 2) -> 0 | I37: 0 | J37: =0 -> 0
D39: Cena s DPH | G39: v | H39: EUR | J39: =SUM(J30:J37) -> 0
D50: Projektant | G50: Spracovateľ
D61: Dátum a podpis: | F61: Pečiatka | G61: Dátum a podpis: | J61: Pečiatka
D65: Objednávateľ | G65: Zhotoviteľ
D76: Dátum a podpis: | F76: Pečiatka | G76: Dátum a podpis: | J76: Pečiatka
C82: REKAPITULÁCIA ROZPOČTU
C84: Stavba:
E85: =E7 -> 15709 - Nižná / Tr 110/22kV - komplexná rekonštrukcia
C86: Objekt:
E87: =E9 -> SO33 - Stanovište tlmiviek
C89: Miesto: | F89: =F12 -> Nižná | I89: Dátum: | J89: =IF(J12="","",J12) -> 46174
C91: Objednávateľ: | F91: =E15 -> STREDOSLOVENSKÁ DISTRIBUčNÁ a.s. | I91: Projektant: | J91: =E21 -> LiV-EPI, s.r.o.
C92: Zhotoviteľ: | F92: =IF(E18="","",E18) -> určený výberom | I92: Spracovateľ: | J92: =E24 -> Ing Peter Lukačovič
C94: Kód dielu - Popis | J94: Cena celkom [EUR]
C96: Náklady z rozpočtu | J96: =J97+J102 -> 0 | AU96: -1
D97: HSV - Práce a dodávky HSV | J97: =J124 -> 0
D98: 1 - Zemné práce | J98: =J125 -> 0
D99: 2 - Zakladanie | J99: =J128 -> 0
D100: 3 - Zvislé a kompletné konštrukcie | J100: =J138 -> 0
D101: 99 - Presun hmôt HSV | J101: =J142 -> 0
D102: VRN - Vedľajšie rozpočtové náklady | J102: =J144 -> 0
D103: =_xlfn.CONCAT(" ",F145) -> Ostatné (doprava, vplyvy, pridružené výkony, réžia, drobné montážne práce a materiál...) | J103: =J145 -> 0
C110: ROZPOČET
C112: Stavba:
E113: =E7 -> 15709 - Nižná / Tr 110/22kV - komplexná rekonštrukcia
C114: Objekt:
E115: =E9 -> SO33 - Stanovište tlmiviek
C117: Miesto: | F117: =F12 -> Nižná | I117: Dátum: | J117: =IF(J12="","",J12) -> 46174
C119: Objednávateľ: | F119: =E15 -> STREDOSLOVENSKÁ DISTRIBUčNÁ a.s. | I119: Projektant: | J119: =E21 -> LiV-EPI, s.r.o.
C120: Zhotoviteľ: | F120: =IF(E18="","",E18) -> určený výberom | I120: Spracovateľ: | J120: =E24 -> Ing Peter Lukačovič
C122: PČ | D122: Typ | E122: Kód | F122: Popis | G122: MJ | H122: Množstvo | I122: J.cena [EUR] | J122: Cena celkom [EUR] | K122: Cenová sústava | N122: DPH | O122: J. Nh [h] | P122: Nh celkom [h] | Q122: J. hmotnosť [t] | R122: Hmotnosť celkom [t] | S122: J. suť [t] | T122: Suť Celkom [t]
C123: Náklady z rozpočtu | J123: =J124+J144 -> 0 | P123: =P124 -> 541.31843 | R123: =R124 -> 344.35152 | T123: =T124 -> 0 | AT123: D | AU123: -1 | BK123: =BK124 -> 0
D124: D | E124: HSV | F124: Práce a dodávky HSV | J124: =BK124 -> 0 | P124: =P125+P128+P138+P142 -> 541.31843 | R124: =R125+R128+R138+R142 -> 344.35152 | T124: =T125+T128+T138+T142 -> 0 | AR124: 1 | AT124: D | AU124: 0 | AY124: ROZPOCET | BK124: =BK125+BK128+BK138+BK142 -> 0
D125: D | E125: 1 | F125: Zemné práce | J125: =BK125 -> 0 | P125: =SUM(P126:P127) -> 2.10936 | R125: =SUM(R126:R127) -> 0 | T125: =SUM(T126:T127) -> 0 | AR125: 1 | AT125: D | AU125: 1 | AY125: ROZPOCET | BK125: =SUM(BK126:BK127) -> 0
C126: 1 | D126: K | E126: 11110110 | F126: Výkaz výmer má informatívny charakter. Uchádzač vyhlasuje, že vykonal kontrolu podkladov v Zadaní tohto výberového konania, prepočítal si všetky množstvá a tieto ocenil v celom rozsahu. | H126: 0 | I126: 0 | J126: =ROUND(I126*H126,2) -> 0 | N126: znížená | O126: 0.01 | P126: =O126*H126 -> 0 | Q126: 0 | R126: =Q126*H126 -> 0 | S126: 0 | T126: =S126*H126 -> 0 | AR126: 4 | AT126: K | AU126: 2 | AY126: ROZPOCET | BE126: =IF(N126="základná",J126,0) -> 0 | BF126: =IF(N126="znížená",J126,0) -> 0 | BG126: =IF(N126="zákl. prenesená",J126,0) -> 0 | BH126: =IF(N126="zníž. prenesená",J126,0) -> 0 | BI126: =IF(N126="nulová",J126,0) -> 0 | BJ126: 2 | BK126: =ROUND(I126*H126,2) -> 0 | BL126: 4 | BM126: 591437161
C127: 2 | D127: K | E127: 181101102.S | F127: Úprava pláne v zárezoch v hornine 1-4 so zhutnením na Edef2=45MPa | G127: m2 | H127: 124.08 | J127: =ROUND(I127*H127,2) -> 0 | N127: znížená | O127: 0.017 | P127: =O127*H127 -> 2.10936 | Q127: 0 | R127: =Q127*H127 -> 0 | S127: 0 | T127: =S127*H127 -> 0 | AR127: 4 | AT127: K | AU127: 2 | AY127: ROZPOCET | BE127: =IF(N127="základná",J127,0) -> 0 | BF127: =IF(N127="znížená",J127,0) -> 0 | BG127: =IF(N127="zákl. prenesená",J127,0) -> 0 | BH127: =IF(N127="zníž. prenesená",J127,0) -> 0 | BI127: =IF(N127="nulová",J127,0) -> 0 | BJ127: 2 | BK127: =ROUND(I127*H127,2) -> 0 | BL127: 4 | BM127: -616898318
D128: D | E128: 2 | F128: Zakladanie | J128: =BK128 -> 0 | P128: =SUM(P129:P137) -> 101.19481 | R128: =SUM(R129:R137) -> 119.35152 | T128: =SUM(T129:T137) -> 0 | AR128: 1 | AT128: D | AU128: 1 | AY128: ROZPOCET | BK128: =SUM(BK129:BK137) -> 0
C129: 3 | D129: K | E129: 271533011.S | F129: Násyp pod základové konštrukcie so zhutnením na Edef2=45 MPa z kameniva hrubého drveného fr. 4 - 8 mm | G129: m3 | H129: 5.672 | J129: =ROUND(I129*H129,2) -> 0 | N129: znížená | O129: 1.1318 | P129: =O129*H129 -> 6.4195696 | Q129: 2.07 | R129: =Q129*H129 -> 11.74104 | S129: 0 | T129: =S129*H129 -> 0 | AR129: 4 | AT129: K | AU129: 2 | AY129: ROZPOCET | BE129: =IF(N129="základná",J129,0) -> 0 | BF129: =IF(N129="znížená",J129,0) -> 0 | BG129: =IF(N129="zákl. prenesená",J129,0) -> 0 | BH129: =IF(N129="zníž. prenesená",J129,0) -> 0 | BI129: =IF(N129="nulová",J129,0) -> 0 | BJ129: 2 | BK129: =ROUND(I129*H129,2) -> 0 | BL129: 4 | BM129: 1795201486
C130: 4 | D130: K | E130: 271533041.S | F130: Násyp pod základové konštrukcie so zhutnením na Edef2=45 MPa z kameniva hrubého drveného fr. 16 - 32 mm | G130: m3 | H130: 43.472 | J130: =ROUND(I130*H130,2) -> 0 | N130: znížená | O130: 1.1318 | P130: =O130*H130 -> 49.20161 | Q130: 2.07 | R130: =Q130*H130 -> 89.98704 | S130: 0 | T130: =S130*H130 -> 0 | AR130: 4 | AT130: K | AU130: 2 | AY130: ROZPOCET | BE130: =IF(N130="základná",J130,0) -> 0 | BF130: =IF(N130="znížená",J130,0) -> 0 | BG130: =IF(N130="zákl. prenesená",J130,0) -> 0 | BH130: =IF(N130="zníž. prenesená",J130,0) -> 0 | BI130: =IF(N130="nulová",J130,0) -> 0 | BJ130: 2 | BK130: =ROUND(I130*H130,2) -> 0 | BL130: 4 | BM130: -735404500
C131: 5 | D131: K | E131: 271563001.S | F131: Násyp pod základové konštrukcie so zhutnením z kameniva drobného ťaženého fr. 0 - 4 mm | G131: m3 | H131: 1.199 | J131: =ROUND(I131*H131,2) -> 0 | N131: znížená | O131: 1.08868 | P131: =O131*H131 -> 1.3053273 | Q131: 1.932 | R131: =Q131*H131 -> 2.316468 | S131: 0 | T131: =S131*H131 -> 0 | AR131: 4 | AT131: K | AU131: 2 | AY131: ROZPOCET | BE131: =IF(N131="základná",J131,0) -> 0 | BF131: =IF(N131="znížená",J131,0) -> 0 | BG131: =IF(N131="zákl. prenesená",J131,0) -> 0 | BH131: =IF(N131="zníž. prenesená",J131,0) -> 0 | BI131: =IF(N131="nulová",J131,0) -> 0 | BJ131: 2 | BK131: =ROUND(I131*H131,2) -> 0 | BL131: 4 | BM131: 1654003904
C132: 6 | D132: K | E132: 273313311.S | F132: Betón základových dosiek, prostý tr. C 8/10 suchy | G132: m3 | H132: 0.679 | J132: =ROUND(I132*H132,2) -> 0 | N132: znížená | O132: 0.61771 | P132: =O132*H132 -> 0.41942509 | Q132: 2.3364027 | R132: =Q132*H132 -> 1.5864174 | S132: 0 | T132: =S132*H132 -> 0 | AR132: 4 | AT132: K | AU132: 2 | AY132: ROZPOCET | BE132: =IF(N132="základná",J132,0) -> 0 | BF132: =IF(N132="znížená",J132,0) -> 0 | BG132: =IF(N132="zákl. prenesená",J132,0) -> 0 | BH132: =IF(N132="zníž. prenesená",J132,0) -> 0 | BI132: =IF(N132="nulová",J132,0) -> 0 | BJ132: 2 | BK132: =ROUND(I132*H132,2) -> 0 | BL132: 4 | BM132: -1043756730
C133: 7 | D133: K | E133: 273313611.S | F133: Betón základových dosiek, prostý tr. C 16/20 | G133: m3 | H133: 5.954 | J133: =ROUND(I133*H133,2) -> 0 | N133: znížená | O133: 0.61771 | P133: =O133*H133 -> 3.6778453 | Q133: 2.2375227 | R133: =Q133*H133 -> 13.32221 | S133: 0 | T133: =S133*H133 -> 0 | AR133: 4 | AT133: K | AU133: 2 | AY133: ROZPOCET | BE133: =IF(N133="základná",J133,0) -> 0 | BF133: =IF(N133="znížená",J133,0) -> 0 | BG133: =IF(N133="zákl. prenesená",J133,0) -> 0 | BH133: =IF(N133="zníž. prenesená",J133,0) -> 0 | BI133: =IF(N133="nulová",J133,0) -> 0 | BJ133: 2 | BK133: =ROUND(I133*H133,2) -> 0 | BL133: 4 | BM133: 78873606
C134: 8 | D134: K | E134: 273351217.S | F134: Debnenie stien základových dosiek, zhotovenie-tradičné | G134: m2 | H134: 8.08 | J134: =ROUND(I134*H134,2) -> 0 | N134: znížená | O134: 0.788 | P134: =O134*H134 -> 6.36704 | Q134: 0.00376776 | R134: =Q134*H134 -> 0.030443501 | S134: 0 | T134: =S134*H134 -> 0 | AR134: 4 | AT134: K | AU134: 2 | AY134: ROZPOCET | BE134: =IF(N134="základná",J134,0) -> 0 | BF134: =IF(N134="znížená",J134,0) -> 0 | BG134: =IF(N134="zákl. prenesená",J134,0) -> 0 | BH134: =IF(N134="zníž. prenesená",J134,0) -> 0 | BI134: =IF(N134="nulová",J134,0) -> 0 | BJ134: 2 | BK134: =ROUND(I134*H134,2) -> 0 | BL134: 4 | BM134: 29718233
C135: 9 | D135: K | E135: 273351218.S | F135: Debnenie stien základových dosiek, odstránenie-tradičné | G135: m2 | H135: 8.08 | J135: =ROUND(I135*H135,2) -> 0 | N135: znížená | O135: 0.322 | P135: =O135*H135 -> 2.60176 | Q135: 0 | R135: =Q135*H135 -> 0 | S135: 0 | T135: =S135*H135 -> 0 | AR135: 4 | AT135: K | AU135: 2 | AY135: ROZPOCET | BE135: =IF(N135="základná",J135,0) -> 0 | BF135: =IF(N135="znížená",J135,0) -> 0 | BG135: =IF(N135="zákl. prenesená",J135,0) -> 0 | BH135: =IF(N135="zníž. prenesená",J135,0) -> 0 | BI135: =IF(N135="nulová",J135,0) -> 0 | BJ135: 2 | BK135: =ROUND(I135*H135,2) -> 0 | BL135: 4 | BM135: 1212664985
C136: 10 | D136: K | E136: 273362402.S | F136: Výstuž základových dosiek zo zvár. sietí KARI, priemer drôtu 4/4 mm, veľkosť oka 150x150 mm | G136: m2 | H136: 68.471 | J136: =ROUND(I136*H136,2) -> 0 | N136: znížená | O136: 0.04092 | P136: =O136*H136 -> 2.8018333 | Q136: 0.00157561 | R136: =Q136*H136 -> 0.10788359 | S136: 0 | T136: =S136*H136 -> 0 | AR136: 4 | AT136: K | AU136: 2 | AY136: ROZPOCET | BE136: =IF(N136="základná",J136,0) -> 0 | BF136: =IF(N136="znížená",J136,0) -> 0 | BG136: =IF(N136="zákl. prenesená",J136,0) -> 0 | BH136: =IF(N136="zníž. prenesená",J136,0) -> 0 | BI136: =IF(N136="nulová",J136,0) -> 0 | BJ136: 2 | BK136: =ROUND(I136*H136,2) -> 0 | BL136: 4 | BM136: -1161207808
C137: 11 | D137: K | E137: 289971463.S1 | F137: Geomreža pre stabilizáciu podkladu, TENSAR TriAx (TX) | G137: m2 | H137: 101.43 | J137: =ROUND(I137*H137,2) -> 0 | N137: znížená | O137: 0.28 | P137: =O137*H137 -> 28.4004 | Q137: 0.0025635 | R137: =Q137*H137 -> 0.2600158 | S137: 0 | T137: =S137*H137 -> 0 | AR137: 4 | AT137: K | AU137: 2 | AY137: ROZPOCET | BE137: =IF(N137="základná",J137,0) -> 0 | BF137: =IF(N137="znížená",J137,0) -> 0 | BG137: =IF(N137="zákl. prenesená",J137,0) -> 0 | BH137: =IF(N137="zníž. prenesená",J137,0) -> 0 | BI137: =IF(N137="nulová",J137,0) -> 0 | BJ137: 2 | BK137: =ROUND(I137*H137,2) -> 0 | BL137: 4 | BM137: 87988073
D138: D | E138: 3 | F138: Zvislé a kompletné konštrukcie | J138: =BK138 -> 0 | P138: =SUM(P139:P141) -> 15.15 | R138: =SUM(R139:R141) -> 225 | T138: =SUM(T139:T141) -> 0 | AR138: 1 | AT138: D | AU138: 1 | AY138: ROZPOCET | BK138: =SUM(BK139:BK141) -> 0
C139: 12 | D139: K | E139: 389129913.S4 | F139: L1 D+M Stanovište tlmivky, prefa vaňa AW4236, celkový rozmer 3360x4260mm, kompletná dodávka GRITEC s.r.o., vrátane roštov, zábradlia, schodíšť, zemnenia, klampiarskych prvkov, prestupov | G139: ks | H139: 1 | J139: =ROUND(I139*H139,2) -> 0 | N139: znížená | O139: 5.05 | P139: =O139*H139 -> 5.05 | Q139: 75 | R139: =Q139*H139 -> 75 | S139: 0 | T139: =S139*H139 -> 0 | AR139: 4 | AT139: K | AU139: 2 | AY139: ROZPOCET | BE139: =IF(N139="základná",J139,0) -> 0 | BF139: =IF(N139="znížená",J139,0) -> 0 | BG139: =IF(N139="zákl. prenesená",J139,0) -> 0 | BH139: =IF(N139="zníž. prenesená",J139,0) -> 0 | BI139: =IF(N139="nulová",J139,0) -> 0 | BJ139: 2 | BK139: =ROUND(I139*H139,2) -> 0 | BL139: 4 | BM139: -1349821643
C140: 13 | D140: K | E140: 389129913.S4b | F140: L2 D+M Stanovište tlmivky, prefa vaňa AW4236, celkový rozmer 3360x4260mm, kompletná dodávka GRITEC s.r.o., vrátane roštov, zábradlia, schodíšť, zemnenia, klampiarskych prvkov, prestupov_x000D_ SAP:1000003566, dodáva objednávateľ | G140: ks | H140: 1 | J140: =ROUND(I140*H140,2) -> 0 | N140: znížená | O140: 5.05 | P140: =O140*H140 -> 5.05 | Q140: 75 | R140: =Q140*H140 -> 75 | S140: 0 | T140: =S140*H140 -> 0 | AR140: 4 | AT140: K | AU140: 2 | AY140: ROZPOCET | BE140: =IF(N140="základná",J140,0) -> 0 | BF140: =IF(N140="znížená",J140,0) -> 0 | BG140: =IF(N140="zákl. prenesená",J140,0) -> 0 | BH140: =IF(N140="zníž. prenesená",J140,0) -> 0 | BI140: =IF(N140="nulová",J140,0) -> 0 | BJ140: 2 | BK140: =ROUND(I140*H140,2) -> 0 | BL140: 4 | BM140: -1039547342
C141: 14 | D141: K | E141: 389129913.S5 | F141: D+M Požiarna deliaca stena medzi L21 a L22, výška 6,5m. dlžka 4,56 m kompletná dodávka GRITEC s.r.o., vrátane všetkých súčastí, prvkov, pätiek a stĺpov SAP:1000007103, dodáva objednávateľ | G141: ks | H141: 1 | J141: =ROUND(I141*H141,2) -> 0 | N141: znížená | O141: 5.05 | P141: =O141*H141 -> 5.05 | Q141: 75 | R141: =Q141*H141 -> 75 | S141: 0 | T141: =S141*H141 -> 0 | AR141: 4 | AT141: K | AU141: 2 | AY141: ROZPOCET | BE141: =IF(N141="základná",J141,0) -> 0 | BF141: =IF(N141="znížená",J141,0) -> 0 | BG141: =IF(N141="zákl. prenesená",J141,0) -> 0 | BH141: =IF(N141="zníž. prenesená",J141,0) -> 0 | BI141: =IF(N141="nulová",J141,0) -> 0 | BJ141: 2 | BK141: =ROUND(I141*H141,2) -> 0 | BL141: 4 | BM141: -1972270387
D142: D | E142: 99 | F142: Presun hmôt HSV | J142: =BK142 -> 0 | P142: =P143 -> 422.86426 | R142: =R143 -> 0 | T142: =T143 -> 0 | AR142: 1 | AT142: D | AU142: 1 | AY142: ROZPOCET | BK142: =BK143 -> 0
C143: 15 | D143: K | E143: 998012021.S | F143: Presun hmôt pre budovy (801, 803, 812), zvislá konštr. monolit. betónová výšky do 6 m | G143: t | H143: 344.352 | J143: =ROUND(I143*H143,2) -> 0 | N143: znížená | O143: 1.228 | P143: =O143*H143 -> 422.86426 | Q143: 0 | R143: =Q143*H143 -> 0 | S143: 0 | T143: =S143*H143 -> 0 | AR143: 4 | AT143: K | AU143: 2 | AY143: ROZPOCET | BE143: =IF(N143="základná",J143,0) -> 0 | BF143: =IF(N143="znížená",J143,0) -> 0 | BG143: =IF(N143="zákl. prenesená",J143,0) -> 0 | BH143: =IF(N143="zníž. prenesená",J143,0) -> 0 | BI143: =IF(N143="nulová",J143,0) -> 0 | BJ143: 2 | BK143: =ROUND(I143*H143,2) -> 0 | BL143: 4 | BM143: -964402652
D144: D | E144: VRN | F144: Vedľajšie rozpočtové náklady | J144: =J145 -> 0 | P144: =#REF!+#REF! -> #REF! | R144: =#REF!+#REF! -> #REF! | T144: =#REF!+#REF! -> #REF! | AR144: 5 | AT144: D | AU144: 0 | AY144: ROZPOCET | BK144: =BK145 -> 0
C145: 16 | D145: K | E145: VRN-1 | F145: Ostatné (doprava, vplyvy, pridružené výkony, réžia, drobné montážne práce a materiál...) | G145: % | J145: =H145*I145/100 -> 0 | N145: znížená | O145: 0 | P145: =O145*H145 -> 0 | Q145: 0 | R145: =Q145*H145 -> 0 | S145: 0 | T145: =S145*H145 -> 0 | AR145: 1024 | AT145: K | AU145: 2 | AY145: ROZPOCET | BE145: =IF(N145="základná",J145,0) -> 0 | BF145: =IF(N145="znížená",J145,0) -> 0 | BG145: =IF(N145="zákl. prenesená",J145,0) -> 0 | BH145: =IF(N145="zníž. prenesená",J145,0) -> 0 | BI145: =IF(N145="nulová",J145,0) -> 0 | BJ145: 2 | BK145: =ROUND(I145*H145,2)/100 -> 0 | BL145: 1024 | BM145: -567973459

Sheet SO34.01 
L2: >> skryté stĺpce << | AT2: {1bd41712-9c08-401f-84b0-a3f3778a2f00}
AT3: 0
D4: KRYCÍ LIST ROZPOČTU | M4: v --- nižšie sa nachádzajú doplnkové a pomocné údaje k zostavám --- v | AT4: False
D6: Stavba:
E7: =_xlfn.CONCAT(Obsah!N1," ",Obsah!N2) -> 15709 - Nižná / Tr 110/22kV - komplexná rekonštrukcia
D8: Objekt:
E9: SO34 - Budova spoločných prevádzok - ASR
D11: JKSO: | I11: ČS:
D12: Miesto: | F12: Nižná | I12: Dátum: | J12: =Obsah!Z3 -> 46174
D14: Objednávateľ: | I14: IČO:
E15: STREDOSLOVENSKÁ DISTRIBUčNÁ a.s. | I15: IČ DPH:
D17: Zhotoviteľ: | I17: IČO:
E18: určený výberom | I18: IČ DPH:
D20: Projektant: | I20: IČO:
E21: LiV-EPI, s.r.o. | I21: IČ DPH:
D23: Spracovateľ: | I23: IČO:
E24: Ing Peter Lukačovič | I24: IČ DPH:
D26: Poznámka:
D30: Cena bez DPH | J30: =ROUND(J96, 2) -> 0
F32: Základ dane | I32: Sadzba dane | J32: Výška dane
D33: DPH | E33: základná | F33: =ROUND((SUM(BE149:BE717)), 2) -> 0 | I33: 0.23 | J33: =ROUND(((SUM(BE149:BE717))*I33), 2) -> 0
E34: znížená | F34: =ROUND(J30, 2) -> 0 | I34: 0.23 | J34: =ROUND((F34*I34), 2) -> 0
E35: zákl. prenesená | F35: =ROUND((SUM(BG149:BG717)), 2) -> 0 | I35: 0.23 | J35: =0 -> 0
E36: zníž. prenesená | F36: =ROUND((SUM(BH149:BH717)), 2) -> 0 | I36: 0.23 | J36: =0 -> 0
E37: nulová | F37: =ROUND((SUM(BI149:BI717)), 2) -> 0 | I37: 0 | J37: =0 -> 0
D39: Cena s DPH | G39: v | H39: EUR | J39: =SUM(J30:J37) -> 0
D50: Projektant | G50: Spracovateľ
D61: Dátum a podpis: | F61: Pečiatka | G61: Dátum a podpis: | J61: Pečiatka
D65: Objednávateľ | G65: Zhotoviteľ
D76: Dátum a podpis: | F76: Pečiatka | G76: Dátum a podpis: | J76: Pečiatka
C82: REKAPITULÁCIA ROZPOČTU
C84: Stavba:
E85: =E7 -> 15709 - Nižná / Tr 110/22kV - komplexná rekonštrukcia
C86: Objekt:
E87: =E9 -> SO34 - Budova spoločných prevádzok - ASR
C89: Miesto: | F89: =F12 -> Nižná | I89: Dátum: | J89: =IF(J12="","",J12) -> 46174
C91: Objednávateľ: | F91: =E15 -> STREDOSLOVENSKÁ DISTRIBUčNÁ a.s. | I91: Projektant: | J91: =E21 -> LiV-EPI, s.r.o.
C92: Zhotoviteľ: | F92: =IF(E18="","",E18) -> určený výberom | I92: Spracovateľ: | J92: =E24 -> Ing Peter Lukačovič
C94: Kód dielu - Popis | J94: Cena celkom [EUR]
C96: Náklady z rozpočtu | J96: =J97+J106+J124+J128 -> 0 | AU96: -1
D97: HSV - Práce a dodávky HSV | J97: =J150 -> 0
D98: 1 - Zemné práce | J98: =J151 -> 0
D99: 2 - Zakladanie | J99: =J159 -> 0
D100: 3 - Zvislé a kompletné konštrukcie | J100: =J185 -> 0
D101: 4 - Vodorovné konštrukcie | J101: =J202 -> 0
D102: 6 - Úpravy povrchov, podlahy, osadenie | J102: =J217 -> 0
D103: 8 - Rúrové vedenie | J103: =J254 -> 0
D104: 9 - Ostatné konštrukcie a práce-búranie | J104: =J259 -> 0
D105: 99 - Presun hmôt HSV | J105: =J332 -> 0
D106: PSV - Práce a dodávky PSV | J106: =J335 -> 0
D107: 711 - Izolácie proti vode a vlhkosti | J107: =J336 -> 0
D108: 712 - Izolácie striech, povlakové krytiny | J108: =J358 -> 0
D109: 713 - Izolácie tepelné | J109: =J367 -> 0
D110: 721 - Zdravotechnika - vnútorná kanalizácia | J110: =J378 -> 0
D111: 762 - Konštrukcie tesárske | J111: =J382 -> 0
D112: 763 - Konštrukcie - drevostavby | J112: =J397 -> 0
D113: 764 - Konštrukcie klampiarske | J113: =J405 -> 0
D114: 765 - Konštrukcie - krytiny tvrdé | J114: =J441 -> 0
D115: 766 - Konštrukcie stolárske | J115: =J446 -> 0
D116: 767 - Konštrukcie doplnkové kovové | J116: =J462 -> 0
D117: 769 - Montáže vzduchotechnických zariadení | J117: =J639 -> 0
D118: 771 - Podlahy z dlaždíc | J118: =J643 -> 0
D119: 776 - Podlahy povlakové | J119: =J653 -> 0
D120: 777 - Podlahy syntetické | J120: =J664 -> 0
D121: 781 - Obklady | J121: =J677 -> 0
D122: 783 - Nátery | J122: =J687 -> 0
D123: 784 - Maľby | J123: =J691 -> 0
D124: M - Práce a dodávky M | J124: =J699 -> 0
D125: 21-M - Elektromontáže | J125: =J700 -> 0
D126: 22-M - Montáže oznamovacích a zabezpečovacích zariadení | J126: =J710 -> 0
D127: 25-M - Povrchová úprava strojov, zariadení a konštrukcií | J127: =J712 -> 0
D128: VRN - Vedľajšie rozpočtové náklady | J128: =J718 -> 0
D129: =_xlfn.CONCAT(" ",F179) -> Debnenie stien základových pätiek, odstránenie-tradičné | J129: =J719 -> 0
C136: ROZPOČET
C138: Stavba:
E139: =E7 -> 15709 - Nižná / Tr 110/22kV - komplexná rekonštrukcia
C140: Objekt:
E141: =E9 -> SO34 - Budova spoločných prevádzok - ASR
C143: Miesto: | F143: =F12 -> Nižná | I143: Dátum: | J143: =IF(J12="","",J12) -> 46174
C145: Objednávateľ: | F145: =E15 -> STREDOSLOVENSKÁ DISTRIBUčNÁ a.s. | I145: Projektant: | J145: =E21 -> LiV-EPI, s.r.o.
C146: Zhotoviteľ: | F146: =IF(E18="","",E18) -> určený výberom | I146: Spracovateľ: | J146: =E24 -> Ing Peter Lukačovič
C148: PČ | D148: Typ | E148: Kód | F148: Popis | G148: MJ | H148: Množstvo | I148: J.cena [EUR] | J148: Cena celkom [EUR] | K148: Cenová sústava | N148: DPH | O148: J. Nh [h] | P148: Nh celkom [h] | Q148: J. hmotnosť [t] | R148: Hmotnosť celkom [t] | S148: J. suť [t] | T148: Suť Celkom [t]
C149: Náklady z rozpočtu | J149: =ROUND(SUM(J150,J335,J699,J718),2) -> 0 | P149: =P150+P335+P699 -> 16557.482 | R149: =R150+R335+R699 -> 386.05797 | T149: =T150+T335+T699 -> 238.60401 | AT149: D | AU149: -1 | BK149: =BK150+BK335+BK699 -> 0
D150: D | E150: HSV | F150: Práce a dodávky HSV | J150: =BK150 -> 0 | P150: =P151+P159+P185+P202+P217+P254+P259+P332 -> 6248.4832 | R150: =R151+R159+R185+R202+R217+R254+R259+R332 -> 226.84506 | T150: =T151+T159+T185+T202+T217+T254+T259+T332 -> 214.49943 | AR150: 1 | AT150: D | AU150: 0 | AY150: ROZPOCET | BK150: =BK151+BK159+BK185+BK202+BK217+BK254+BK259+BK332 -> 0
D151: D | E151: 1 | F151: Zemné práce | J151: =BK151 -> 0 | P151: =SUM(P152:P158) -> 259.4461 | R151: =SUM(R152:R158) -> 0 | T151: =SUM(T152:T158) -> 0 | AR151: 1 | AT151: D | AU151: 1 | AY151: ROZPOCET | BK151: =SUM(BK152:BK158) -> 0
C152: 1 | D152: K | E152: 11110110 | F152: Výkaz výmer má informatívny charakter. Uchádzač vyhlasuje, že vykonal kontrolu podkladov v Zadaní tohto výberového konania, prepočítal si všetky množstvá a tieto ocenil v celom rozsahu. | H152: 0 | I152: 0 | J152: =ROUND(I152*H152,2) -> 0 | N152: znížená | O152: 0.01 | P152: =O152*H152 -> 0 | Q152: 0 | R152: =Q152*H152 -> 0 | S152: 0 | T152: =S152*H152 -> 0 | AR152: 4 | AT152: K | AU152: 2 | AY152: ROZPOCET | BE152: =IF(N152="základná",J152,0) -> 0 | BF152: =IF(N152="znížená",J152,0) -> 0 | BG152: =IF(N152="zákl. prenesená",J152,0) -> 0 | BH152: =IF(N152="zníž. prenesená",J152,0) -> 0 | BI152: =IF(N152="nulová",J152,0) -> 0 | BJ152: 2 | BK152: =ROUND(I152*H152,2) -> 0 | BL152: 4 | BM152: -1533910745
C153: 2 | D153: K | E153: 139711101.S | F153: Výkop v uzavretých priestoroch s naložením výkopu na dopravný prostriedok v hornine 1 až 4 | G153: m3 | H153: 29.905 | J153: =ROUND(I153*H153,2) -> 0 | N153: znížená | O153: 7.287 | P153: =O153*H153 -> 217.91773 | Q153: 0 | R153: =Q153*H153 -> 0 | S153: 0 | T153: =S153*H153 -> 0 | AR153: 4 | AT153: K | AU153: 2 | AY153: ROZPOCET | BE153: =IF(N153="základná",J153,0) -> 0 | BF153: =IF(N153="znížená",J153,0) -> 0 | BG153: =IF(N153="zákl. prenesená",J153,0) -> 0 | BH153: =IF(N153="zníž. prenesená",J153,0) -> 0 | BI153: =IF(N153="nulová",J153,0) -> 0 | BJ153: 2 | BK153: =ROUND(I153*H153,2) -> 0 | BL153: 4 | BM153: 541933245
C154: 3 | D154: K | E154: 162201201.S | F154: Vodorovné premiestnenie výkopu nosením do 10 m horniny 1 až 4 | G154: m3 | H154: 36.204 | J154: =ROUND(I154*H154,2) -> 0 | N154: znížená | O154: 0.821 | P154: =O154*H154 -> 29.723484 | Q154: 0 | R154: =Q154*H154 -> 0 | S154: 0 | T154: =S154*H154 -> 0 | AR154: 4 | AT154: K | AU154: 2 | AY154: ROZPOCET | BE154: =IF(N154="základná",J154,0) -> 0 | BF154: =IF(N154="znížená",J154,0) -> 0 | BG154: =IF(N154="zákl. prenesená",J154,0) -> 0 | BH154: =IF(N154="zníž. prenesená",J154,0) -> 0 | BI154: =IF(N154="nulová",J154,0) -> 0 | BJ154: 2 | BK154: =ROUND(I154*H154,2) -> 0 | BL154: 4 | BM154: -1890879500
C155: 4 | D155: K | E155: 162501105.S | F155: Vodorovné premiestnenie výkopku po spevnenej ceste z horniny tr.1-4, do 100 m3,na vzdialenosť 25km | G155: m3 | H155: 36.204 | J155: =ROUND(I155*H155,2) -> 0 | N155: znížená | O155: 0.00737 | P155: =O155*H155 -> 0.26682348 | Q155: 0 | R155: =Q155*H155 -> 0 | S155: 0 | T155: =S155*H155 -> 0 | AR155: 4 | AT155: K | AU155: 2 | AY155: ROZPOCET | BE155: =IF(N155="základná",J155,0) -> 0 | BF155: =IF(N155="znížená",J155,0) -> 0 | BG155: =IF(N155="zákl. prenesená",J155,0) -> 0 | BH155: =IF(N155="zníž. prenesená",J155,0) -> 0 | BI155: =IF(N155="nulová",J155,0) -> 0 | BJ155: 2 | BK155: =ROUND(I155*H155,2) -> 0 | BL155: 4 | BM155: -1987185887
C156: 5 | D156: K | E156: 167101101.S | F156: Nakladanie neuľahnutého výkopku z hornín tr.1-4 do 100 m3 | G156: m3 | H156: 6.299 | J156: =ROUND(I156*H156,2) -> 0 | N156: znížená | O156: 0.617 | P156: =O156*H156 -> 3.886483 | Q156: 0 | R156: =Q156*H156 -> 0 | S156: 0 | T156: =S156*H156 -> 0 | AR156: 4 | AT156: K | AU156: 2 | AY156: ROZPOCET | BE156: =IF(N156="základná",J156,0) -> 0 | BF156: =IF(N156="znížená",J156,0) -> 0 | BG156: =IF(N156="zákl. prenesená",J156,0) -> 0 | BH156: =IF(N156="zníž. prenesená",J156,0) -> 0 | BI156: =IF(N156="nulová",J156,0) -> 0 | BJ156: 2 | BK156: =ROUND(I156*H156,2) -> 0 | BL156: 4 | BM156: -1591540814
C157: 6 | D157: K | E157: 171201201.S | F157: Uloženie sypaniny na skládky do 100 m3 | G157: m3 | H157: 29.905 | J157: =ROUND(I157*H157,2) -> 0 | N157: znížená | O157: 0.009 | P157: =O157*H157 -> 0.269145 | Q157: 0 | R157: =Q157*H157 -> 0 | S157: 0 | T157: =S157*H157 -> 0 | AR157: 4 | AT157: K | AU157: 2 | AY157: ROZPOCET | BE157: =IF(N157="základná",J157,0) -> 0 | BF157: =IF(N157="znížená",J157,0) -> 0 | BG157: =IF(N157="zákl. prenesená",J157,0) -> 0 | BH157: =IF(N157="zníž. prenesená",J157,0) -> 0 | BI157: =IF(N157="nulová",J157,0) -> 0 | BJ157: 2 | BK157: =ROUND(I157*H157,2) -> 0 | BL157: 4 | BM157: -1966578272
C158: 7 | D158: K | E158: 174101102.S | F158: Zásyp sypaninou v uzavretých priestoroch s urovnaním povrchu zásypu | G158: m3 | H158: 6.299 | J158: =ROUND(I158*H158,2) -> 0 | N158: znížená | O158: 1.172 | P158: =O158*H158 -> 7.382428 | Q158: 0 | R158: =Q158*H158 -> 0 | S158: 0 | T158: =S158*H158 -> 0 | AR158: 4 | AT158: K | AU158: 2 | AY158: ROZPOCET | BE158: =IF(N158="základná",J158,0) -> 0 | BF158: =IF(N158="znížená",J158,0) -> 0 | BG158: =IF(N158="zákl. prenesená",J158,0) -> 0 | BH158: =IF(N158="zníž. prenesená",J158,0) -> 0 | BI158: =IF(N158="nulová",J158,0) -> 0 | BJ158: 2 | BK158: =ROUND(I158*H158,2) -> 0 | BL158: 4 | BM158: -1600020916
D159: D | E159: 2 | F159: Zakladanie | J159: =BK159 -> 0 | P159: =SUM(P160:P184) -> 179.61566 | R159: =SUM(R160:R184) -> 87.492143 | T159: =SUM(T160:T184) -> 0 | AR159: 1 | AT159: D | AU159: 1 | AY159: ROZPOCET | BK159: =SUM(BK160:BK184) -> 0
C160: 8 | D160: K | E160: 273313611.S | F160: Betón základových dosiek, prostý tr. C 16/20 | G160: m3 | H160: 2.889 | J160: =ROUND(I160*H160,2) -> 0 | N160: znížená | O160: 0.61771 | P160: =O160*H160 -> 1.7845642 | Q160: 2.2375227 | R160: =Q160*H160 -> 6.4642031 | S160: 0 | T160: =S160*H160 -> 0 | AR160: 4 | AT160: K | AU160: 2 | AY160: ROZPOCET | BE160: =IF(N160="základná",J160,0) -> 0 | BF160: =IF(N160="znížená",J160,0) -> 0 | BG160: =IF(N160="zákl. prenesená",J160,0) -> 0 | BH160: =IF(N160="zníž. prenesená",J160,0) -> 0 | BI160: =IF(N160="nulová",J160,0) -> 0 | BJ160: 2 | BK160: =ROUND(I160*H160,2) -> 0 | BL160: 4 | BM160: 801444325
C161: 9 | D161: K | E161: 273313612.S | F161: Betón základových dosiek, prostý tr. C 20/25 | G161: m3 | H161: 9.957 | J161: =ROUND(I161*H161,2) -> 0 | N161: znížená | O161: 0.61771 | P161: =O161*H161 -> 6.1505385 | Q161: 2.2589982 | R161: =Q161*H161 -> 22.492845 | S161: 0 | T161: =S161*H161 -> 0 | AR161: 4 | AT161: K | AU161: 2 | AY161: ROZPOCET | BE161: =IF(N161="základná",J161,0) -> 0 | BF161: =IF(N161="znížená",J161,0) -> 0 | BG161: =IF(N161="zákl. prenesená",J161,0) -> 0 | BH161: =IF(N161="zníž. prenesená",J161,0) -> 0 | BI161: =IF(N161="nulová",J161,0) -> 0 | BJ161: 2 | BK161: =ROUND(I161*H161,2) -> 0 | BL161: 4 | BM161: 470082483
C162: 10 | D162: K | E162: 273321411.S | F162: Betón základových dosiek, železový (bez výstuže), tr. C 25/30, XC1(SK)-Cl0,4-Dmax16-S4 | G162: m3 | H162: 0.651 | J162: =ROUND(I162*H162,2) -> 0 | N162: znížená | O162: 0.619 | P162: =O162*H162 -> 0.402969 | Q162: 2.46356 | R162: =Q162*H162 -> 1.6037776 | S162: 0 | T162: =S162*H162 -> 0 | AR162: 4 | AT162: K | AU162: 2 | AY162: ROZPOCET | BE162: =IF(N162="základná",J162,0) -> 0 | BF162: =IF(N162="znížená",J162,0) -> 0 | BG162: =IF(N162="zákl. prenesená",J162,0) -> 0 | BH162: =IF(N162="zníž. prenesená",J162,0) -> 0 | BI162: =IF(N162="nulová",J162,0) -> 0 | BJ162: 2 | BK162: =ROUND(I162*H162,2) -> 0 | BL162: 4 | BM162: 26266434
C163: 11 | D163: K | E163: 273321511.S | F163: Betón základových dosiek, železový (bez výstuže), tr. C 30/37 | G163: m3 | H163: 0.403 | J163: =ROUND(I163*H163,2) -> 0 | N163: znížená | O163: 0.61891 | P163: =O163*H163 -> 0.24942073 | Q163: 2.3683327 | R163: =Q163*H163 -> 0.95443808 | S163: 0 | T163: =S163*H163 -> 0 | AR163: 4 | AT163: K | AU163: 2 | AY163: ROZPOCET | BE163: =IF(N163="základná",J163,0) -> 0 | BF163: =IF(N163="znížená",J163,0) -> 0 | BG163: =IF(N163="zákl. prenesená",J163,0) -> 0 | BH163: =IF(N163="zníž. prenesená",J163,0) -> 0 | BI163: =IF(N163="nulová",J163,0) -> 0 | BJ163: 2 | BK163: =ROUND(I163*H163,2) -> 0 | BL163: 4 | BM163: -1320460783
C164: 12 | D164: K | E164: 273351217.S | F164: Debnenie stien základových dosiek, zhotovenie-tradičné | G164: m2 | H164: 1.472 | J164: =ROUND(I164*H164,2) -> 0 | N164: znížená | O164: 0.788 | P164: =O164*H164 -> 1.159936 | Q164: 0.0097095 | R164: =Q164*H164 -> 0.014292384 | S164: 0 | T164: =S164*H164 -> 0 | AR164: 4 | AT164: K | AU164: 2 | AY164: ROZPOCET | BE164: =IF(N164="základná",J164,0) -> 0 | BF164: =IF(N164="znížená",J164,0) -> 0 | BG164: =IF(N164="zákl. prenesená",J164,0) -> 0 | BH164: =IF(N164="zníž. prenesená",J164,0) -> 0 | BI164: =IF(N164="nulová",J164,0) -> 0 | BJ164: 2 | BK164: =ROUND(I164*H164,2) -> 0 | BL164: 4 | BM164: 144887075
C165: 13 | D165: K | E165: 273351218.S | F165: Debnenie stien základových dosiek, odstránenie-tradičné | G165: m2 | H165: 1.472 | J165: =ROUND(I165*H165,2) -> 0 | N165: znížená | O165: 0.322 | P165: =O165*H165 -> 0.473984 | Q165: 0 | R165: =Q165*H165 -> 0 | S165: 0 | T165: =S165*H165 -> 0 | AR165: 4 | AT165: K | AU165: 2 | AY165: ROZPOCET | BE165: =IF(N165="základná",J165,0) -> 0 | BF165: =IF(N165="znížená",J165,0) -> 0 | BG165: =IF(N165="zákl. prenesená",J165,0) -> 0 | BH165: =IF(N165="zníž. prenesená",J165,0) -> 0 | BI165: =IF(N165="nulová",J165,0) -> 0 | BJ165: 2 | BK165: =ROUND(I165*H165,2) -> 0 | BL165: 4 | BM165: -494381204
C166: 14 | D166: K | E166: 273361821.S | F166: Výstuž základových dosiek z ocele B500 (10505) | G166: t | H166: 0.14 | J166: =ROUND(I166*H166,2) -> 0 | N166: znížená | O166: 34.372 | P166: =O166*H166 -> 4.81208 | Q166: 1.0189585 | R166: =Q166*H166 -> 0.14265419 | S166: 0 | T166: =S166*H166 -> 0 | AR166: 4 | AT166: K | AU166: 2 | AY166: ROZPOCET | BE166: =IF(N166="základná",J166,0) -> 0 | BF166: =IF(N166="znížená",J166,0) -> 0 | BG166: =IF(N166="zákl. prenesená",J166,0) -> 0 | BH166: =IF(N166="zníž. prenesená",J166,0) -> 0 | BI166: =IF(N166="nulová",J166,0) -> 0 | BJ166: 2 | BK166: =ROUND(I166*H166,2) -> 0 | BL166: 4 | BM166: 116095184
...

Sheet SO34.03
A1: ROZPOČET
A2: Stavba: 15709 - Nižná / Tr 110/22kV - komplexná rekonštrukcia
A3: Objekt: Zdravotechnická inštalácia / ZTI
A4: Časť: | C4: S05 - SO34 Budova spoločných prevádzok / ZTI
A6: Objednávateľ: Stredoslovenská distribučná, a.s.
A7: Zhotoviteľ: | E7: Spracoval: | F7: Vágner
A8: Miesto: Nižná, okres Tvrdošín, Žilinský kraj | E8: Dátum: | F8: =Obsah!Z3 -> 46174
A10: Č. | B10: Kód položky | C10: Popis | D10: MJ | E10: Množstvo celkom | F10: Cena jednotková | G10: Cena celkom | H10: Hmotnosť celkom
A11: 1 | B11: 2 | C11: 3 | D11: 4 | E11: 5 | F11: 6 | G11: 7 | H11: 8
B13: HSV | C13: Práce a dodávky HSV | G13: =G14+G24 -> 0 | H13: =H14+H24 -> 6.8794793
B14: 1 | C14: Zemné práce | G14: =SUM(G15:G23) -> 0 | H14: =SUM(H15:H23) -> 4.845
A15: 1 | B15: 132201101.S | C15: Výkop ryhy do šírky 600 mm v horn.3 do 100 m3 | D15: m3 | E15: 9.321 | G15: =F15*E15 -> 0 | H15: 0
A16: 2 | B16: 132201109.S | C16: Príplatok k cene za lepivosť pri hĺbení rýh šírky do 600 mm zapažených i nezapažených s urovnaním dna v hornine 3 | D16: m3 | E16: 2.796 | G16: =F16*E16 -> 0 | H16: 0
A17: 3 | B17: 162301101.S | C17: Vodorovné premiestnenie výkopku po spevnenej ceste z horniny tr.1-4, do 100 m3 na vzdialenosť do 500 m | D17: m3 | E17: 4.123 | G17: =F17*E17 -> 0 | H17: 0
A18: 4 | B18: 167101101.S | C18: Nakladanie neuľahnutého výkopku z hornín tr.1-4 do 100 m3 | D18: m3 | E18: 4.123 | G18: =F18*E18 -> 0 | H18: 0
A19: 5 | B19: 171201201.S | C19: Uloženie sypaniny na skládky do 100 m3 | D19: m3 | E19: 4.123 | G19: =F19*E19 -> 0 | H19: 0
A20: 6 | B20: 171206111.S | C20: Uloženie zemín schopných zúrodnenia alebo zemín výsypiek do násypov predpísaných tvarov s urovnaním | D20: m3 | E20: 4.123 | G20: =F20*E20 -> 0 | H20: 0
A21: 7 | B21: 174101001.S | C21: Zásyp sypaninou so zhutnením jám, šachiet, rýh, zárezov alebo okolo objektov do 100 m3 | D21: m3 | E21: 5.198 | G21: =F21*E21 -> 0 | H21: 0
A22: 8 | B22: 175101101.S | C22: Obsyp potrubia sypaninou z vhodných hornín 1 až 4 bez prehodenia sypaniny | D22: m3 | E22: 2.901 | G22: =F22*E22 -> 0 | H22: 0
A23: 9 | B23: 583310002700.S | C23: Štrkopiesok frakcia 0-8 mm | D23: t | E23: 4.845 | G23: =F23*E23 -> 0 | H23: 4.845
B24: 4 | C24: Vodorovné konštrukcie | G24: =G25 -> 0 | H24: =H25 -> 2.0344793
A25: 10 | B25: 451573111.S | C25: Lôžko pod potrubie, stoky a drobné objekty, v otvorenom výkope z piesku a štrkopiesku do 63 mm | D25: m3 | E25: 1.076 | G25: =F25*E25 -> 0 | H25: 2.0344793
B26: PSV | C26: Práce a dodávky PSV | G26: =SUM(G27,G34,G50,G77) -> 0 | H26: =H27+H34+H50+H77 -> 0.5546384
B27: 713 | C27: Izolácie tepelné | G27: =SUM(G28:G33) -> 0 | H27: =SUM(H28:H33) -> 0.06471072
A28: 11 | B28: 713482121.S | C28: Montáž trubíc z PE, hr.15-20 mm,vnút.priemer do 38 mm | D28: m | E28: 68.86 | G28: =F28*E28 -> 0 | H28: 0.0013772
A29: 12 | B29: 283310004700.S | C29: Izolačná PE trubica dxhr. 22x20 mm, nadrezaná, na izolovanie rozvodov vody, kúrenia, zdravotechniky | D29: m | E29: 37.352 | G29: =F29*E29 -> 0 | H29: 0.00037352
A30: 13 | B30: 283310004800.S | C30: Izolačná PE trubica dxhr. 28x20 mm, nadrezaná, na izolovanie rozvodov vody, kúrenia, zdravotechniky | D30: m | E30: 28.393 | G30: =F30*E30 -> 0 | H30: 0.00056786
A31: 14 | B31: 283310004900.S | C31: Izolačná PE trubica dxhr. 35x20 mm, nadrezaná, na izolovanie rozvodov vody, kúrenia, zdravotechniky | D31: m | E31: 5.049 | G31: =F31*E31 -> 0 | H31: 0.00020196
A32: 15 | B32: 713483010.S | C32: Montáž technickej izolácie samolepiacej rohože hr. 20 mm na potrubia s rovnou plochou | D32: m2 | E32: 13.509 | G32: =F32*E32 -> 0 | H32: 0.00027018
A33: 16 | B33: 356.016.00.1 | C33: Samolepiaca zvukovo-izolačná rohož Geberit Isol Flex: B=78cm | D33: ks | E33: 16 | G33: =F33*E33 -> 0 | H33: 0.06192
B34: 721 | C34: Zdravotechnika - vnútorná kanalizácia | G34: =SUM(G35:G49) -> 0 | H34: =SUM(H35:H49) -> 0.0792192
A35: 17 | B35: 721171309 | C35: Potrubie z rúr PE-HD GEBERIT Dxt 125x4,9 mm ležaté | D35: m | E35: 11.95 | G35: =F35*E35 -> 0 | H35: 0.023661
A36: 18 | B36: 721171570 | C36: Potrubie z rúr GEBERIT SILENT - PP zvislé Dxt 75x2,6 mm | D36: m | E36: 3.73 | G36: =F36*E36 -> 0 | H36: 0.0032451
A37: 19 | B37: 721171571 | C37: Potrubie z rúr GEBERIT SILENT - PP zvislé Dxt 110x3,6 mm | D37: m | E37: 19.3 | G37: =F37*E37 -> 0 | H37: 0.034547
A38: 20 | B38: 721171580 | C38: Potrubie z rúr GEBERIT SILENT - PP prípojné Dxt 50x2,0 mm | D38: m | E38: 15.17 | G38: =F38*E38 -> 0 | H38: 0.0048544
A39: 21 | B39: 721171581 | C39: Potrubie z rúr GEBERIT SILENT - PP prípojné Dxt 75x2,6 mm | D39: m | E39: 5.98 | G39: =F39*E39 -> 0 | H39: 0.0038272
A40: 22 | B40: 721171581 | C40: Potrubie z rúr GEBERIT SILENT - PP prípojné Dxt 90x2,6 mm | D40: m | E40: 4.6 | G40: =F40*E40 -> 0 | H40: 0.002944
A41: 23 | B41: 721171582 | C41: Potrubie z rúr GEBERIT SILENT - PP prípojné Dxt 110x3,6 mm | D41: m | E41: 2.3 | G41: =F41*E41 -> 0 | H41: 0.002875
A42: 24 | B42: 721172503.S | C42: Montáž čistiaceho kusu pre odhlučnené potrubia DN 110 | D42: ks | E42: 2 | G42: =F42*E42 -> 0 | H42: 0.000408
A43: 25 | B43: 390.527.14.1 | C43: Čistiaca tvarovka Geberit Silent-PP 90° s kruhovým servisným otvorom: d=110mm | D43: ks | E43: 2 | G43: =F43*E43 -> 0 | H43: 0.00168
A44: 26 | B44: 721274112.S | C44: Montáž ventilačných hlavíc - iných typov DN 100 | D44: ks | E44: 1 | G44: =F44*E44 -> 0 | H44: 2.55e-05
A45: 27 | B45: HL810 | C45: Vetracia sada HL810 DN110 | D45: ks | E45: 1 | G45: =F45*E45 -> 0 | H45: 0
A46: 28 | B46: 721290009.S | C46: Montáž privzdušňovacieho ventilu pre odpadové potrubia DN 75 | D46: ks | E46: 3 | G46: =F46*E46 -> 0 | H46: 1.2e-05
... A49: 31 | B49: 998721102.S | C49: Presun hmôt pre vnútornú kanalizáciu v objektoch výšky nad 6 do 12 m | D49: t | E49: 0.079 | G49: =F49*E49 -> 0 | H49: 0
B50: 722 | C50: Zdravotechnika - vnútorný vodovod | G50: =SUM(G51:G76) -> 0 | H50: =SUM(H51:H76) -> 0.05978567
A51: 32 | B51: 722171312 | C51: Plasthliníkové potrubie z viacvrstvových rúr PE Geberit Mepla v tyčiach spájané lisovaním dxt 20x2,5 mm | D51: m | E51: 36.62 | G51: =F51*E51 -> 0 | H51: 0.014648
A52: 33 | B52: 722171313 | C52: Plasthliníkové potrubie z viacvrstvových rúr PE Geberit Mepla v tyčiach spájané lisovaním dxt 26x3 mm | D52: m | E52: 27.29 | G52: =F52*E52 -> 0 | H52: 0.0125534
A53: 34 | B53: 722171314 | C53: Plasthliníkové potrubie z viacvrstvových rúr PE Geberit Mepla v tyčiach spájané lisovaním dxt 32x3 mm | D53: m | E53: 4.95 | G53: =F53*E53 -> 0 | H53: 0.002673
A54: 35 | B54: 722173181.S | C54: Montáž plasthliníkovej nástenky pre vodu lisovaním D 20 mm | D54: ks | E54: 14 | G54: =F54*E54 -> 0 | H54: 0.00042
A55: 36 | B55: 612.293.00.5 | C55: Nástenka Geberit Mepla , d=20mm, Rp=1/2" | D55: ks | E55: 14 | G55: =F55*E55 -> 0 | H55: 0.00252
A56: 37 | B56: 722221010.S | C56: Montáž guľového kohúta závitového priameho pre vodu G 1/2 | D56: ks | E56: 1 | G56: =F56*E56 -> 0 | H56: 2.267e-05
A57: 38 | B57: 551110004900.S | C57: Guľový uzáver 1/2" s manometrom | D57: ks | E57: 1 | G57: =F57*E57 -> 0 | H57: 8e-05
A58: 39 | B58: 722221015.S | C58: Montáž guľového kohúta závitového priameho pre vodu G 3/4 | D58: ks | E58: 3 | G58: =F58*E58 -> 0 | H58: 0.00015
A59: 40 | B59: 551110005000.S | C59: Guľový uzáver 3/4" | D59: ks | E59: 3 | G59: =F59*E59 -> 0 | H59: 0.0003
A60: 41 | B60: 722221020.S | C60: Montáž guľového kohúta závitového priameho pre vodu G 1 | D60: ks | E60: 2 | G60: =F60*E60 -> 0 | H60: 0.00010308
A61: 42 | B61: 551110005100.S | C61: Guľový uzáver 1" | D61: ks | E61: 2 | G61: =F61*E61 -> 0 | H61: 0.00118
A62: 43 | B62: 722221083.S | C62: Montáž guľového kohúta vypúšťacieho závitového G 3/4 | D62: ks | E62: 1 | G62: =F62*E62 -> 0 | H62: 4.548e-05
... A76: 57 | B76: 998722102.S | C76: Presun hmôt pre vnútorný vodovod v objektoch výšky nad 6 do 12 m | D76: t | E76: 0.057 | G76: =F76*E76 -> 0 | H76: 0
B77: 725 | C77: Zdravotechnika - zariaďovacie predmety | G77: =SUM(G78:G124) -> 0 | H77: =SUM(H78:H124) -> 0.35092281
A78: 58 | B78: 725149715.S | C78: Montáž predstenového systému záchodov do ľahkých stien s kovovou konštrukciou | D78: ks | E78: 4 | G78: =F78*E78 -> 0 | H78: 0
A79: 59 | B79: 552370000400 | C79: Predstenový systém DuoFix pre závesné WC, výška 1140 mm so splachovacou podomietkovou nádržou Sigma 80, plast | D79: ks | E79: 4 | G79: =F79*E79 -> 0 | H79: 0.06112
A80: 60 | B80: 725119410.S | C80: Montáž záchodovej misy keramickej zavesenej s rovným odpadom | D80: ks | E80: 4 | G80: =F80*E80 -> 0 | H80: 0.00068
A81: 61 | B81: 642360000500.S | C81: Misa záchodová keramická závesná so splachovacím okruhom | D81: ks | E81: 4 | G81: =F81*E81 -> 0 | H81: 0.0584
A82: 62 | B82: 725291112.S | C82: Montáž záchodového sedadla s poklopom | D82: ks | E82: 4 | G82: =F82*E82 -> 0 | H82: 0
A83: 63 | B83: 554330000300.S | C83: Záchodové sedadlo plastové s poklopom | D83: ks | E83: 4 | G83: =F83*E83 -> 0 | H83: 0.008
A84: 64 | B84: 725149760.S | C84: Montáž predstenového systému umývadiel do ľahkých stien s kovovou konštrukciou | D84: ks | E84: 3 | G84: =F84*E84 -> 0 | H84: 0
A85: 65 | B85: 111.480.00.2 | C85: Prvok Geberit Duofix pre umývadlo, 112 cm, stojančeková armatúra, s podomietkovou zápachovou uzávierkou | D85: KS | E85: 3 | G85: =F85*E85 -> 0 | H85: 0
A86: 66 | B86: 725219401.S | C86: Montáž umývadla keramického na skrutky do muriva, bez výtokovej armatúry | D86: ks | E86: 3 | G86: =F86*E86 -> 0 | H86: 0.00084
A87: 67 | B87: 642110004300.S | C87: Umývadlo keramické | D87: ks | E87: 3 | G87: =F87*E87 -> 0 | H87: 0.0423
A88: 68 | B88: 725829601.S | C88: Montáž batérie umývadlovej stojankovej, pákovej alebo klasickej s mechanickým ovládaním | D88: ks | E88: 3 | G88: =F88*E88 -> 0 | H88: 0.0003
A89: 69 | B89: 551450003800.S | C89: Batéria umývadlová stojanková páková | D89: ks | E89: 3 | G89: =F89*E89 -> 0 | H89: 0.006
... A124: 104 | B124: 998725102.S | C124: Presun hmôt pre zariaďovacie predmety v objektoch výšky nad 6 do 12 m | D124: t | E124: 0.351 | G124: =F124*E124 -> 0 | H124: 0
B125: VRN | C125: Práce a dodávky VRN | G125: =G126 -> 0 | H125: =H126+H133+H149+H176 -> 0
A126: 105 | B126: VRN-1 | C126: Ostatné (doprava, vplyvy, pridružené výkony, réžia, drobné montážne práce a materiál...) | D126: % | H126: 0
C127: Celkom | G127: =G13+G26+G125 -> 0 | H127: =H13+H26 -> 7.4341177

Sheet SO34.04
A1: 15709 – Nižná / Tr 110/22kV – komplexná rekonštrukcia
A2: SO 34 - Budova spoločných prevádzok; E34.3 Vzduchotechnika
A3: Orientačný rozpočet pre časť VZT a CHL, VP
A4: p.č. | B4: skrátený popis | C4: množstvo | E4: jednotková cena | G4: dodávka | H4: montáž
B5: Zar. č. 1 – Vetranie miestností č. 1.11 (Transformátor T21) a 1.12 (Transformátor T22) a Sklad 1.04
A6: 1.1 | B6: Exteriérová protidažďová mriežka, dverová, 600x700 mm | C6: 6 | D6: ks | G6: =E6*C6 -> 0 | H6: =G6*0.21 -> 0
B7: * s ochrannou sieťkou proti hmyzu
A8: 1.2 | B8: Spojovací a závesný materiál | C8: 1 | D8: kpl
A9: 1.3 | B9: Tesniaci a kotviaci materiál | C9: 1 | D9: kpl
A10: 1.4 | B10: Montážny materiál | C10: 1 | D10: kpl
B11: Spolu zariadenie č. 1
B13: Zar. č. 2 – Chladenie a vetranie m. č. 1.08 (Miestnosť vlastnej spotreby)
A14: 2.8 | B14: Kondenzačná jednotka Mitsubishi, typ: PUHZ-ZRP35VKA | C14: 2 | D14: ks | G14: =E14*C14 -> 0 | H14: =G14*0.21 -> 0
B15: Qchl: 3.5 kW; Quk: 4,0 kW; el. pripojenie: 230V / 0,92kW, hmotnosť: 40 kg
A16: 2.9 | B16: Vnútorná nástenná jednotka. Mitsubishi. typ: PKA-M50LAL | C16: 2 | D16: ks | G16: =E16*C16 -> 0 | H16: =G16*0.21 -> 0
B17: Qchl: 3.5 kW; Quk: 4,0 kW, hmotnosť: 10 kg
B18: Príslušenstvo zariadenia:
A19: 2.8a | B19: * nástenný ovládač | C19: 2 | D19: ks | G19: =E19*C19 -> 0 | H19: =G19*0.21 -> 0
B20: * adaptér pre ovládanie cez Modbus | C20: 2 | D20: ks | G20: =E20*C20 -> 0 | H20: =G20*0.21 -> 0
B21: * závesy | C21: 2 | D21: kpl | G21: =E21*C21 -> 0 | H21: =G21*0.21 -> 0
B22: * el. napájanie vnútornej jednotky cez komunikačný kábel
A23: 2.8c | B23: * ZTI: pripojenie na odvod kondenzátu, spádovaný vývod do exteriéru, PVC DN25 | C23: 7 | D23: bm | G23: =E23*C23 -> 0 | H23: =G23*0.21 -> 0
B24: * opatriť odvod v exteriéri kondenzátu odporoým vykurovacím káblom | C24: 1 | D24: kpl | G24: =E24*C24 -> 0 | H24: =G24*0.21 -> 0
B26: CHLADIVO, NAPÁJANIE A MONTÁŽ
B27: Doplnenie chladiva R410a | C27: 1 | D27: kpl | G27: =E27*C27 -> 0 | H27: =G27*0.21 -> 0
B28: Komunikačná a napájacia | C28: 1 | D28: kpl | G28: =E28*C28 -> 0 | H28: =G28*0.21 -> 0
B29: Montáž zariadení a ostatné bližšie nešpecifikované práce a náklady, súvisiace s montážou, kompletizáciou a spúšťaním chladenia | C29: 1 | D29: kpl | G29: =E29*C29 -> 0 | H29: =G29*0.21 -> 0
B31: KOVOVÉ DOPLNKOVÉ KONŠTRUKCIE
B32: Konzoly stenové; s nosnosťou do 50kg | C32: 1 | D32: kpl | G32: =E32*C32 -> 0 | H32: =G32*0.21 -> 0
B33: Montáž kovových doplnkových konštrukcií | C33: 1 | D33: kpl | G33: =E33*C33 -> 0 | H33: =G33*0.21 -> 0
B35: ROZVODY POTRUBIA CHL
B36: Medené potrubie predizolované ∅12,7 | C36: 25 | D36: bm | G36: =E36*C36 -> 0 | H36: =G36*0.21 -> 0
B37: Medené potrubie predizolované ∅6,35 | C37: 25 | D37: bm | G37: =E37*C37 -> 0 | H37: =G37*0.21 -> 0
B38: Ostatné bližšie nešpecifikované náklady súvisiace s kompletizáciou rozvodov | C38: 1 | D38: kpl | G38: =E38*C38 -> 0 | H38: =G38*0.21 -> 0
A40: 2.1 | B40: Odvodný ventilátor do kruhového potrubia | C40: 1 | D40: kpl | G40: =E40*C40 -> 0 | H40: =G40*0.21 -> 0
B41: Výrobca: Systemair Typ: K 250 L Sileo
B42: Qodvod = 650 m3/h
B43: El. pripojenie : 230 V / 0,158kW / 0,677 A
B44: m=4,6kg
B45: Príslušenstvo zariadenia:
A46: 2.1a | B46: * pružná rýchloupínacia spona FK250 | C46: 2 | D46: ks | G46: =E46*C46 -> 0 | H46: =G46*0.21 -> 0
A47: 2.1c | B47: * závesy | C47: 1 | D47: kpl | G47: =E47*C47 -> 0 | H47: =G47*0.21 -> 0
A48: 2.2 | B48: Výfuková mriežka exteriérová D=250 mm, s ochranným sitom | C48: 1 | D48: ks | G48: =E48*C48 -> 0 | H48: =G48*0.21 -> 0
A49: 2.3 | B49: Spätná klapka do kruhového potrubia, RSK 250 | C49: 1 | D49: ks | G49: =E49*C49 -> 0 | H49: =G49*0.21 -> 0
A50: 2.4 | B50: Tlmič hluku kruhový D250, L=900 mm, LDC 250-900, Systemair | C50: 2 | D50: ks | G50: =E50*C50 -> 0 | H50: =G50*0.21 -> 0
A51: 2.5 | B51: Odvodná hranatá výustka do kruhového potrubia NOVA-C-1-425x75-R1-V-ZN | C51: 4 | D51: ks | G51: =E51*C51 -> 0 | H51: =G51*0.21 -> 0
B52: * s potrubným nástavcom a reguláciou
A53: 2.6 | B53: Prívodná protidažďová mriežka sacia, na fasádu, 630x400 mm, Zn | C53: 1 | D53: ks | G53: =E53*C53 -> 0 | H53: =G53*0.21 -> 0
B54: * s ochrannou sieťkou proti hmyzu
B55: * s vymeniteľným filtrom vzduchu G3 | C55: 1 | D55: ks
A56: 2.9 | B56: Regulačná a uzatváracia klapka 630x400 mm, so servopohonom | C56: 1 | D56: ks | G56: =E56*C56 -> 0 | H56: =G56*0.21 -> 0
B57: * spriahnutá s chodom zariadenia č. 2.1
B59: POTRUBIE VZT
A60: 2.10 | B60: Potrubie VZT kruhové Spiro
B61: Do priemeru 160 mm | C61: 7 | D61: bm | G61: =E61*C61 -> 0 | H61: =G61*0.21 -> 0
B62: Do priemeru 250 mm | C62: 14 | D62: bm | G62: =E62*C62 -> 0 | H62: =G62*0.21 -> 0
B63: Tvarovky 15 %
A64: 2.11 | B64: Potrubie VZT Sk.1 hranaté
B65: Rozmer 630x400 mm | C65: 1 | D65: bm | G65: =E65*C65 -> 0 | H65: =G65*0.21 -> 0
B66: Tvarovky 15 %
A68: 2.12 | B68: Spojovací a závesný materiál | C68: 1 | D68: kpl | G68: =E68*C68 -> 0
A69: 2.13 | B69: Tesniaci a kotviaci materiál | C69: 1 | D69: kpl | G69: =E69*C69 -> 0
A70: 2.14 | B70: Montážny materiál | C70: 1 | D70: kpl | G70: =E70*C70 -> 0
B71: Spolu zariadenie č. 2
B73: Zar. č. 3 – Vetranie miestnoti m. č. 1.10 (Káblový priestor)
A74: 3.1 | B74: Odvodný ventilátor do hranatého potrubia | C74: 1 | D74: kpl | G74: =E74*C74 -> 0 | H74: =G74*0.21 -> 0
B75: Výrobca: Systemair Typ: K 250 L Sileo
B76: Qodvod = 750 m3/h
B77: El. pripojenie : 230V/0,158kW/0,677A
B78: m=4.6 kg
B79: * spúšťanie od termostatu + manualne + prevádzkový
B80: Príslušenstvo zariadenia:
A81: 3.1a | B81: * pružná rýchloupínacia spona FK250 | C81: 2 | D81: ks | G81: =E81*C81 -> 0 | H81: =G81*0.21 -> 0
A82: 3.1c | B82: * závesy | C82: 2 | D82: kpl | G82: =E82*C82 -> 0 | H82: =G82*0.21 -> 0
A83: 3.2 | B83: Výfuková mriežka exteriérová D=250 mm, s ochranným sitom | C83: 1 | D83: ks | G83: =E83*C83 -> 0 | H83: =G83*0.21 -> 0
A84: 3.3 | B84: Spätná klapka do kruhového potrubia, RSK 250 | C84: 1 | D84: ks | G84: =E84*C84 -> 0 | H84: =G84*0.21 -> 0
A85: 3.4 | B85: Tlmič hluku kruhový D250, L=900 mm, LDC 250-900, Systemair | C85: 2 | D85: ks | G85: =E85*C85 -> 0 | H85: =G85*0.21 -> 0
A86: 3.5 | B86: Odvodná hranatá výustka do kruhového potrubia NOVA-C-1-425x75-R1-V-ZN | C86: 4 | D86: ks | G86: =E86*C86 -> 0 | H86: =G86*0.21 -> 0
B87: * s potrubným nástavcom a reguláciou
A88: 3.6 | B88: Protidažďová mriežka sacia, stenová 630x400 mm, ochranná sieťka | C88: 1 | D88: ks | G88: =E88*C88 -> 0 | H88: =G88*0.21 -> 0
B89: * s ochrannou sieťkou proti hmyzu
B90: * s vymeniteľným filtrom vzduchu G3 | C90: 1 | D90: ks
A91: 3.7 | B91: Regulačná a uzatváracia klapka 630x400 mm, so servopohonom | C91: 1 | D91: ks | G91: =E91*C91 -> 0 | H91: =G91*0.21 -> 0
B92: * spriahnutá s chodom zariadenia č. 3.1
B94: POTRUBIA A IZOLÁCIE VZT
A95: 3.8 | B95: Potrubie VZT kruhové Spiro
B96: Do priemeru 160 mm | C96: 8 | D96: bm | G96: =E96*C96 -> 0 | H96: =G96*0.21 -> 0
B97: Do priemeru 250 mm | C97: 12 | D97: bm | G97: =E97*C97 -> 0 | H97: =G97*0.21 -> 0
B98: Tvarovky 15 %
A99: 3.9 | B99: Potrubie VZT Sk.1 hranaté
B100: Rozmer 630x400 mm | C100: 1 | D100: bm | G100: =E100*C100 -> 0 | H100: =G100*0.21 -> 0
B101: Tvarovky 15 %
A103: 3.10 | B103: Spojovací a závesný materiál | C103: 1 | D103: kpl
A104: 3.11 | B104: Tesniaci a kotviaci materiál | C104: 1 | D104: kpl
A105: 3.12 | B105: Montážny materiál | C105: 1 | D105: kpl
B106: Spolu zariadenie č. 3
B108: Zar. č. 4 – Chladenie a vetranie m. č. 2.03 (Technológia)
A109: 4.8 | B109: Kondenzačná jednotka Mitsubishi, typ: PUHZ-ZRP35VKA | C109: 2 | D109: ks | G109: =E109*C109 -> 0 | H109: =G109*0.21 -> 0
B110: Qchl: 3.5 kW; Quk: 4,0 kW; el. pripojenie: 230V / 0,92kW, hmotnosť: 40 kg
A111: 4.9 | B111: Vnútorná nástenná jednotka. Mitsubishi. typ: PKA-M50LAL | C111: 2 | D111: ks | G111: =E111*C111 -> 0 | H111: =G111*0.21 -> 0
...

Sheet SO34.05
L2: >> skryté stĺpce << | AT2: {8a0ad8f9-d107-4ef1-9877-3699258ff9f0}
AT3: 0
D4: KRYCÍ LIST ROZPOČTU | M4: v --- nižšie sa nachádzajú doplnkové a pomocné údaje k zostavám --- v | AT4: False
D6: Stavba:
E7: =_xlfn.CONCAT(Obsah!N1," ",Obsah!N2) -> 15709 - Nižná / Tr 110/22kV - komplexná rekonštrukcia
D8: Objekt:
E9: SO34.05 - BSP - Vykurovanie
D11: JKSO: | I11: ČS:
D12: Miesto: | F12: Nižná | I12: Dátum: | J12: =Obsah!Z3 -> 46174
D14: Objednávateľ: | I14: IČO:
E15: STREDOSLOVENSKÁ DISTRIBUČNÁ a.s. | I15: IČ DPH:
D17: Zhotoviteľ: | I17: IČO:
E18: určený výberom | I18: IČ DPH:
D20: Projektant: | I20: IČO:
E21: LiV-EPI, s.r.o. | I21: IČ DPH:
D23: Spracovateľ: | I23: IČO:
E24: Ing Mária Russinová | I24: IČ DPH:
D26: Poznámka:
D30: Cena bez DPH | J30: =ROUND(J119, 2) -> 0
F32: Základ dane | I32: Sadzba dane | J32: Výška dane
D33: DPH | E33: základná | F33: =ROUND((SUM(BE119:BE136)), 2) -> 0 | I33: 0.23 | J33: =ROUND(((SUM(BE119:BE136))*I33), 2) -> 0
E34: znížená | F34: =ROUND((SUM(BF119:BF136)), 2) -> 0 | I34: 0.23 | J34: =ROUND(((SUM(BF119:BF136))*I34), 2) -> 0
E35: zákl. prenesená | F35: =ROUND((SUM(BG119:BG136)), 2) -> 0 | I35: 0.23 | J35: =0 -> 0
E36: zníž. prenesená | F36: =ROUND((SUM(BH119:BH136)), 2) -> 0 | I36: 0.23 | J36: =0 -> 0
E37: nulová | F37: =ROUND((SUM(BI119:BI136)), 2) -> 0 | I37: 0 | J37: =0 -> 0
D39: Cena s DPH | G39: v | H39: EUR | J39: =SUM(J30:J37) -> 0
D50: Projektant | G50: Spracovateľ
D61: Dátum a podpis: | F61: Pečiatka | G61: Dátum a podpis: | J61: Pečiatka
D65: Objednávateľ | G65: Zhotoviteľ
D76: Dátum a podpis: | F76: Pečiatka | G76: Dátum a podpis: | J76: Pečiatka
C82: REKAPITULÁCIA ROZPOČTU
C84: Stavba:
E85: =E7 -> 15709 - Nižná / Tr 110/22kV - komplexná rekonštrukcia
C86: Objekt:
E87: =E9 -> SO34.05 - BSP - Vykurovanie
C89: Miesto: | F89: =F12 -> Nižná | I89: Dátum: | J89: =IF(J12="","",J12) -> 46174
C91: Objednávateľ: | F91: =E15 -> STREDOSLOVENSKÁ DISTRIBUČNÁ a.s. | I91: Projektant: | J91: =E21 -> LiV-EPI, s.r.o.
C92: Zhotoviteľ: | F92: =IF(E18="","",E18) -> určený výberom | I92: Spracovateľ: | J92: =E24 -> Ing Mária Russinová
C94: Kód dielu - Popis | J94: Cena celkom [EUR]
C96: Náklady z rozpočtu | J96: =J119 -> 0 | AU96: -1
D97: PSV - Práce a dodávky PSV | J97: =J120 -> 0
D98: 735 - Ústredné kúrenie - vykurovacie telesá | J98: =J121 -> 0
D99: Investičné náklady | J99: =J132 -> 0
C106: ROZPOČET
C108: Stavba:
E109: =E7 -> 15709 - Nižná / Tr 110/22kV - komplexná rekonštrukcia
C110: Objekt:
E111: =E9 -> SO34.05 - BSP - Vykurovanie
C113: Miesto: | F113: =F12 -> Nižná | I113: Dátum: | J113: =IF(J12="","",J12) -> 46174
C115: Objednávateľ: | F115: =E15 -> STREDOSLOVENSKÁ DISTRIBUČNÁ a.s. | I115: Projektant: | J115: =E21 -> LiV-EPI, s.r.o.
C116: Zhotoviteľ: | F116: =IF(E18="","",E18) -> určený výberom | I116: Spracovateľ: | J116: =E24 -> Ing Mária Russinová
C118: PČ | D118: Typ | E118: Kód | F118: Popis | G118: MJ | H118: Množstvo | I118: J.cena [EUR] | J118: Cena celkom [EUR] | K118: Cenová sústava | N118: DPH | O118: J. Nh [h] | P118: Nh celkom [h] | Q118: J. hmotnosť [t] | R118: Hmotnosť celkom [t] | S118: J. suť [t] | T118: Suť Celkom [t]
C119: Náklady z rozpočtu | J119: =AD121+AD132 -> 0 | P119: =P120 -> #REF! | R119: =R120 -> #REF! | T119: =T120 -> #REF! | AU119: -1
D120: D | E120: PSV | F120: Práce a dodávky PSV | J120: =AD121 -> 0 | P120: =P121+P126+P136+#REF! -> #REF! | R120: =R121+R126+R136+#REF! -> #REF! | T120: =T121+T126+T136+#REF! -> #REF!
D121: D | E121: 735 | F121: Ústredné kúrenie - vykurovacie telesá | J121: =AD121 -> 0 | P121: =SUM(P122:P125) -> 0.305 | R121: =SUM(R122:R125) -> 0 | T121: =SUM(T122:T125) -> 0 | AD121: =SUM(J122:J131) -> 0
C122: 8 | D122: K | E122: 735413050.S | F122: Montáž konvektora nástenného výšky 450 mm šírky 120 mm dĺžky 1000-1400 mm | G122: súb. | H122: 22 | J122: =ROUND(I122*H122,2) -> 0 | N122: znížená | O122: 0.01 | P122: =O122*H122 -> 0.22 | Q122: 0 | R122: =Q122*H122 -> 0 | S122: 0 | T122: =S122*H122 -> 0
C123: 13 | D123: M | E123: 200283 | F123: Atlantic F120-D elektrický konvektor 2,5kW, nástenný , biely s pevným pripojením na elektrickú sieť | G123: ks | H123: 1 | J123: =ROUND(I123*H123,2) -> 0
C124: 14 | D124: M | E124: 200283 | F124: Atlantic F120-D elektrický konvektor 2,0kW, nástenný , biely s pevným pripojením na elektrickú sieť | G124: ks | H124: 9 | J124: =ROUND(I124*H124,2) -> 0
C125: 15 | D125: M | E125: 200284 | F125: Atlantic F120-D elektrický konvektor 1,5kW, nástenný , biely s pevným pripojením na elektrickú sieť | G125: ks | H125: 5 | J125: =ROUND(I125*H125,2) -> 0 | N125: znížená | O125: 0.017 | P125: =O125*H125 -> 0.085 | Q125: 0 | R125: =Q125*H125 -> 0 | S125: 0 | T125: =S125*H125 -> 0
C126: 16 | D126: M | E126: 200285 | F126: Atlantic F120-D elektrický konvektor 1,0kW, nástenný , biely s pevným pripojením na elektrickú sieť | G126: ks | H126: 4 | J126: =ROUND(I126*H126,2) -> 0 | P126: =SUM(P127:P135) -> 18.69141 | R126: =SUM(R127:R135) -> 61.780382 | T126: =SUM(T127:T135) -> 0
C127: 17 | D127: M | E127: 200286 | F127: Atlantic F120-D elektrický konvektor 0,5kW, nástenný , biely s pevným pripojením na elektrickú sieť | G127: ks | H127: 3 | J127: =ROUND(I127*H127,2) -> 0 | N127: znížená | O127: 1.1318 | P127: =O127*H127 -> 3.3954 | Q127: 2.07 | R127: =Q127*H127 -> 6.21 | S127: 0 | T127: =S127*H127 -> 0
C128: 12 | D128: K | E128: 998735201.S | F128: Presun hmôt pre vykurovacie telesá v objektoch výšky do 6 m | G128: % | J128: =ROUND(I128*H128,2) -> 0 | N128: znížená | O128: 1.1318 | P128: =O128*H128 -> 0 | Q128: 2.07 | R128: =Q128*H128 -> 0 | S128: 0 | T128: =S128*H128 -> 0
C129: 11 | D129: K | E129: K144 | F129: Dopravné a skladové náklady | G129: ks | H129: 1 | J129: =ROUND(I129*H129,2) -> 0 | N129: znížená | O129: 1.08868 | P129: =O129*H129 -> 1.08868 | Q129: 1.932 | R129: =Q129*H129 -> 1.932 | S129: 0 | T129: =S129*H129 -> 0
C130: 18 | D130: K | E130: K145 | F130: Dopojenie na elektro | G130: ks | H130: 22 | J130: =ROUND(I130*H130,2) -> 0 | N130: znížená | O130: 0.61771 | P130: =O130*H130 -> 13.58962 | Q130: 2.3364027 | R130: =Q130*H130 -> 51.400859 | S130: 0 | T130: =S130*H130 -> 0
C131: 19 | D131: K | E131: K146 | F131: Revízia elektro | G131: ks | H131: 1 | J131: =ROUND(I131*H131,2) -> 0 | N131: znížená | O131: 0.61771 | P131: =O131*H131 -> 0.61771 | Q131: 2.2375227 | R131: =Q131*H131 -> 2.2375227 | S131: 0 | T131: =S131*H131 -> 0
D132: D | E132: VRN | F132: Investičné náklady neobsiahnuté v cenách | J132: =AD132 -> 0 | N132: znížená | O132: 0.788 | P132: =O132*H132 -> 0 | Q132: 0.00376776 | R132: =Q132*H132 -> 0 | S132: 0 | T132: =S132*H132 -> 0 | AD132: =SUM(J133:J135) -> 0
C133: =C131+1 -> 20 | D133: K | E133: 000900011.S1 | F133: Prevádzkové vplyvy | G133: % | J133: =ROUND(I133*H133,2) -> 0 | N133: znížená | O133: 0.322 | P133: =O133*H133 -> 0 | Q133: 0 | R133: =Q133*H133 -> 0 | S133: 0 | T133: =S133*H133 -> 0
C134: =C133+1 -> 21 | D134: K | E134: 000900011.S2 | F134: Ostatné vplyvy | G134: % | J134: =ROUND(I134*H134,2) -> 0 | N134: znížená | O134: 0.04092 | P134: =O134*H134 -> 0 | Q134: 0.00157561 | R134: =Q134*H134 -> 0 | S134: 0 | T134: =S134*H134 -> 0
C135: =C134+1 -> 22 | D135: K | E135: 000900011.S3 | F135: Kompletačná činnosť | G135: % | J135: =ROUND(I135*H135,2) -> 0 | N135: znížená | O135: 0.28 | P135: =O135*H135 -> 0 | Q135: 0.0025635 | R135: =Q135*H135 -> 0 | S135: 0 | T135: =S135*H135 -> 0
P136: =SUM(#REF!) -> #REF! | R136: =SUM(#REF!) -> #REF! | T136: =SUM(#REF!) -> #REF!
AT144: D | AU144: -1 | BK144: =BK145+BK155 -> 0
AR145: 2 | AT145: D | AU145: 0 | AY145: ROZPOCET | BK145: =BK146 -> 0
AR146: 2 | AT146: D | AU146: 1 | AY146: ROZPOCET | BK146: =SUM(BK147:BK154) -> 0
AR147: 16 | AT147: K | AU147: 2 | AY147: ROZPOCET | BE147: =IF(N147="základná",J147,0) -> 0 | BF147: =IF(N147="znížená",J147,0) -> 0 | BG147: =IF(N147="zákl. prenesená",J147,0) -> 0 | BH147: =IF(N147="zníž. prenesená",J147,0) -> 0 | BI147: =IF(N147="nulová",J147,0) -> 0 | BJ147: 2 | BK147: =ROUND(I147*H147,2) -> 0 | BL147: 16 | BM147: 1948215678
AR148: 32 | AT148: M | AU148: 2 | AY148: ROZPOCET | BE148: =IF(N148="základná",J148,0) -> 0 | BF148: =IF(N148="znížená",J148,0) -> 0 | BG148: =IF(N148="zákl. prenesená",J148,0) -> 0 | BH148: =IF(N148="zníž. prenesená",J148,0) -> 0 | BI148: =IF(N148="nulová",J148,0) -> 0 | BJ148: 2 | BK148: =ROUND(I148*H148,2) -> 0 | BL148: 16 | BM148: 390806120
AR149: 32 | AT149: M | AU149: 2 | AY149: ROZPOCET | BE149: =IF(N149="základná",J149,0) -> 0 | BF149: =IF(N149="znížená",J149,0) -> 0 | BG149: =IF(N149="zákl. prenesená",J149,0) -> 0 | BH149: =IF(N149="zníž. prenesená",J149,0) -> 0 | BI149: =IF(N149="nulová",J149,0) -> 0 | BJ149: 2 | BK149: =ROUND(I149*H149,2) -> 0 | BL149: 16 | BM149: -1679489950
AR150: 32 | AT150: M | AU150: 2 | AY150: ROZPOCET | BE150: =IF(N150="základná",J150,0) -> 0 | BF150: =IF(N150="znížená",J150,0) -> 0 | BG150: =IF(N150="zákl. prenesená",J150,0) -> 0 | BH150: =IF(N150="zníž. prenesená",J150,0) -> 0 | BI150: =IF(N150="nulová",J150,0) -> 0 | BJ150: 2 | BK150: =ROUND(I150*H150,2) -> 0 | BL150: 16 | BM150: -1478452721
AR151: 16 | AT151: K | AU151: 2 | AY151: ROZPOCET | BE151: =IF(N151="základná",J151,0) -> 0 | BF151: =IF(N151="znížená",J151,0) -> 0 | BG151: =IF(N151="zákl. prenesená",J151,0) -> 0 | BH151: =IF(N151="zníž. prenesená",J151,0) -> 0 | BI151: =IF(N151="nulová",J151,0) -> 0 | BJ151: 2 | BK151: =ROUND(I151*H151,2) -> 0 | BL151: 16 | BM151: 1152337238
AR152: 16 | AT152: K | AU152: 2 | AY152: ROZPOCET | BE152: =IF(N152="základná",J152,0) -> 0 | BF152: =IF(N152="znížená",J152,0) -> 0 | BG152: =IF(N152="zákl. prenesená",J152,0) -> 0 | BH152: =IF(N152="zníž. prenesená",J152,0) -> 0 | BI152: =IF(N152="nulová",J152,0) -> 0 | BJ152: 2 | BK152: =ROUND(I152*H152,2) -> 0 | BL152: 16 | BM152: -1264482262
AR153: 16 | AT153: K | AU153: 2 | AY153: ROZPOCET | BE153: =IF(N153="základná",J153,0) -> 0 | BF153: =IF(N153="znížená",J153,0) -> 0 | BG153: =IF(N153="zákl. prenesená",J153,0) -> 0 | BH153: =IF(N153="zníž. prenesená",J153,0) -> 0 | BI153: =IF(N153="nulová",J153,0) -> 0 | BJ153: 2 | BK153: =ROUND(I153*H153,2) -> 0 | BL153: 16 | BM153: -673638945
AR154: 16 | AT154: K | AU154: 2 | AY154: ROZPOCET | BE154: =IF(N154="základná",J154,0) -> 0 | BF154: =IF(N154="znížená",J154,0) -> 0 | BG154: =IF(N154="zákl. prenesená",J154,0) -> 0 | BH154: =IF(N154="zníž. prenesená",J154,0) -> 0 | BI154: =IF(N154="nulová",J154,0) -> 0 | BJ154: 2 | BK154: =ROUND(I154*H154,2) -> 0 | BL154: 16 | BM154: -57500002
AR155: 5 | AT155: D | AU155: 0 | AY155: ROZPOCET | BK155: =SUM(BK156:BK158) -> 0
AR156: 1024 | AT156: K | AU156: 1 | AY156: ROZPOCET | BE156: =IF(N156="základná",J156,0) -> 0 | BF156: =IF(N156="znížená",J156,0) -> 0 | BG156: =IF(N156="zákl. prenesená",J156,0) -> 0 | BH156: =IF(N156="zníž. prenesená",J156,0) -> 0 | BI156: =IF(N156="nulová",J156,0) -> 0 | BJ156: 2 | BK156: =ROUND(I156*H156,2) -> 0 | BL156: 1024 | BM156: 754363026
AR157: 1024 | AT157: K | AU157: 1 | AY157: ROZPOCET | BE157: =IF(N157="základná",J157,0) -> 0 | BF157: =IF(N157="znížená",J157,0) -> 0 | BG157: =IF(N157="zákl. prenesená",J157,0) -> 0 | BH157: =IF(N157="zníž. prenesená",J157,0) -> 0 | BI157: =IF(N157="nulová",J157,0) -> 0 | BJ157: 2 | BK157: =ROUND(I157*H157,2) -> 0 | BL157: 1024 | BM157: 520705640
AR158: 1024 | AT158: K | AU158: 1 | AY158: ROZPOCET | BE158: =IF(N158="základná",J158,0) -> 0 | BF158: =IF(N158="znížená",J158,0) -> 0 | BG158: =IF(N158="zákl. prenesená",J158,0) -> 0 | BH158: =IF(N158="zníž. prenesená",J158,0) -> 0 | BI158: =IF(N158="nulová",J158,0) -> 0 | BJ158: 2 | BK158: =ROUND(I158*H158,2) -> 0 | BL158: 1024 | BM158: 1025063422

Sheet SO34_06
A1: =+TL!A13 -> VÝKAZ VÝMER | G1: celkový počet
A2: Stavba: | D2: =Obsah!N1 -> 15709 - Nižná / Tr 110/22kV
D3: =Obsah!N2 -> - komplexná rekonštrukcia
D4: =Obsah!N3
A5: Časť: | D5: =Obsah!B6 -> D. Dokumentácia stavebných objektov a prevádzkových súborov
A6: Objekt: | D6: =Obsah!B33 -> S05_SO34.06_Elektroinštalácia
A8: Stavebník: | D8: =Obsah!Z1 -> Stredoslovenská distribučná, a. s., Pri Rajčianke 2927/8, 010 47 Žilina | H8: Spracoval: | I8: Gyore
A9: Miesto: | D9: =Obsah!Z2 -> Tr 110/22 kV Nižná | H9: Dátum: | I9: =Obsah!Z3 -> 46174
A11: P.Č. | B11: Kód položky | C11: TTŠ / SAP | D11: Popis | E11: MJ | F11: Množstvo celkom | G11: Množstvo celkom | H11: Cena jednotková | I11: Cena celkom
B12: M | D12: Práce a dodávky M | I12: =SUM(I13,I19,I97,I204,I222) -> 0
B13: 21-D2 | D13: Dodávky zhotoviteľa | I13: =SUM(I14,I18) -> 0
D14: ROZVÁDZAČE | E14: kpl | F14: 1 | H14: =SUM(I15:I17) -> 0 | I14: =F14*H14 -> 0
A15: 1 | B15: Dod.-1.1 | D15: Rozvádzač RS34 (Obsah podľa ZSaZ) | E15: ks | F15: 1 | G15: =$F$14*F15 -> 1 | I15: =H15*F15 -> 0
A16: =A15+1 -> 2 | B16: Dod.-1.2 | D16: Rozvádzač DT34 (Obsah podľa ZSaZ) | E16: ks | F16: 1 | G16: =$F$14*F16 -> 1 | I16: =H16*F16 -> 0
A17: =A16+1 -> 3 | B17: Dod.-1.3 | D17: Miestna skrinka MX (Obsah podľa ZSaZ) | E17: ks | F17: 5 | G17: =$F$14*F17 -> 5 | I17: =H17*F17 -> 0
A18: =A17+1 -> 4 | B18: 21-MD | D18: Medzistavenisková doprava | E18: % | F18: =G18 -> 0 | H18: =SUM(I15:I17) -> 0 | I18: =(F18*H18)/100 -> 0
B19: 21-Mont | D19: Elektromontáže | I19: =SUM(I20:I96) -> 0
A20: =A18+1 -> 5 | B20: 210190052 | D20: Montáž rozvádzača skriňového, panelového za l pole - delený rozvádzač do váhy 300 kg | E20: ks | F20: 2 | G20: =F20 -> 2 | I20: =F20*H20 -> 0
A21: =A20+1 -> 6 | B21: 210190151 | D21: Montáž krabíc alebo skríň s prístrojmi do váhy 5 kg | E21: ks | F21: 5 | G21: =F21 -> 5 | I21: =F21*H21 -> 0
A22: =A21+1 -> 7 | B22: 210190151p | D22: Montáž krabíc alebo skríň s prístrojmi do váhy 5 kg, pre zásuvkovú skriňu | E22: ks | F22: 1 | G22: =F22 -> 1 | I22: =F22*H22 -> 0
A23: =A22+1 -> 8 | B23: 210201430 | D23: Zapojenie svietidla 1x svetelný zdroj, parkového a záhradného na stĺp LED | E23: ks | F23: 150 | G23: =F23 -> 150 | I23: =F23*H23 -> 0
A24: =A23+1 -> 9 | B24: 210111004 | D24: Zásuvka vstavaná 230 V / 16A vrátane zapojenia, vyhotovenie 3P | E24: ks | F24: 68 | G24: =F24 -> 68 | I24: =F24*H24 -> 0
A25: =A24+1 -> 10 | B25: 210111003 | D25: Zásuvka vstavaná 400 V / 16A vrátane zapojenia, vyhotovenie 4P, 5P | E25: ks | F25: 2 | G25: =F25 -> 2 | I25: =F25*H25 -> 0
A26: =A25+1 -> 11 | B26: 220733042 | D26: Montáž inštalačnej krabice na stenu | E26: ks | F26: 85 | G26: =F26 -> 85 | I26: =F26*H26 -> 0
A27: =A26+1 -> 12 | B27: 210110011 | D27: Jednopólový spínač - radenie 1, nástenný IP 55, vrátane zapojenia | E27: ks | F27: 9 | G27: =F27 -> 9 | I27: =F27*H27 -> 0
A28: =A27+1 -> 13 | B28: 210110012p | D28: Dvojpólový spínač - radenie 2, nástenný IP 55, vrátane zapojenia | E28: ks | F28: 1 | G28: =F28 -> 1 | I28: =F28*H28 -> 0
A29: =A28+1 -> 14 | B29: 210110012 | D29: Sériový spínač - radenie 5, nástenný IP 55 vrátane zapojenia | E29: ks | F29: 3 | G29: =F29 -> 3 | I29: =F29*H29 -> 0
A30: =A29+1 -> 15 | B30: 210110013 | D30: Sériový prepínač - radenie 6, nástenný IP 55 vrátane zapojenia | E30: ks | F30: 12 | G30: =F30 -> 12 | I30: =F30*H30 -> 0
A31: =A30+1 -> 16 | B31: 210110025 | D31: Krížový prepínač - radenie 7, nástenný IP 55 vrátane zapojenia | E31: ks | F31: 1 | G31: =F31 -> 1 | I31: =F31*H31 -> 0
A32: =A31+1 -> 17 | B32: 210110016 | D32: Tlačítko - radenie 1/0 nástenný IP 55, vrátane zapojenia | E32: ks | F32: 14 | G32: =F32 -> 14 | I32: =F32*H32 -> 0
A33: =A32+1 -> 18 | B33: Mont.-2 | D33: Montáž zariadení: - Priestorový termostat - Iskrovo bezpečný snímač teploty a vlhkosti - Snímač teploty a vlhkosti - Detektor úniku spáliteľných plynov - Siréna s optickou signalizáciou - Ponorná vodivostná sonda | E33: hod | F33: 25 | G33: =F33 -> 25 | I33: =F33*H33 -> 0
A34: =A33+1 -> 19 | B34: 210810065 | D34: Kábel medený silový uložený pevne 1-CYKY 0,6/1 kV 5x35 | E34: m | F34: 60 | G34: =F34 -> 60 | I34: =F34*H34 -> 0
A35: =A34+1 -> 20 | B35: 210800161 | D35: Kábel medený uložený pevne CYKY 450/750 V 5x6 | E35: m | F35: 130 | G35: =F35 -> 130 | I35: =F35*H35 -> 0
A36: =A35+1 -> 21 | B36: 210800147 | D36: Kábel medený uložený pevne CYKY 450/750 V 3x2,5 | E36: m | F36: 1950 | G36: =F36 -> 1950 | I36: =F36*H36 -> 0
A37: =A36+1 -> 22 | B37: 210800148 | D37: Kábel medený uložený pevne CYKY 450/750 V 3x4 | E37: m | F37: 190 | G37: =F37 -> 190 | I37: =F37*H37 -> 0
A38: =A37+1 -> 23 | B38: 210800164 | D38: Kábel medený uložený pevne CYKY 450/750 V 7x1,5 | E38: m | F38: 70 | G38: =F38 -> 70 | I38: =F38*H38 -> 0
A39: =A38+1 -> 24 | B39: 210800158 | D39: Kábel medený uložený pevne CYKY 450/750 V 5x1,5 | E39: m | F39: 236 | G39: =F39 -> 236 | I39: =F39*H39 -> 0
A40: =A39+1 -> 25 | B40: 210800146 | D40: Kábel medený uložený pevne CYKY 450/750 V 3x1,5 | E40: m | F40: 890 | G40: =F40 -> 890 | I40: =F40*H40 -> 0
A41: =A40+1 -> 26 | B41: 210800152 | D41: Kábel medený uložený pevne CYKY 450/750 V 4x1,5 | E41: m | F41: 560 | G41: =F41 -> 560 | I41: =F41*H41 -> 0
A42: =A41+1 -> 27 | B42: 210800140 | D42: Kábel medený uložený pevne CYKY 450/750 V 2x1,5 | E42: m | F42: 830 | G42: =F42 -> 830 | I42: =F42*H42 -> 0
A43: =A42+1 -> 28 | D43: Kábel medený silový uložený pevne 1-CYKFY 1 kV 19x1,5 | E43: m | F43: 50 | G43: =F43 -> 50 | I43: =F43*H43 -> 0
A44: =A43+1 -> 29 | B44: 210810185 | D44: Kábel medený silový uložený pevne 1-CYKFY 1 kV 7x1,5 | E44: m | F44: 8 | G44: =F44 -> 8 | I44: =F44*H44 -> 0
A45: =A44+1 -> 30 | B45: 210810182 | D45: Kábel medený silový uložený pevne 1-CYKFY 1 kV 5x1,5 | E45: m | F45: 8 | G45: =F45 -> 8 | I45: =F45*H45 -> 0
A46: =A45+1 -> 31 | B46: 220061531 | D46: Montáž(uloženie) do lôžka alebo žľabu návestných káblov TZEKEZE, TZEKEZY 3 P x 1,0 s jadrom CU 1,0 mm | E46: m | F46: 100 | G46: =F46 -> 100 | I46: =F46*H46 -> 0
A47: =A46+1 -> 32 | B47: 210810157 | D47: Kábel zemný medený silový uložený pevne 1-YY 0,6/1 kV 1x50 | E47: m | F47: 10 | G47: =F47 -> 10 | I47: =F47*H47 -> 0
A48: =A47+1 -> 33 | B48: 210881335 | D48: Kábel bezhalogénový, medený uložený pevne NHXH-FE 180/E30 0,6/1,0 kV 3x6 | E48: m | F48: 60 | G48: =F48 -> 60 | I48: =F48*H48 -> 0
A49: =A48+1 -> 34 | B49: 210881332 | D49: Kábel bezhalogénový, medený uložený pevne NHXH-FE 180/E30 0,6/1,0 kV 3x1,5 | E49: m | F49: 408 | G49: =F49 -> 408 | I49: =F49*H49 -> 0
A50: =A49+1 -> 35 | B50: 210452003 | D50: Montáž elektrického samoregulačného vykurovacieho kábla do polkruhového, alebo hranatého žľabu | E50: m | F50: 127 | G50: =F50 -> 127 | I50: =F50*H50 -> 0
A51: =A50+1 -> 36 | B51: 210452011 | D51: Montáž elektrického samoregulačného vykurovacieho kábla pre ochranu odkvapového zvodu | E51: m | F51: 117 | G51: =F51 -> 117 | I51: =F51*H51 -> 0
A52: =A51+1 -> 37 | B52: 210172206 | D52: Montáž skrine rozvádzača na konštrukciu | E52: ks | F52: 6 | G52: =F52 -> 6 | I52: =F52*H52 -> 0
A53: =A52+1 -> 38 | B53: 210452200 | D53: Montáž snímača pre strešné odkvapy a zvody pre elektrické vykurocacie káble | E53: ks | F53: 3 | G53: =F53 -> 3 | I53: =F53*H53 -> 0
A54: =A53+1 -> 39 | B54: 210100001 | D54: Ukončenie vodičov v rozvádzač. vč. zapojenia a vodičovej koncovky do 2.5 mm2 | E54: ks | F54: 700 | G54: =F54 -> 700 | I54: =F54*H54 -> 0
A55: =A54+1 -> 40 | B55: 210100002 | D55: Ukončenie vodičov v rozvádzač. vč. zapojenia a vodičovej koncovky do 6 mm2 | E55: ks | F55: 60 | G55: =F55 -> 60 | I55: =F55*H55 -> 0
... A60: =A59+1 -> 45 | B60: 210100259 | D60: Ukončenie celoplastových káblov zmrašť. záklopkou alebo páskou do 5 x 10 mm2 | E60: ks | F60: 8 | G60: =F60 -> 8 | I60: =F60*H60 -> 0
A61: =A60+1 -> 46 | B61: 210100259P | D61: Ukončenie celoplastových káblov zmrašť. záklopkou alebo páskou do 5 x 35 mm2 | E61: ks | F61: 2 | G61: =F61 -> 2 | I61: =F61*H61 -> 0
A62: =A61+1 -> 47 | B62: 210100262 | D62: Ukončenie celoplastových káblov zmrašť. záklopkou alebo páskou do 12 x 4 mm2 | E62: ks | F62: 4 | G62: =F62 -> 4 | I62: =F62*H62 -> 0
A63: =A62+1 -> 48 | B63: 210100301 | D63: Príplatok za ukončenie tienenia kábla (v plášti) vrátane zapojenia | E63: ks | F63: 6 | G63: =F63 -> 6 | I63: =F63*H63 -> 0
A64: =A63+1 -> 49 | B64: 210950101 | D64: Označovací štítok na kábel | E64: ks | F64: 300 | G64: =F64 -> 300 | I64: =F64*H64 -> 0
A65: =A64+1 -> 50 | B65: 210010026 | D65: Rúrka ohybná elektroinštalačná z PVC typ FXP 25, uložená pevne | E65: m | F65: 120 | G65: =F65 -> 120 | I65: =F65*H65 -> 0
A66: =A65+1 -> 51 | B66: 210010583 | D66: Rúrka tuhá elektroinštalačná z PVC, D 25 uložená pevne | E66: m | F66: 500 | G66: =F66 -> 500 | I66: =F66*H66 -> 0
A67: =A66+1 -> 52 | B67: 210010029 | D67: Rúrka ohybná elektroinštalačná z PVC typ FXKVR 50, uložená pevne | E67: m | F67: 40 | G67: =F67 -> 40 | I67: =F67*H67 -> 0
A68: =A67+1 -> 53 | B68: 210220453p | D68: Prepojenie rozvádzčov k FeZn | E68: ks | F68: 2 | G68: =F68 -> 2 | I68: =F68*H68 -> 0
A69: =A68+1 -> 54 | B69: Mont.-3 | D69: Zaťiahnutie káblového vedenia ponorných sond do FXKVR 50 | E69: hod | F69: 2 | G69: =F69 -> 2 | I69: =F69*H69 -> 0
A70: =A69+1 -> 55 | B70: 210222252 | D70: Svorka FeZn odbočovacia spojovacia SR 01, SR 02 (pásovina do 120 mm2), pre vonkajšie práce | E70: ks | F70: 55 | G70: =F70 -> 55 | I70: =F70*H70 -> 0
A71: =A70+1 -> 56 | B71: 210220002 | D71: Uzemňovacie vedenie na povrchu FeZn páska uzemňovacia do 120 mm2 | E71: m | F71: 280 | G71: =F71 -> 280 | I71: =F71*H71 -> 0
A72: =A71+1 -> 57 | B72: 210220005 | D72: Uzemňovacie vedenie na povrchu FeZn páska uzemňovacia do 300 mm2 | E72: m | F72: 125 | G72: =F72 -> 125 | I72: =F72*H72 -> 0
A73: =A72+1 -> 58 | B73: 210011316 | D73: Osadenie polyamidovej príchytky (hmoždinky) HM 16 do ostro pálených tehál, alebo stredne tvrdého kameňa | E73: ks | F73: 250 | G73: =F73 -> 250 | I73: =F73*H73 -> 0
A74: =A73+1 -> 59 | B74: Mont.-4 | D74: Montáž úchytu FeZN na stenu | E74: hod | F74: 25 | G74: =F74 -> 25 | I74: =F74*H74 -> 0
A75: =A74+1 -> 60 | B75: Mont.-5 | D75: Zvarovanie križujúceho sa zemňovacie vedenie v zemi FeZn (9ks) | E75: hod | F75: 4 | G75: =F75 -> 4 | I75: =F75*H75 -> 0
A76: =A75+1 -> 61 | B76: Mont.-6 | D76: Narezanie samolepiaca hydroizolácia na štvorce rozmeru 25x25cm (4m2) | E76: hod | F76: 4 | G76: =F76 -> 4 | I76: =F76*H76 -> 0
A77: =A76+1 -> 62 | B77: Mont.-7 | D77: Prelepenie zvarovaných spojov zemniaceho pásku lepenkou (9ks) | E77: hod | F77: 4 | G77: =F77 -> 4 | I77: =F77*H77 -> 0
A78: =A77+1 -> 63 | B78: Mont.-8 | D78: Vodorovný penetračnýnáter proti zemnej vlhkosti | E78: hod | F78: 4 | G78: =F78 -> 4 | I78: =F78*H78 -> 0
A79: =A78+1 -> 64 | B79: Mont.-9 | D79: Montáž pomocnej uzemňovacej prípojnice (17ks) | E79: hod | F79: 34 | G79: =F79 -> 34 | I79: =F79*H79 -> 0
A80: =A79+1 -> 65 | B80: 210220001 | D80: Uzemňovacie vedenie na povrchu FeZn drôt zvodový Ø 8-10 | E80: m | F80: 320 | G80: =F80 -> 320 | I80: =F80*H80 -> 0
A81: =A80+1 -> 66 | B81: Mont.-10 | D81: Podpery vedenia FeZn na hrebeňovú strechu | E81: ks | F81: 275 | G81: =F81 -> 275 | I81: =F81*H81 -> 0
A82: =A81+1 -> 67 | B82: Mont.-11 | D82: Zachytávacaia tyč | E82: ks | F82: 4 | G82: =F82 -> 4 | I82: =F82*H82 -> 0
A83: =A82+1 -> 68 | B83: Mont.-12 | D83: Podstavec k zachytávacej tyči | E83: ks | F83: 4 | G83: =F83 -> 4 | I83: =F83*H83 -> 0
A84: =A83+1 -> 69 | B84: 210220220 | D84: Držiak zachytávacej tyče FeZn DJ1-8 | E84: ks | F84: 4 | G84: =F84 -> 4 | I84: =F84*H84 -> 0
A85: =A84+1 -> 70 | B85: 210220247 | D85: Svorka FeZn skúšobná SZ | E85: ks | F85: 15 | G85: =F85 -> 15 | I85: =F85*H85 -> 0
A86: =A85+1 -> 71 | B86: 210220241 | D86: Svorka FeZn krížová SK a diagonálna krížová DKS | E86: ks | F86: 20 | G86: =F86 -> 20 | I86: =F86*H86 -> 0
A87: =A86+1 -> 72 | B87: 210220243 | D87: Svorka FeZn spojovacia SS | E87: ks | F87: 20 | G87: =F87 -> 20 | I87: =F87*H87 -> 0
A88: =A87+1 -> 73 | B88: 210220246 | D88: Svorka FeZn na odkvapový žľab SO | E88: ks | F88: 15 | G88: =F88 -> 15 | I88: =F88*H88 -> 0
A89: =A88+1 -> 74 | B89: 210220240 | D89: Svorka FeZn k zachytávacej, uzemňovacej tyči SJ | E89: ks | F89: 4 | G89: =F89 -> 4 | I89: =F89*H89 -> 0
A90: =A89+1 -> 75 | B90: 210220260 | D90: Ochranný uholník FeZn OU | E90: ks | F90: 15 | G90: =F90 -> 15 | I90: =F90*H90 -> 0
A91: =A90+1 -> 76 | B91: 210220242 | D91: Svorka FeZn rozpojovacia RS | E91: ks | F91: 30 | G91: =F91 -> 30 | I91: =F91*H91 -> 0
A92: =A91+1 -> 77 | B92: 210220250 | D92: Svorka FeZn univerzálna SU, SUA, SUB | E92: ks | F92: 20 | G92: =F92 -> 20 | I92: =F92*H92 -> 0
A93: =A92+1 -> 78 | B93: 210020901 | D93: Protipožiarna upchávka pod rozvádzač,jednoduchá | E93: m2 | F93: 2 | G93: =F93 -> 2 | I93: =F93*H93 -> 0
A94: =A93+1 -> 79 | B94: 21-NP-M | D94: Drobné montážne práce | E94: % | F94: =G94 -> 0 | H94: =SUM(I20:I93) -> 0 | I94: =(F94*H94)/100 -> 0
A95: =A94+1 -> 80 | B95: PPV-M | D95: Podiel pridružených výkonov | E95: % | F95: =G95 -> 0 | H95: =SUM(I20:I94) -> 0 | I95: =(F95*H95)/100 -> 0
A96: =A95+1 -> 81 | B96: 21-PD | D96: Presun dávok objednávateľa | E96: % | F96: =G96 -> 0 | H96: =SUM(I20:I93) -> 0 | I96: =(F96*H96)/100 -> 0
B97: 21-Mat | D97: Materiál | I97: =SUM(I98,I130,I164,I180,I197,I199,I202,I203) -> 0
D98: Svietidlá, vypínače, zásuvky, snímače atd. | E98: kpl | F98: 1 | H98: =SUM(I99:I129) -> 0 | I98: =H98*F98 -> 0
A99: =A96+1 -> 82 | B99: Mat.-1 | D99: Svietidlo priemyselné LED 4728 lm, 36W, 230V, EUROPA-LED-5100-236-4K, IP66 | E99: ks | F99: 49 | G99: =$F$98*F99 -> 49 | I99: =F99*H99 -> 0
A100: =A99+1 -> 83 | B100: Mat.-2 | D100: Svietidlo priemyselné LED 7092 lm, 54W, 230V, EUROPA-LED-7600-258-4K, IP66 | E100: ks | F100: 30 | G100: =$F$98*F100 -> 30 | I100: =F100*H100 -> 0
A101: =A100+1 -> 84 | B101: Mat.-3 | D101: Svietidlo prisadené LED 1477 lm, 13W, 230V, CORSO-LED-1850-4K, IP65 | E101: ks | F101: 10 | G101: =$F$98*F101 -> 10 | I101: =F101*H101 -> 0
A102: =A101+1 -> 85 | B102: Mat.-4 | D102: Priemyselné LED svietidlo, 15 W, 230V, POINTER-I-LED-1R-1800-4K, IP66 | E102: ks | F102: 2 | G102: =$F$98*F102 -> 2 | I102: =F102*H102 -> 0
A103: =A102+1 -> 86 | B103: Mat.-5 | D103: Priemyselné LED svietidlo otočné, 35 W, 230V, so snímačom pohybu COMBIAL 20-AM9R/3500-730 1G1W ET, IP65 | E103: ks | F103: 7 | G103: =$F$98*F103 -> 7 | I103: =F103*H103 -> 0
A104: =A103+1 -> 87 | B104: Mat.-6 | D104: Svietidlo LED, prevedenie Ex, 2362 lm, 28 W, 230V, EXTRA-Ex-LED-2500-218-4K, IP66 | E104: ks | F104: 6 | G104: =$F$98*F104 -> 6 | I104: =F104*H104 -> 0
A105: =A104+1 -> 88 | B105: Mat.-7 | D105: Priemyselné LED svietidlo pre náhradné osvetlenie, 2309lm, 22W, 110V DC, IP66 EUROPA-LED-2500-218-4K | E105: ks | F105: 20 | G105: =$F$98*F105 -> 20 | I105: =F105*H105 -> 0
A106: =A105+1 -> 89 | B106: Mat.-8 | D106: Núdzové LED svietidlo s piktogramom, 11W, 110V DC, IP65 | E106: ks | F106: 25 | G106: =$F$98*F106 -> 25 | I106: =F106*H106 -> 0
...

Sheet SO34.07
A1: =+TL!A13 -> VÝKAZ VÝMER | G1: celkový počet
A2: Stavba: | D2: =Obsah!N1 -> 15709 - Nižná / Tr 110/22kV
D3: =Obsah!N2 -> - komplexná rekonštrukcia
D4: =Obsah!N3
A5: Časť: | D5: =Obsah!B6 -> D. Dokumentácia stavebných objektov a prevádzkových súborov
A6: Objekt: | D6: =Obsah!B34 -> S05_SO34.07_Výzbroj káblových trás
A8: Stavebník: | D8: =Obsah!Z1 -> Stredoslovenská distribučná, a. s., Pri Rajčianke 2927/8, 010 47 Žilina | H8: Spracoval: | I8: Gyore
A9: Miesto: | D9: =Obsah!Z2 -> Tr 110/22 kV Nižná | H9: Dátum: | I9: =Obsah!Z3 -> 46174
A11: P.Č. | B11: Kód položky | C11: TTŠ / SAP | D11: Popis | E11: MJ | F11: Množstvo celkom | G11: Množstvo celkom | H11: Cena jednotková | I11: Cena celkom
B12: M | D12: Práce a dodávky M | I12: =SUM(I13,I20,I130,I133) -> 0
B13: 21-Mont | D13: Elektromontáže | I13: =SUM(I14:I19) -> 0
A14: 1 | B14: 210020310p | D14: Káblový rebrík a Drôtený žľab, pozink. vrátane príslušenstva, na výložníku bez veka | E14: m | F14: 324 | G14: =F14 -> 324 | I14: =H14*F14 -> 0
A15: 2 | B15: 210011310 | D15: Osadenie kotvy prievlakovej HM 8 do tvrdého kameňa, jednoduchého betónu a železobetónu | E15: ks | F15: 103 | G15: =F15 -> 103 | I15: =H15*F15 -> 0
A16: 3 | B16: 210011311 | D16: Osadenie kotvy prievlakovej HM 10 do tvrdého kameňa, jednoduchého betónu a železobetónu | E16: ks | F16: 48 | G16: =F16 -> 48 | I16: =H16*F16 -> 0
A17: 4 | B17: 210020801 | D17: Protipožiarná doska PROMATECT H (uložená do žlabu a na oddelenie VN vývodov od T101 T102) | E17: m2 | F17: 15.5 | G17: =F17 -> 15.5 | I17: =H17*F17 -> 0
A18: =A17+1 -> 5 | B18: 21-NP-M | D18: Drobné montážne práce | E18: % | F18: =G18 -> 0 | H18: =SUM(I14:I17) -> 0 | I18: =(F18*H18)/100 -> 0
A19: =A18+1 -> 6 | B19: PPV-M | D19: Podiel pridružených výkonov | E19: % | F19: =G19 -> 0 | H19: =SUM(I14:I18) -> 0 | I19: =(F19*H19)/100 -> 0
B20: 21-Mat | D20: Materiál | I20: =SUM(I21,I72,I94,I108,I125,I128:I129) -> 0
D21: Káblové trasy v BSP, 1kpl obsahuje: | E21: kpl | F21: 1 | H21: =SUM(I22:I71) -> 0 | I21: =H21*F21 -> 0
A22: =A19+1 -> 7 | B22: 1 | D22: Káblový žľab klik šírka 400mm, výška 60mm | E22: m | F22: 99 | G22: =F22*$F$21 -> 99 | I22: =H22*F22 -> 0
A23: =A22+1 -> 8 | B23: =B22+1 -> 2 | D23: Spojka káblového žľab | E23: ks | F23: 10 | G23: =F23*$F$21 -> 10 | I23: =H23*F23 -> 0
A24: =A23+1 -> 9 | B24: =B23+1 -> 3 | D24: Spojka káblového žľabu uhlová | E24: ks | F24: 30 | G24: =F24*$F$21 -> 30 | I24: =H24*F24 -> 0
A25: =A23+1 -> 9 | B25: =B24+1 -> 4 | D25: Spojka káblového žľabu otočná | E25: ks | F25: 40 | G25: =F25*$F$21 -> 40 | I25: =H25*F25 -> 0
A26: =A25+1 -> 10 | B26: =B25+1 -> 5 | D26: Koleno káblového žľabu 90° | E26: ks | F26: 3 | G26: =F26*$F$21 -> 3 | I26: =H26*F26 -> 0
A27: =A25+1 -> 10 | B27: =B26+1 -> 6 | D27: T-kus káblového žľabu | E27: ks | F27: 15 | G27: =F27*$F$21 -> 15 | I27: =H27*F27 -> 0
A28: =A27+1 -> 11 | B28: =B27+1 -> 7 | D28: C-uholník montážny | E28: ks | F28: 15 | G28: =F28*$F$21 -> 15 | I28: =H28*F28 -> 0
A29: =A27+1 -> 11 | B29: =B28+1 -> 8 | D29: C-uholník montážny | E29: ks | F29: 3 | G29: =F29*$F$21 -> 3 | I29: =H29*F29 -> 0
A30: =A29+1 -> 12 | B30: =B29+1 -> 9 | D30: Držiak prítlačný | E30: ks | F30: 220 | G30: =F30*$F$21 -> 220 | I30: =H30*F30 -> 0
A31: =A29+1 -> 12 | B31: =B30+1 -> 10 | D31: Skrutka (komplet) (100ks) | E31: bal. | F31: 3 | G31: =F31*$F$21 -> 3 | I31: =H31*F31 -> 0
A32: =A31+1 -> 13 | B32: =B31+1 -> 11 | D32: Skrutka (komplet) (100ks) | E32: bal. | F32: 1 | G32: =F32*$F$21 -> 1 | I32: =H32*F32 -> 0
A33: =A31+1 -> 13 | B33: =B32+1 -> 12 | D33: Podložka veľkoplošná (100ks) | E33: bal. | F33: 3 | G33: =F33*$F$21 -> 3 | I33: =H33*F33 -> 0
A34: =A33+1 -> 14 | B34: =B33+1 -> 13 | D34: Podložka veľkoplošná (100ks) | E34: bal. | F34: 2 | G34: =F34*$F$21 -> 2 | I34: =H34*F34 -> 0
A35: =A33+1 -> 14 | B35: =B34+1 -> 14 | D35: Skrutka do betónu - Zinc Flake | E35: ks | F35: 48 | G35: =F35*$F$21 -> 48 | I35: =H35*F35 -> 0
A36: =A35+1 -> 15 | B36: =B35+1 -> 15 | D36: Ochranná koncovka | E36: ks | F36: 270 | G36: =F36*$F$21 -> 270 | I36: =H36*F36 -> 0
A37: =A35+1 -> 15 | B37: =B36+1 -> 16 | D37: Výložník šírka 200mm | E37: ks | F37: 13 | G37: =F37*$F$21 -> 13 | I37: =H37*F37 -> 0
A38: =A37+1 -> 16 | B38: =B37+1 -> 17 | D38: Výložník šírka 400mm | E38: ks | F38: 56 | G38: =F38*$F$21 -> 56 | I38: =H38*F38 -> 0
A39: =A37+1 -> 16 | B39: =B38+1 -> 18 | D39: Výložník šírka 500mm | E39: ks | F39: 40 | G39: =F39*$F$21 -> 40 | I39: =H39*F39 -> 0
A40: =A39+1 -> 17 | B40: =B39+1 -> 19 | D40: Výložník šírka 300mm | E40: ks | F40: 6 | G40: =F40*$F$21 -> 6 | I40: =H40*F40 -> 0
A41: =A39+1 -> 17 | B41: =B40+1 -> 20 | D41: Výložník šírka 500mm | E41: ks | F41: 16 | G41: =F41*$F$21 -> 16 | I41: =H41*F41 -> 0
A42: =A41+1 -> 18 | B42: =B41+1 -> 21 | D42: Výložník šírka 700mm | E42: ks | F42: 23 | G42: =F42*$F$21 -> 23 | I42: =H42*F42 -> 0
A43: =A41+1 -> 18 | B43: =B42+1 -> 22 | D43: Výložník šírka 800mm | E43: ks | F43: 7 | G43: =F43*$F$21 -> 7 | I43: =H43*F43 -> 0
A44: =A43+1 -> 19 | B44: =B43+1 -> 23 | D44: Výložník šírka 900mm | E44: ks | F44: 2 | G44: =F44*$F$21 -> 2 | I44: =H44*F44 -> 0
A45: =A43+1 -> 19 | B45: =B44+1 -> 24 | D45: Skrutka (komplet) | E45: kpl. | F45: 140 | G45: =F45*$F$21 -> 140 | I45: =H45*F45 -> 0
A46: =A45+1 -> 20 | B46: =B45+1 -> 25 | D46: Skrutka s polg. hlavou kpl. (100ks) | E46: bal. | F46: 6 | G46: =F46*$F$21 -> 6 | I46: =H46*F46 -> 0
A47: =A45+1 -> 20 | B47: =B46+1 -> 26 | D47: Skrutka s polg. hlavou kpl. (100ks) | E47: bal. | F47: 3 | G47: =F47*$F$21 -> 3 | I47: =H47*F47 -> 0
A48: =A47+1 -> 21 | B48: =B47+1 -> 27 | D48: Dištančný plech | E48: ks | F48: 20 | G48: =F48*$F$21 -> 20 | I48: =H48*F48 -> 0
A49: =A47+1 -> 21 | B49: =B48+1 -> 28 | D49: Drôtený žľab šírka 200mm, výška 60mm | E49: m | F49: 24 | G49: =F49*$F$21 -> 24 | I49: =H49*F49 -> 0
A50: =A49+1 -> 22 | B50: =B49+1 -> 29 | D50: Skrutková spojka drôteného žľabu | E50: ks | F50: 50 | G50: =F50*$F$21 -> 50 | I50: =H50*F50 -> 0
A51: =A49+1 -> 22 | B51: =B50+1 -> 30 | D51: Výložník zosilený | E51: ks | F51: 19 | G51: =F51*$F$21 -> 19 | I51: =H51*F51 -> 0
A52: =A51+1 -> 23 | B52: =B51+1 -> 31 | D52: Výložník | E52: ks | F52: 12 | G52: =F52*$F$21 -> 12 | I52: =H52*F52 -> 0
A53: =A51+1 -> 23 | B53: =B52+1 -> 32 | D53: Kotva prievlaková | E53: ks | F53: 64 | G53: =F53*$F$21 -> 64 | I53: =H53*F53 -> 0
A54: =A53+1 -> 24 | B54: =B53+1 -> 33 | D54: Kotva prievlaková | E54: ks | F54: 3 | G54: =F54*$F$21 -> 3 | I54: =H54*F54 -> 0
A55: =A53+1 -> 24 | B55: =B54+1 -> 34 | D55: Skrutka (komplet) (100ks) | E55: bal. | F55: 1 | G55: =F55*$F$21 -> 1 | I55: =H55*F55 -> 0
A56: =A55+1 -> 25 | B56: =B55+1 -> 35 | D56: Rebrík šírka 400mm, výška 60mm | E56: m | F56: 12 | G56: =F56*$F$21 -> 12 | I56: =H56*F56 -> 0
A57: =A55+1 -> 25 | B57: =B56+1 -> 36 | D57: Rebrík šírka 200mm, výška 60mm | E57: m | F57: 21 | G57: =F57*$F$21 -> 21 | I57: =H57*F57 -> 0
A58: =A57+1 -> 26 | B58: =B57+1 -> 37 | D58: Držiak trojuholníkový | E58: ks | F58: 19 | G58: =F58*$F$21 -> 19 | I58: =H58*F58 -> 0
A59: =A57+1 -> 26 | B59: =B58+1 -> 38 | D59: Spojka rebríka | E59: ks | F59: 16 | G59: =F59*$F$21 -> 16 | I59: =H59*F59 -> 0
A60: =A59+1 -> 27 | B60: =B59+1 -> 39 | D60: Spojka rebríka otočná | E60: ks | F60: 4 | G60: =F60*$F$21 -> 4 | I60: =H60*F60 -> 0
A61: =A59+1 -> 27 | B61: =B60+1 -> 40 | D61: Spojka rebríka uhlová | E61: ks | F61: 10 | G61: =F61*$F$21 -> 10 | I61: =H61*F61 -> 0
A62: =A61+1 -> 28 | B62: =B61+1 -> 41 | D62: Zostava na upevnenie rebríka - žiar. | E62: ks | F62: 20 | G62: =F62*$F$21 -> 20 | I62: =H62*F62 -> 0
A63: =A61+1 -> 28 | B63: =B62+1 -> 42 | D63: Skrutka s rombovou mat. (kpl) - žiar.zinok | E63: ks | F63: 20 | G63: =F63*$F$21 -> 20 | I63: =H63*F63 -> 0
A64: =A63+1 -> 29 | B64: =B63+1 -> 43 | D64: Príchytka rebríka | E64: ks | F64: 36 | G64: =F64*$F$21 -> 36 | I64: =H64*F64 -> 0
A65: =A63+1 -> 29 | B65: =B64+1 -> 44 | D65: Strmeňová príchytka SONAP | E65: ks | F65: 20 | G65: =F65*$F$21 -> 20 | I65: =H65*F65 -> 0
A66: =A65+1 -> 30 | B66: =B65+1 -> 45 | D66: Strmeňová príchytka SONAP | E66: ks | F66: 20 | G66: =F66*$F$21 -> 20 | I66: =H66*F66 -> 0
A67: =A65+1 -> 30 | B67: =B66+1 -> 46 | D67: Káblová objímka 3x(24-36mm) | E67: ks | F67: 20 | G67: =F67*$F$21 -> 20 | I67: =H67*F67 -> 0
A68: =A67+1 -> 31 | B68: =B67+1 -> 47 | D68: Matica rombová - žiarový zinok | E68: ks | F68: 40 | G68: =F68*$F$21 -> 40 | I68: =H68*F68 -> 0
A69: =A67+1 -> 31 | B69: =B68+1 -> 48 | D69: Závitový kolík, M10 x 150 mm - žiar. Zinok | E69: ks | F69: 40 | G69: =F69*$F$21 -> 40 | I69: =H69*F69 -> 0
A70: =A69+1 -> 32 | B70: =B69+1 -> 49 | D70: Podložka (bal. 100ks) - žiarový zinok | E70: bal. | F70: 1 | G70: =F70*$F$21 -> 1 | I70: =H70*F70 -> 0
A71: =A69+1 -> 32 | B71: =B70+1 -> 50 | D71: Matica (100ks) - žiarový zinok | E71: bal. | F71: 1 | G71: =F71*$F$21 -> 1 | I71: =H71*F71 -> 0
D72: Káblové trasy v BSP osvetlenie, 1kpl obsahuje: | E72: kpl | F72: 1 | H72: =SUM(I73:I93) -> 0 | I72: =H72*F72 -> 0
A73: =A71+1 -> 33 | B73: =B71+1 -> 51 | D73: Káblový žľab klik šírka 100mm, výška 60mm | E73: m | F73: 204 | G73: =F73*$F$72 -> 204 | I73: =H73*F73 -> 0
A74: =A73+1 -> 34 | B74: =B73+1 -> 52 | D74: Koleno káblového žľabu 90° | E74: ks | F74: 5 | G74: =F74*$F$72 -> 5 | I74: =H74*F74 -> 0
A75: =A74+1 -> 35 | B75: =B74+1 -> 53 | D75: T-kus káblového žľabu | E75: ks | F75: 33 | G75: =F75*$F$72 -> 33 | I75: =H75*F75 -> 0
A76: =A75+1 -> 36 | B76: =B75+1 -> 54 | D76: Križovatka káblového žľabu | E76: ks | F76: 2 | G76: =F76*$F$72 -> 2 | I76: =H76*F76 -> 0
A77: =A76+1 -> 37 | B77: =B76+1 -> 55 | D77: Držiak nástenný-stropný | E77: ks | F77: 235 | G77: =F77*$F$72 -> 235 | I77: =H77*F77 -> 0
A78: =A77+1 -> 38 | B78: =B77+1 -> 56 | D78: Skrutka do betónu - Zinc Flake | E78: ks | F78: 85 | G78: =F78*$F$72 -> 85 | I78: =H78*F78 -> 0
A79: =A78+1 -> 39 | B79: =B78+1 -> 57 | D79: Kotva rýchloupínacia | E79: ks | F79: 15 | G79: =F79*$F$72 -> 15 | I79: =H79*F79 -> 0
A80: =A79+1 -> 40 | B80: =B79+1 -> 58 | D80: Zatĺkacia kotva | E80: ks | F80: 145 | G80: =F80*$F$72 -> 145 | I80: =H80*F80 -> 0
A81: =A80+1 -> 41 | B81: =B80+1 -> 59 | D81: Závitová tyč | E81: ks | F81: 150 | G81: =F81*$F$72 -> 150 | I81: =H81*F81 -> 0
A82: =A81+1 -> 42 | B82: =B81+1 -> 60 | D82: Podložka (100ks) | E82: bal. | F82: 5 | G82: =F82*$F$72 -> 5 | I82: =H82*F82 -> 0
A83: =A82+1 -> 43 | B83: =B82+1 -> 61 | D83: Matica (100ks) | E83: bal. | F83: 5 | G83: =F83*$F$72 -> 5 | I83: =H83*F83 -> 0
A84: =A83+1 -> 44 | B84: =B83+1 -> 62 | D84: Držiak prítlačný | E84: ks | F84: 17 | G84: =F84*$F$72 -> 17 | I84: =H84*F84 -> 0
A85: =A84+1 -> 45 | B85: =B84+1 -> 63 | D85: Spojka žľabu | E85: ks | F85: 20 | G85: =F85*$F$72 -> 20 | I85: =H85*F85 -> 0
... A93: =A92+1 -> 53 | B93: =B92+1 -> 71 | D93: Strmeňová príchytka SONAP | E93: ks | F93: 40 | G93: =F93*$F$72 -> 40 | I93: =H93*F93 -> 0
D94: Káblove trasy v miestnostiach T21 a T22, 1kpl obsahuje: | E94: kpl | F94: 1 | H94: =SUM(I95:I107) -> 0 | I94: =H94*F94 -> 0
A95: =A93+1 -> 54 | B95: =B93+1 -> 72 | D95: Rebrík šírka 600mm, výška 55mm | E95: m | F95: 18 | G95: =F95*$F$94 -> 18 | I95: =H95*F95 -> 0
A96: =A95+1 -> 55 | B96: =B95+1 -> 73 | D96: Spojka rebríka otočná | E96: ks | F96: 8 | G96: =F96*$F$94 -> 8 | I96: =H96*F96 -> 0
A97: =A96+1 -> 56 | B97: =B96+1 -> 74 | D97: C-uholník montážny | E97: ks | F97: 4 | G97: =F97*$F$94 -> 4 | I97: =H97*F97 -> 0
A98: =A97+1 -> 57 | B98: =B97+1 -> 75 | D98: Základňa stropná | E98: ks | F98: 8 | G98: =F98*$F$94 -> 8 | I98: =H98*F98 -> 0
A99: =A98+1 -> 58 | B99: =B98+1 -> 76 | D99: Kotva prievlaková | E99: ks | F99: 16 | G99: =F99*$F$94 -> 16 | I99: =H99*F99 -> 0
A100: =A99+1 -> 59 | B100: =B99+1 -> 77 | D100: Skrutka s polguľovou hlavou kpl. (100ks) | E100: bal. | F100: 1 | G100: =F100*$F$94 -> 1 | I100: =H100*F100 -> 0
A101: =A100+1 -> 60 | B101: =B100+1 -> 78 | D101: Ochranná krytka | E101: ks | F101: 16 | G101: =F101*$F$94 -> 16 | I101: =H101*F101 -> 0
A102: =A101+1 -> 61 | B102: =B101+1 -> 79 | D102: Káblová objímka 3x(24-36mm) | E102: ks | F102: 19 | G102: =F102*$F$94 -> 19 | I102: =H102*F102 -> 0
A103: =A102+1 -> 62 | B103: =B102+1 -> 80 | D103: Káblová objímka (16-27mm) | E103: ks | F103: 10 | G103: =F103*$F$94 -> 10 | I103: =H103*F103 -> 0
A104: =A103+1 -> 63 | B104: =B103+1 -> 81 | D104: Matica rombová - žiarový zinok | E104: ks | F104: 38 | G104: =F104*$F$94 -> 38 | I104: =H104*F104 -> 0
A105: =A104+1 -> 64 | B105: =B104+1 -> 82 | D105: Závitový kolík, M10 x 150 mm - žiar. zinok | E105: ks | F105: 38 | G105: =F105*$F$94 -> 38 | I105: =H105*F105 -> 0
A106: =A105+1 -> 65 | B106: =B105+1 -> 83 | D106: Podložka (bal. 100ks) - žiarový zinok | E106: bal. | F106: 1 | G106: =F106*$F$94 -> 1 | I106: =H106*F106 -> 0
A107: =A106+1 -> 66 | B107: =B106+1 -> 84 | D107: Matica (100ks) - žiarový zinok | E107: bal. | F107: 1 | G107: =F107*$F$94 -> 1 | I107: =H107*F107 -> 0
D108: Vertikálny káblový systém VN, 1kpl obsahuje: | E108: kpl | F108: 1 | H108: =SUM(I109:I124) -> 0 | I108: =H108*F108 -> 0
A109: =A107+1 -> 67 | B109: =B107+1 -> 85 | D109: C-uholník | E109: ks | F109: 10 | G109: =F109*$F$108 -> 10 | I109: =H109*F109 -> 0
...

Sheet SO34.08
A1: =+TL!A13 -> VÝKAZ VÝMER | G1: celkový počet
A2: Stavba: | D2: =Obsah!N1 -> 15709 - Nižná / Tr 110/22kV
D3: =Obsah!N2 -> - komplexná rekonštrukcia
D4: =Obsah!N3
A5: Časť: | D5: =Obsah!B6 -> D. Dokumentácia stavebných objektov a prevádzkových súborov
A6: Objekt: | D6: =Obsah!B35 -> S05_SO34.08_Systémové prestupy
A8: Stavebník: | D8: =Obsah!Z1 -> Stredoslovenská distribučná, a. s., Pri Rajčianke 2927/8, 010 47 Žilina | H8: Spracoval: | I8: Gyore
A9: Miesto: | D9: =Obsah!Z2 -> Tr 110/22 kV Nižná | H9: Dátum: | I9: =Obsah!Z3 -> 46174
A11: P.Č. | B11: Kód položky | C11: TTŠ / SAP | D11: Popis | E11: MJ | F11: Množstvo celkom | G11: Množstvo celkom | H11: Cena jednotková | I11: Cena celkom
B12: M | D12: Práce a dodávky M | I12: =SUM(I13,I20,I37,I40) -> 0
B13: 21-M | D13: Elektromontáže | I13: =SUM(I14:I19) -> 0
A14: 1 | B14: 210800515 | D14: Vodič medený uložený voľne H07V-U (CY) 450/750 V 16 | E14: m | F14: 7 | G14: =F14 -> 7 | I14: =H14*F14 -> 0 | J14: DODAVKA SSD
A15: =A14+1 -> 2 | B15: 210100003 | D15: Ukončenie vodičov v rozvádzač. vrátane zapojenia a vodičovej koncovky do 16 mm2 | E15: ks | F15: 28 | G15: =F15 -> 28 | I15: =H15*F15 -> 0 | J15: DODAVKA SSD
A16: =A15+1 -> 3 | B16: Mont.-1 | D16: Tesniaci prestup , poskladanie (14ks) | E16: hod | F16: =6*15 -> 90 | G16: =F16 -> 90 | I16: =H16*F16 -> 0 | J16: DODAVKA SSD
A17: =A16+1 -> 4 | B17: 210020901 | D17: Protipožiarna prepážka jednodochá, Mäkká upchávka | E17: m2 | F17: 7.79 | G17: =F17 -> 7.79 | I17: =H17*F17 -> 0 | J17: DODAVKA SSD
A18: =A17+1 -> 5 | B18: 21-NP-M | D18: Drobné montážne práce | E18: % | F18: =G18 -> 0 | H18: =SUM(I14:I17) -> 0 | I18: =H18*F18/100 -> 0 | J18: DODAVKA SSD
A19: =A18+1 -> 6 | B19: PPV-M | D19: Podiel pridružených výkonov | E19: % | F19: =G19 -> 0 | H19: =SUM(I14:I18) -> 0 | I19: =H19*F19/100 -> 0 | J19: DODAVKA SSD
B20: 21-Mat | D20: Materiál | I20: =SUM(I21,I31,I35:I36) -> 0 | J20: DODAVKA SSD
D21: Systémové prestupy Roxtec alebo alternatívny výrobca | E21: kpl | F21: 1 | H21: =SUM(I22:I30) -> 0 | I21: =H21*F21 -> 0 | J21: DODAVKA SSD
A22: =A19+1 -> 7 | B22: 1 | D22: Kruhový rám s požiarnou odolnosťou B-s1 Ø 200 mm, materiál: Nerez R 200 | E22: ks | F22: 14 | G22: =F22*$F$21 -> 14 | I22: =H22*F22 -> 0 | J22: DODAVKA SSD
A23: =A22+1 -> 8 | B23: =B22+1 -> 2 | D23: Tesniaci modul s požiarnou odolnosťou triedy B-s1, vode (IP68) a hlodavcom pre káble v rozsahu Ø 3-11 mm - RM 15 | E23: ks | F23: 32 | G23: =F23*$F$21 -> 32 | I23: =H23*F23 -> 0 | J23: DODAVKA SSD
A24: =A23+1 -> 9 | B24: =B23+1 -> 3 | D24: Tesniaci modul s požiarnou odolnosťou triedy B-s1, vode (IP68) a hlodavcom pre káble v rozsahu Ø 3,5-16,5 mm - RM 20W40 | E24: ks | F24: 36 | G24: =F24*$F$21 -> 36 | I24: =H24*F24 -> 0 | J24: DODAVKA SSD
A25: =A24+1 -> 10 | B25: =B24+1 -> 4 | D25: Tesniaci modul s požiarnou odolnosťou triedy B-s1, vode (IP68) a hlodavcom pre káble v rozsahu Ø 10-25 mm - RM 30 | E25: ks | F25: 60 | G25: =F25*$F$21 -> 60 | I25: =H25*F25 -> 0 | J25: DODAVKA SSD
A26: =A25+1 -> 11 | B26: =B25+1 -> 5 | D26: Tesniaci modul s požiarnou odolnosťou triedy B-s1, vode (IP68) a hlodavcom, rezerva - RM30/0 | E26: ks | F26: 28 | G26: =F26*$F$21 -> 28 | I26: =H26*F26 -> 0 | J26: DODAVKA SSD
A27: =A26+1 -> 12 | B27: =B26+1 -> 6 | D27: Tesniaci modul s požiarnou odolnosťou triedy B-s1, vode (IP68) a hlodavcom pre káble v rozsahu Ø 28-54 mm - RM 60 | E27: ks | F27: 9 | G27: =F27*$F$21 -> 9 | I27: =H27*F27 -> 0 | J27: DODAVKA SSD
A28: =A27+1 -> 13 | B28: =B27+1 -> 7 | D28: Tesniaci modul bez jadra s požiarnou odolnosťou triedy B-s1, vode (IP68) a hlodavcom pre káble v rozsahu Ø 28-54 mm - RM 60 WOC | E28: ks | F28: 15 | G28: =F28*$F$21 -> 15 | I28: =H28*F28 -> 0 | J28: DODAVKA SSD
A29: =A28+1 -> 14 | B29: =B28+1 -> 8 | D29: CY-J 1x16mm2 z/ž | E29: m | F29: 7 | G29: =F29*$F$21 -> 7 | I29: =H29*F29 -> 0 | J29: DODAVKA SSD
A30: =A29+1 -> 15 | B30: =B29+1 -> 9 | D30: Káblové oko pre vodič 16mm2 | E30: ks | F30: 28 | G30: =F30*$F$21 -> 28 | I30: =H30*F30 -> 0 | J30: DODAVKA SSD
D31: Protipožiarne prepážky | E31: kpl | F31: 1 | H31: =SUM(I32:I34) -> 0 | I31: =H31*F31 -> 0 | J31: DODAVKA SSD
A32: =A30+1 -> 16 | B32: =B30+1 -> 10 | D32: Protipožiarna prepážka jednoduchá, pre 2x2 rúr - Protipožiarná doska, hr. 25mm (2,43 m2) - Doska z mineralnej vlny, hr.50mm, min. 140 kg/m3, trieda reakcie na oheň A1 (1,13 m2) - Minerálna vlna, hr. 100mm, min. 40 kg/m3, trieda reakcie na oheň A1, hr.100mm) (0,33 m2) - Protipožiarny tmel (1400ml) - Protipožiarny náter, na vodnej báze (3,7 kg) | E32: ks | F32: 1 | G32: =F32*$F$31 -> 1 | I32: =H32*F32 -> 0 | J32: DODAVKA SSD
A33: =A32+1 -> 17 | B33: =B32+1 -> 11 | D33: Protipožiarna prepážka jednoduchá, pre 3x1 rúr - Protipožiarná doska, hr. 25mm (1,93 m2) - Doska z mineralnej vlny, hr.50mm, min. 140 kg/m3, trieda reakcie na oheň A1 (1,69 m2) - Minerálna vlna, hr. 100mm, min. 40 kg/m3, trieda reakcie na oheň A1, hr.100mm) (0,49 m2) - Protipožiarny tmel (1900ml) - Protipožiarny náter, na vodnej báze (5,2 kg) | E33: ks | F33: 2 | G33: =F33*$F$31 -> 2 | I33: =H33*F33 -> 0 | J33: DODAVKA SSD
A34: =A33+1 -> 18 | B34: =B33+1 -> 12 | D34: Protipožiarna prepážka jednoduchá, pre 4x1 rúr - Protipožiarná doska, hr. 25mm (1,5 m2) - Doska z mineralnej vlny, hr.50mm, min. 140 kg/m3, trieda reakcie na oheň A1 (1,70 m2) - Minerálna vlna, hr. 100mm, min. 40 kg/m3, trieda reakcie na oheň A1, hr.100mm) (0,45 m2) - Protipožiarny tmel (1700ml) - Protipožiarny náter, na vodnej báze (3,5 kg) | E34: ks | F34: 1 | G34: =F34*$F$31 -> 1 | I34: =H34*F34 -> 0 | J34: DODAVKA SSD
A35: =A34+1 -> 19 | B35: 21-M | D35: Podružný materiál | E35: % | F35: =G35 -> 0 | H35: =SUM(I21,I31) -> 0 | I35: =H35*F35/100 -> 0 | J35: DODAVKA SSD
A36: =A35+1 -> 20 | B36: 21-ZR | D36: Zásobovacia réžia | E36: % | F36: =G36 -> 0 | H36: =SUM(I35,I21,I31) -> 0 | I36: =H36*F36/100 -> 0 | J36: DODAVKA SSD
B37: 21-MCP | D37: Mimocenníkové položky | I37: =SUM(I38:I39) -> 0 | J37: DODAVKA SSD
A38: =A36+1 -> 21 | B38: MCP-1 | D38: Dopravné náklady poradcu na stavbu pre VN tesniac prestupu | E38: kpl | F38: 1 | G38: =F38 -> 1 | I38: =H38*F38 -> 0 | J38: DODAVKA SSD
A39: =A38+1 -> 22 | B39: MCP-2 | D39: Vypracovanie dielenskej dokumentácie | E39: hod | F39: 4 | G39: =F39 -> 4 | I39: =H39*F39 -> 0 | J39: DODAVKA SSD
B40: 21-HZS | D40: Zúčtovacie hodinové sadzby | I40: =SUM(I41:I44) -> 0 | J40: DODAVKA SSD
A41: =A39+1 -> 23 | B41: HZS-1 | D41: Individuálne skúšky | E41: hod | F41: 24 | G41: =F41 -> 24 | I41: =H41*F41 -> 0 | J41: DODAVKA SSD
A42: =A41+1 -> 24 | B42: HZS-2 | D42: Predkomplexné skúšky | E42: hod | F42: 8 | G42: =F42 -> 8 | I42: =H42*F42 -> 0 | J42: DODAVKA SSD
A43: =A42+1 -> 25 | B43: HZS-3 | D43: Komplexné skúšky | E43: hod | F43: 2 | G43: =F43 -> 2 | I43: =H43*F43 -> 0 | J43: DODAVKA SSD
A44: =A43+1 -> 26 | B44: HZS-4 | D44: Odborné prehliadky a odborné skúšky + revízne správy | E44: hod | F44: 16 | G44: =F44 -> 16 | I44: =H44*F44 -> 0 | J44: DODAVKA SSD
D45: Základné rozpočtové náklady: | I45: =I12 -> 0
A46: Vedľajšie rozpočtové náklady:
A47: =A44+1 -> 27 | B47: VRN-1 | D47: Ostatné (doprava, vplyvy (územia a prevádzkové), pridružené výkony, réžia, drobné montážne práce a materiál...) | E47: % | F47: =G47 -> 0 | H47: =$I$45 -> 0 | I47: =H47*F47/100 -> 0 | J47: DODAVKA SSD
D48: Vedľajšie rozpočtové náklady spolu: | I48: =SUM(I47:I47) -> 0
D50: Cena celkom v €, bez DPH | I50: =SUM(I48,I45) -> 0

Sheet SO36
L2: >> skryté stĺpce << | AT2: {b2a851f8-3cb7-40c2-b00e-d9516499835c}
AT3: 0
D4: KRYCÍ LIST ROZPOČTU | M4: v --- nižšie sa nachádzajú doplnkové a pomocné údaje k zostavám --- v | AT4: False
D6: Stavba:
E7: =_xlfn.CONCAT(Obsah!N1," ",Obsah!N2) -> 15709 - Nižná / Tr 110/22kV - komplexná rekonštrukcia
D8: Objekt:
E9: SO36 - Technologické domčeky - ASR
D11: JKSO: | I11: ČS:
D12: Miesto: | F12: Nižná | I12: Dátum: | J12: =Obsah!Z3 -> 46174
D14: Objednávateľ: | I14: IČO:
E15: STREDOSLOVENSKÁ DISTRIBUčNÁ a.s. | I15: IČ DPH:
D17: Zhotoviteľ: | I17: IČO:
E18: určený výberom | I18: IČ DPH:
D20: Projektant: | I20: IČO:
E21: LiV-EPI, s.r.o. | I21: IČ DPH:
D23: Spracovateľ: | I23: IČO:
E24: Ing Peter Lukačovič | I24: IČ DPH:
D26: Poznámka:
D30: Cena bez DPH | J30: =ROUND(J96, 2) -> 0
F32: Základ dane | I32: Sadzba dane | J32: Výška dane
D33: DPH | E33: základná | F33: =ROUND((SUM(BE124:BE136)), 2) -> 0 | I33: 0.23 | J33: =ROUND(((SUM(BE124:BE136))*I33), 2) -> 0
E34: znížená | F34: =ROUND(J30, 2) -> 0 | I34: 0.23 | J34: =ROUND((F34*I34), 2) -> 0
E35: zákl. prenesená | F35: =ROUND((SUM(BG124:BG136)), 2) -> 0 | I35: 0.23 | J35: =0 -> 0
E36: zníž. prenesená | F36: =ROUND((SUM(BH124:BH136)), 2) -> 0 | I36: 0.23 | J36: =0 -> 0
E37: nulová | F37: =ROUND((SUM(BI124:BI136)), 2) -> 0 | I37: 0 | J37: =0 -> 0
D39: Cena s DPH | G39: v | H39: EUR | J39: =SUM(J30:J37) -> 0
D50: Projektant | G50: Spracovateľ
D61: Dátum a podpis: | F61: Pečiatka | G61: Dátum a podpis: | J61: Pečiatka
D65: Objednávateľ | G65: Zhotoviteľ
D76: Dátum a podpis: | F76: Pečiatka | G76: Dátum a podpis: | J76: Pečiatka
C82: REKAPITULÁCIA ROZPOČTU
C84: Stavba:
E85: =E7 -> 15709 - Nižná / Tr 110/22kV - komplexná rekonštrukcia
C86: Objekt:
E87: =E9 -> SO36 - Technologické domčeky - ASR
C89: Miesto: | F89: =F12 -> Nižná | I89: Dátum: | J89: =IF(J12="","",J12) -> 46174
C91: Objednávateľ: | F91: =E15 -> STREDOSLOVENSKÁ DISTRIBUčNÁ a.s. | I91: Projektant: | J91: =E21 -> LiV-EPI, s.r.o.
C92: Zhotoviteľ: | F92: =IF(E18="","",E18) -> určený výberom | I92: Spracovateľ: | J92: =E24 -> Ing Peter Lukačovič
C94: Kód dielu - Popis | J94: Cena celkom [EUR]
C96: Náklady z rozpočtu | J96: =J97+J101+J103 -> 0 | AU96: -1
D97: HSV - Práce a dodávky HSV | J97: =J125 -> 0
D98: 1 - Zemné práce | J98: =J126 -> 0
D99: 2 - Zakladanie | J99: =J129 -> 0
D100: 99 - Presun hmôt HSV | J100: =J132 -> 0
D101: M - Práce a dodávky M | J101: =J134 -> 0
D102: 21-M - Elektromontáže | J102: =J135 -> 0
D103: VRN - Vedľajšie rozpočtové náklady | J103: =J137 -> 0
D104: =_xlfn.CONCAT(" ",F138) -> Ostatné (doprava, vplyvy, pridružené výkony, réžia, drobné montážne práce a materiál...) | J104: =J138 -> 0
C111: ROZPOČET
C113: Stavba:
E114: =E7 -> 15709 - Nižná / Tr 110/22kV - komplexná rekonštrukcia
C115: Objekt:
E116: =E9 -> SO36 - Technologické domčeky - ASR
C118: Miesto: | F118: =F12 -> Nižná | I118: Dátum: | J118: =IF(J12="","",J12) -> 46174
C120: Objednávateľ: | F120: =E15 -> STREDOSLOVENSKÁ DISTRIBUčNÁ a.s. | I120: Projektant: | J120: =E21 -> LiV-EPI, s.r.o.
C121: Zhotoviteľ: | F121: =IF(E18="","",E18) -> určený výberom | I121: Spracovateľ: | J121: =E24 -> Ing Peter Lukačovič
C123: PČ | D123: Typ | E123: Kód | F123: Popis | G123: MJ | H123: Množstvo | I123: J.cena [EUR] | J123: Cena celkom [EUR] | K123: Cenová sústava | N123: DPH | O123: J. Nh [h] | P123: Nh celkom [h] | Q123: J. hmotnosť [t] | R123: Hmotnosť celkom [t] | S123: J. suť [t] | T123: Suť Celkom [t]
C124: Náklady z rozpočtu | J124: =J125+J134+J137 -> 0 | P124: =P125+P134 -> 8.0478052 | R124: =R125+R134 -> 3.94128 | T124: =T125+T134 -> 0 | AT124: D | AU124: -1 | BK124: =BK125+BK134 -> 0
D125: D | E125: HSV | F125: Práce a dodávky HSV | J125: =BK125 -> 0 | P125: =P126+P129+P132 -> 5.8558052 | R125: =R126+R129+R132 -> 3.94128 | T125: =T126+T129+T132 -> 0 | AR125: 1 | AT125: D | AU125: 0 | AY125: ROZPOCET | BK125: =BK126+BK129+BK132 -> 0
D126: D | E126: 1 | F126: Zemné práce | J126: =BK126 -> 0 | P126: =SUM(P127:P128) -> 0.16184 | R126: =SUM(R127:R128) -> 0 | T126: =SUM(T127:T128) -> 0 | AR126: 1 | AT126: D | AU126: 1 | AY126: ROZPOCET | BK126: =SUM(BK127:BK128) -> 0
C127: 1 | D127: K | E127: 11110110 | F127: Výkaz výmer má informatívny charakter. Uchádzač vyhlasuje, že vykonal kontrolu podkladov v Zadaní tohto výberového konania, prepočítal si všetky množstvá a tieto ocenil v celom rozsahu. | H127: 0 | I127: 0 | J127: =ROUND(I127*H127,2) -> 0 | N127: znížená | O127: 0.01 | P127: =O127*H127 -> 0 | Q127: 0 | R127: =Q127*H127 -> 0 | S127: 0 | T127: =S127*H127 -> 0 | AR127: 4 | AT127: K | AU127: 2 | AY127: ROZPOCET | BE127: =IF(N127="základná",J127,0) -> 0 | BF127: =IF(N127="znížená",J127,0) -> 0 | BG127: =IF(N127="zákl. prenesená",J127,0) -> 0 | BH127: =IF(N127="zníž. prenesená",J127,0) -> 0 | BI127: =IF(N127="nulová",J127,0) -> 0 | BJ127: 2 | BK127: =ROUND(I127*H127,2) -> 0 | BL127: 4 | BM127: -381452520
C128: 2 | D128: K | E128: 181101102.S | F128: Úprava pláne v zárezoch v hornine 1-4 so zhutnením na Edef2=20 MPa | G128: m2 | H128: 9.52 | J128: =ROUND(I128*H128,2) -> 0 | N128: znížená | O128: 0.017 | P128: =O128*H128 -> 0.16184 | Q128: 0 | R128: =Q128*H128 -> 0 | S128: 0 | T128: =S128*H128 -> 0 | AR128: 4 | AT128: K | AU128: 2 | AY128: ROZPOCET | BE128: =IF(N128="základná",J128,0) -> 0 | BF128: =IF(N128="znížená",J128,0) -> 0 | BG128: =IF(N128="zákl. prenesená",J128,0) -> 0 | BH128: =IF(N128="zníž. prenesená",J128,0) -> 0 | BI128: =IF(N128="nulová",J128,0) -> 0 | BJ128: 2 | BK128: =ROUND(I128*H128,2) -> 0 | BL128: 4 | BM128: 1071783155
D129: D | E129: 2 | F129: Zakladanie | J129: =BK129 -> 0 | P129: =SUM(P130:P131) -> 2.1549472 | R129: =SUM(R130:R131) -> 3.94128 | T129: =SUM(T130:T131) -> 0 | AR129: 1 | AT129: D | AU129: 1 | AY129: ROZPOCET | BK129: =SUM(BK130:BK131) -> 0
C130: 3 | D130: K | E130: 271533011.S | F130: Násyp pod základové konštrukcie so zhutnením na Edef2= 65MPa z kameniva hrubého drveného fr. 4 - 8 mm | G130: m3 | H130: 0.476 | J130: =ROUND(I130*H130,2) -> 0 | N130: znížená | O130: 1.1318 | P130: =O130*H130 -> 0.5387368 | Q130: 2.07 | R130: =Q130*H130 -> 0.98532 | S130: 0 | T130: =S130*H130 -> 0 | AR130: 4 | AT130: K | AU130: 2 | AY130: ROZPOCET | BE130: =IF(N130="základná",J130,0) -> 0 | BF130: =IF(N130="znížená",J130,0) -> 0 | BG130: =IF(N130="zákl. prenesená",J130,0) -> 0 | BH130: =IF(N130="zníž. prenesená",J130,0) -> 0 | BI130: =IF(N130="nulová",J130,0) -> 0 | BJ130: 2 | BK130: =ROUND(I130*H130,2) -> 0 | BL130: 4 | BM130: -347327847
C131: 4 | D131: K | E131: 271533041.S | F131: Násyp pod základové konštrukcie so zhutnením na Edef2=65MPa z kameniva hrubého drveného fr. 16 - 32 mm | G131: m3 | H131: 1.428 | J131: =ROUND(I131*H131,2) -> 0 | N131: znížená | O131: 1.1318 | P131: =O131*H131 -> 1.6162104 | Q131: 2.07 | R131: =Q131*H131 -> 2.95596 | S131: 0 | T131: =S131*H131 -> 0 | AR131: 4 | AT131: K | AU131: 2 | AY131: ROZPOCET | BE131: =IF(N131="základná",J131,0) -> 0 | BF131: =IF(N131="znížená",J131,0) -> 0 | BG131: =IF(N131="zákl. prenesená",J131,0) -> 0 | BH131: =IF(N131="zníž. prenesená",J131,0) -> 0 | BI131: =IF(N131="nulová",J131,0) -> 0 | BJ131: 2 | BK131: =ROUND(I131*H131,2) -> 0 | BL131: 4 | BM131: 35007638
D132: D | E132: 99 | F132: Presun hmôt HSV | J132: =BK132 -> 0 | P132: =P133 -> 3.539018 | R132: =R133 -> 0 | T132: =T133 -> 0 | AR132: 1 | AT132: D | AU132: 1 | AY132: ROZPOCET | BK132: =BK133 -> 0
C133: 5 | D133: K | E133: 998011001.S | F133: Presun hmôt pre budovy (801, 803, 812), zvislá konštr. z tehál, tvárnic, z kovu výšky do 6 m | G133: t | H133: 3.941 | J133: =ROUND(I133*H133,2) -> 0 | N133: znížená | O133: 0.898 | P133: =O133*H133 -> 3.539018 | Q133: 0 | R133: =Q133*H133 -> 0 | S133: 0 | T133: =S133*H133 -> 0 | AR133: 4 | AT133: K | AU133: 2 | AY133: ROZPOCET | BE133: =IF(N133="základná",J133,0) -> 0 | BF133: =IF(N133="znížená",J133,0) -> 0 | BG133: =IF(N133="zákl. prenesená",J133,0) -> 0 | BH133: =IF(N133="zníž. prenesená",J133,0) -> 0 | BI133: =IF(N133="nulová",J133,0) -> 0 | BJ133: 2 | BK133: =ROUND(I133*H133,2) -> 0 | BL133: 4 | BM133: -1563483252
D134: D | E134: M | F134: Práce a dodávky M | J134: =BK134 -> 0 | P134: =P135 -> 2.192 | R134: =R135 -> 0 | T134: =T135 -> 0 | AR134: 3 | AT134: D | AU134: 0 | AY134: ROZPOCET | BK134: =BK135 -> 0
D135: D | E135: 21-M | F135: Elektromontáže | J135: =BK135 -> 0 | P135: =P136 -> 2.192 | R135: =R136 -> 0 | T135: =T136 -> 0 | AR135: 3 | AT135: D | AU135: 1 | AY135: ROZPOCET | BK135: =BK136 -> 0
C136: 6 | D136: K | E136: 210072420.S5 | F136: D+M Kompletná dodávka a montáž železobetonového prefabrikovaného technologického domčeka, 2,4x3,0x2,725+0,75, vrátane dverí a všetkého príslušenstva | G136: ks | H136: 1 | J136: =ROUND(I136*H136,2) -> 0 | N136: znížená | O136: 2.192 | P136: =O136*H136 -> 2.192 | Q136: 0 | R136: =Q136*H136 -> 0 | S136: 0 | T136: =S136*H136 -> 0 | AR136: 64 | AT136: K | AU136: 2 | AY136: ROZPOCET | BE136: =IF(N136="základná",J136,0) -> 0 | BF136: =IF(N136="znížená",J136,0) -> 0 | BG136: =IF(N136="zákl. prenesená",J136,0) -> 0 | BH136: =IF(N136="zníž. prenesená",J136,0) -> 0 | BI136: =IF(N136="nulová",J136,0) -> 0 | BJ136: 2 | BK136: =ROUND(I136*H136,2) -> 0 | BL136: 64 | BM136: -1012754050
D137: D | E137: VRN | F137: Vedľajšie rozpočtové náklady | J137: =J138 -> 0 | P137: =#REF!+#REF! -> #REF! | R137: =#REF!+#REF! -> #REF! | T137: =#REF!+#REF! -> #REF! | AR137: 5 | AT137: D | AU137: 0 | AY137: ROZPOCET | BK137: =BK138 -> 0
C138: 7 | D138: K | E138: VRN-1 | F138: Ostatné (doprava, vplyvy, pridružené výkony, réžia, drobné montážne práce a materiál...) | H138: 4 | J138: =H138*I138/100 -> 0 | N138: znížená | O138: 0 | P138: =O138*H138 -> 0 | Q138: 0 | R138: =Q138*H138 -> 0 | S138: 0 | T138: =S138*H138 -> 0 | AR138: 1024 | AT138: K | AU138: 2 | AY138: ROZPOCET | BE138: =IF(N138="základná",J138,0) -> 0 | BF138: =IF(N138="znížená",J138,0) -> 0 | BG138: =IF(N138="zákl. prenesená",J138,0) -> 0 | BH138: =IF(N138="zníž. prenesená",J138,0) -> 0 | BI138: =IF(N138="nulová",J138,0) -> 0 | BJ138: 2 | BK138: =ROUND(I138*H138,2)/100 -> 0 | BL138: 1024 | BM138: -567973459

Sheet SO36a
L2: >> skryté stĺpce << | AT2: {bfea1967-9d84-4a38-841a-9c5d53de72b7}
AT3: 0
D4: KRYCÍ LIST ROZPOČTU | M4: v --- nižšie sa nachádzajú doplnkové a pomocné údaje k zostavám --- v | AT4: False
D6: Stavba:
E7: =_xlfn.CONCAT(Obsah!N1," ",Obsah!N2) -> 15709 - Nižná / Tr 110/22kV - komplexná rekonštrukcia
D8: Objekt:
E9: SO36a - Technologické domčeky - UK
D11: JKSO: | I11: ČS:
D12: Miesto: | F12: Nižná | I12: Dátum: | J12: =Obsah!Z3 -> 46174
D14: Objednávateľ: | I14: IČO:
E15: STREDOSLOVENSKÁ DISTRIBUčNÁ a.s. | I15: IČ DPH:
D17: Zhotoviteľ: | I17: IČO:
E18: určený výberom | I18: IČ DPH:
D20: Projektant: | I20: IČO:
E21: LiV-EPI, s.r.o. | I21: IČ DPH:
D23: Spracovateľ: | I23: IČO:
E24: Ing Peter Lukačovič | I24: IČ DPH:
D26: Poznámka:
D30: Cena bez DPH | J30: =ROUND(J119, 2) -> 0
F32: Základ dane | I32: Sadzba dane | J32: Výška dane
D33: DPH | E33: základná | F33: =ROUND((SUM(BE119:BE129)), 2) -> 0 | I33: 0.23 | J33: =ROUND(((SUM(BE119:BE129))*I33), 2) -> 0
E34: znížená | F34: =ROUND((SUM(BF119:BF129)), 2) -> 0 | I34: 0.23 | J34: =ROUND(((SUM(BF119:BF129))*I34), 2) -> 0
E35: zákl. prenesená | F35: =ROUND((SUM(BG119:BG129)), 2) -> 0 | I35: 0.23 | J35: =0 -> 0
E36: zníž. prenesená | F36: =ROUND((SUM(BH119:BH129)), 2) -> 0 | I36: 0.23 | J36: =0 -> 0
E37: nulová | F37: =ROUND((SUM(BI119:BI129)), 2) -> 0 | I37: 0 | J37: =0 -> 0
D39: Cena s DPH | G39: v | H39: EUR | J39: =SUM(J30:J37) -> 0
D50: Projektant | G50: Spracovateľ
D61: Dátum a podpis: | F61: Pečiatka | G61: Dátum a podpis: | J61: Pečiatka
D65: Objednávateľ | G65: Zhotoviteľ
D76: Dátum a podpis: | F76: Pečiatka | G76: Dátum a podpis: | J76: Pečiatka
C82: REKAPITULÁCIA ROZPOČTU
C84: Stavba:
E85: =E7 -> 15709 - Nižná / Tr 110/22kV - komplexná rekonštrukcia
C86: Objekt:
E87: =E9 -> SO36a - Technologické domčeky - UK
C89: Miesto: | F89: =F12 -> Nižná | I89: Dátum: | J89: =IF(J12="","",J12) -> 46174
C91: Objednávateľ: | F91: =E15 -> STREDOSLOVENSKÁ DISTRIBUčNÁ a.s. | I91: Projektant: | J91: =E21 -> LiV-EPI, s.r.o.
C92: Zhotoviteľ: | F92: =IF(E18="","",E18) -> určený výberom | I92: Spracovateľ: | J92: =E24 -> Ing Peter Lukačovič
C94: Kód dielu - Popis | J94: Cena celkom [EUR]
C96: Náklady z rozpočtu | J96: =J119 -> 0 | AU96: -1
D97: M - Práce a dodávky M | J97: =J120 -> 0
D98: 21-M - Elektromontáže | J98: =J121 -> 0
D99: VRN - Vedľajšie rozpočtové náklady | J99: =J128 -> 0
C106: ROZPOČET
C108: Stavba:
E109: =E7 -> 15709 - Nižná / Tr 110/22kV - komplexná rekonštrukcia
C110: Objekt:
E111: =E9 -> SO36a - Technologické domčeky - UK
C113: Miesto: | F113: =F12 -> Nižná | I113: Dátum: | J113: =IF(J12="","",J12) -> 46174
C115: Objednávateľ: | F115: =E15 -> STREDOSLOVENSKÁ DISTRIBUčNÁ a.s. | I115: Projektant: | J115: =E21 -> LiV-EPI, s.r.o.
C116: Zhotoviteľ: | F116: =IF(E18="","",E18) -> určený výberom | I116: Spracovateľ: | J116: =E24 -> Ing Peter Lukačovič
C118: PČ | D118: Typ | E118: Kód | F118: Popis | G118: MJ | H118: Množstvo | I118: J.cena [EUR] | J118: Cena celkom [EUR] | K118: Cenová sústava | N118: DPH | O118: J. Nh [h] | P118: Nh celkom [h] | Q118: J. hmotnosť [t] | R118: Hmotnosť celkom [t] | S118: J. suť [t] | T118: Suť Celkom [t]
C119: Náklady z rozpočtu | J119: =BK119 -> 0 | P119: =P120+P128 -> 0 | R119: =R120+R128 -> 0 | T119: =T120+T128 -> 0 | AT119: D | AU119: -1 | BK119: =BK120+BK128 -> 0
D120: D | E120: M | F120: Práce a dodávky M | J120: =BK120 -> 0 | P120: =P121 -> 0 | R120: =R121 -> 0 | T120: =T121 -> 0 | AR120: 3 | AT120: D | AU120: 0 | AY120: ROZPOCET | BK120: =BK121 -> 0
D121: D | E121: 21-M | F121: Elektromontáže | J121: =BK121 -> 0 | P121: =SUM(P122:P127) -> 0 | R121: =SUM(R122:R127) -> 0 | T121: =SUM(T122:T127) -> 0 | AR121: 3 | AT121: D | AU121: 1 | AY121: ROZPOCET | BK121: =SUM(BK122:BK127) -> 0
C122: 1 | D122: M | E122: 200263 | F122: STIEBEL ELTRON CWM 1000 U elektrický konvektor 1,0 kW, nástenný biely s pevným pripojením na elektrickú sieť | G122: ks | H122: 1 | J122: =ROUND(I122*H122,2) -> 0 | N122: znížená | O122: 0 | P122: =O122*H122 -> 0 | Q122: 0 | R122: =Q122*H122 -> 0 | S122: 0 | T122: =S122*H122 -> 0 | AR122: 64 | AT122: K | AU122: 2 | AY122: ROZPOCET | BE122: =IF(N122="základná",J122,0) -> 0 | BF122: =IF(N122="znížená",J122,0) -> 0 | BG122: =IF(N122="zákl. prenesená",J122,0) -> 0 | BH122: =IF(N122="zníž. prenesená",J122,0) -> 0 | BI122: =IF(N122="nulová",J122,0) -> 0 | BJ122: 2 | BK122: =ROUND(I122*H122,2) -> 0 | BL122: 64 | BM122: 1218145788
C123: 2 | D123: K | E123: K001 | F123: Montážny materiál | G123: ks | H123: 1 | J123: =ROUND(I123*H123,2) -> 0 | N123: znížená | O123: 0 | P123: =O123*H123 -> 0 | Q123: 0 | R123: =Q123*H123 -> 0 | S123: 0 | T123: =S123*H123 -> 0 | AR123: 64 | AT123: K | AU123: 2 | AY123: ROZPOCET | BE123: =IF(N123="základná",J123,0) -> 0 | BF123: =IF(N123="znížená",J123,0) -> 0 | BG123: =IF(N123="zákl. prenesená",J123,0) -> 0 | BH123: =IF(N123="zníž. prenesená",J123,0) -> 0 | BI123: =IF(N123="nulová",J123,0) -> 0 | BJ123: 2 | BK123: =ROUND(I123*H123,2) -> 0 | BL123: 64 | BM123: -50465807
C124: 3 | D124: K | E124: K002 | F124: Oživenie, zaregulovanie a komplexné skúšky | G124: ks | H124: 1 | J124: =ROUND(I124*H124,2) -> 0 | N124: znížená | O124: 0 | P124: =O124*H124 -> 0 | Q124: 0 | R124: =Q124*H124 -> 0 | S124: 0 | T124: =S124*H124 -> 0 | AR124: 64 | AT124: K | AU124: 2 | AY124: ROZPOCET | BE124: =IF(N124="základná",J124,0) -> 0 | BF124: =IF(N124="znížená",J124,0) -> 0 | BG124: =IF(N124="zákl. prenesená",J124,0) -> 0 | BH124: =IF(N124="zníž. prenesená",J124,0) -> 0 | BI124: =IF(N124="nulová",J124,0) -> 0 | BJ124: 2 | BK124: =ROUND(I124*H124,2) -> 0 | BL124: 64 | BM124: 201396414
C125: 4 | D125: K | E125: K003 | F125: Odovzdávacia dokumentácia | G125: ks | H125: 1 | J125: =ROUND(I125*H125,2) -> 0 | N125: znížená | O125: 0 | P125: =O125*H125 -> 0 | Q125: 0 | R125: =Q125*H125 -> 0 | S125: 0 | T125: =S125*H125 -> 0 | AR125: 64 | AT125: K | AU125: 2 | AY125: ROZPOCET | BE125: =IF(N125="základná",J125,0) -> 0 | BF125: =IF(N125="znížená",J125,0) -> 0 | BG125: =IF(N125="zákl. prenesená",J125,0) -> 0 | BH125: =IF(N125="zníž. prenesená",J125,0) -> 0 | BI125: =IF(N125="nulová",J125,0) -> 0 | BJ125: 2 | BK125: =ROUND(I125*H125,2) -> 0 | BL125: 64 | BM125: -1042870445
C126: 5 | D126: K | E126: K004 | F126: Vertikálny presun hmôt | G126: ks | H126: 1 | J126: =ROUND(I126*H126,2) -> 0 | N126: znížená | O126: 0 | P126: =O126*H126 -> 0 | Q126: 0 | R126: =Q126*H126 -> 0 | S126: 0 | T126: =S126*H126 -> 0 | AR126: 64 | AT126: K | AU126: 2 | AY126: ROZPOCET | BE126: =IF(N126="základná",J126,0) -> 0 | BF126: =IF(N126="znížená",J126,0) -> 0 | BG126: =IF(N126="zákl. prenesená",J126,0) -> 0 | BH126: =IF(N126="zníž. prenesená",J126,0) -> 0 | BI126: =IF(N126="nulová",J126,0) -> 0 | BJ126: 2 | BK126: =ROUND(I126*H126,2) -> 0 | BL126: 64 | BM126: -1185629017
C127: 6 | D127: K | E127: K005 | F127: Doprava | G127: ks | H127: 1 | J127: =ROUND(I127*H127,2) -> 0 | N127: znížená | O127: 0 | P127: =O127*H127 -> 0 | Q127: 0 | R127: =Q127*H127 -> 0 | S127: 0 | T127: =S127*H127 -> 0 | AR127: 64 | AT127: K | AU127: 2 | AY127: ROZPOCET | BE127: =IF(N127="základná",J127,0) -> 0 | BF127: =IF(N127="znížená",J127,0) -> 0 | BG127: =IF(N127="zákl. prenesená",J127,0) -> 0 | BH127: =IF(N127="zníž. prenesená",J127,0) -> 0 | BI127: =IF(N127="nulová",J127,0) -> 0 | BJ127: 2 | BK127: =ROUND(I127*H127,2) -> 0 | BL127: 64 | BM127: -1516796940
D128: D | E128: VRN | F128: Vedľajšie rozpočtové náklady | J128: =BK128 -> 0 | P128: =P129 -> 0 | R128: =R129 -> 0 | T128: =T129 -> 0 | AR128: 5 | AT128: D | AU128: 0 | AY128: ROZPOCET | BK128: =BK129 -> 0
C129: 7 | D129: K | E129: 000600011.S5 | F129: Ostatné (doprava, vplyvy, pridružené výkony, réžia, drobné montážne práce a materiál) | G129: % | J129: =ROUND(I129*H129,2) -> 0 | N129: znížená | O129: 0 | P129: =O129*H129 -> 0 | Q129: 0 | R129: =Q129*H129 -> 0 | S129: 0 | T129: =S129*H129 -> 0 | AR129: 1024 | AT129: K | AU129: 1 | AY129: ROZPOCET | BE129: =IF(N129="základná",J129,0) -> 0 | BF129: =IF(N129="znížená",J129,0) -> 0 | BG129: =IF(N129="zákl. prenesená",J129,0) -> 0 | BH129: =IF(N129="zníž. prenesená",J129,0) -> 0 | BI129: =IF(N129="nulová",J129,0) -> 0 | BJ129: 2 | BK129: =ROUND(I129*H129,2) -> 0 | BL129: 1024 | BM129: 948569291

Sheet SO36b
A1: 15709 – Nižná / Tr 110/22kV – komplexná rekonštrukcia
A2: SO36b - Technologické domčeky - Vzduchotechnika
A3: Orientačný rozpočet pre časť VZT a CHL, VP
A4: p.č. | B4: skrátený popis | C4: množstvo | E4: jednotková cena | G4: dodávka | H4: montáž
B5: Zar. č. 1 – Chladenie a vetranie SO 36 - Technologické domčeky
A6: 2.8 | B6: Kondenzačná jednotka Daikin, typ: RXM20A | C6: 1 | D6: ks | G6: =E6*C6 -> 0 | H6: =G6*0.21 -> 0
B7: Qchl: 2.00 kW; Quk: 2.5 kW; el. pripojenie: 230V / 0,5kW, hmotnosť: 36 kg
A8: 2.9 | B8: Vnútorná nástenná jednotka. Daikin. typ: Perfera FTXM20A | C8: 1 | D8: ks | G8: =E8*C8 -> 0 | H8: =G8*0.21 -> 0
B9: Qchl: 2.0 kW; Quk: 2.5 kW, hmotnosť: 10 kg
B10: Príslušenstvo zariadenia:
A11: 2.8a | B11: * RTD-RA adaptér pre Split | C11: 1 | D11: ks | G11: =E11*C11 -> 0 | H11: =G11*0.21 -> 0
B12: * závesy
B13: * el. napájanie vnútornej jednotky cez komunikačný kábel
A14: 2.8b | B14: * chladivo R32 (0,8kg predplnené)
A15: 2.8c | B15: * ZTI: pripojenie na odvod kondenzátu, spádovaný vývod do exteriéru, PVC DN25 | C15: 3.5 | D15: bm | G15: =E15*C15 -> 0 | H15: =G15*0.21 -> 0
B16: * opatriť odvod v exteriéri kondenzátu odporoým vykurovacím káblom | C16: 1 | D16: kpl | G16: =E16*C16 -> 0 | H16: =G16*0.21 -> 0
B18: CHLADIVO, NAPÁJANIE A MONTÁŽ
B19: Doplnenie chladiva R32 | C19: 1 | D19: kpl | G19: =E19*C19 -> 0 | H19: =G19*0.21 -> 0
B20: Komunikačná a napájacia | C20: 1 | D20: kpl | G20: =E20*C20 -> 0 | H20: =G20*0.21 -> 0
B21: Montáž zariadení a ostatné bližšie nešpecifikované práce a náklady, súvisiace s montážou, kompletizáciou a spúšťaním chladenia | C21: 1 | D21: kpl | G21: =E21*C21 -> 0 | H21: =G21*0.21 -> 0
B23: KOVOVÉ DOPLNKOVÉ KONŠTRUKCIE
B24: Konzoly stenové; s nosnosťou do 50kg | C24: 1 | D24: kpl | G24: =E24*C24 -> 0 | H24: =G24*0.21 -> 0
B25: Montáž kovových doplnkových konštrukcií | C25: 1 | D25: kpl | G25: =E25*C25 -> 0 | H25: =G25*0.21 -> 0
B27: ROZVODY POTRUBIA CHL
B28: Medené potrubie predizolované ∅9,53 | C28: 5 | D28: bm | G28: =E28*C28 -> 0 | H28: =G28*0.21 -> 0
B29: Medené potrubie predizolované ∅6,35 | C29: 5 | D29: bm | G29: =E29*C29 -> 0 | H29: =G29*0.21 -> 0
B30: Ostatné bližšie nešpecifikované náklady súvisiace s kompletizáciou rozvodov | C30: 1 | D30: kpl | G30: =E30*C30 -> 0 | H30: =G30*0.21 -> 0
B33: Dodávka spolu: | G33: =SUM(G5:G31) -> 0
B34: Montáž spolu: | H34: =SUM(H5:H31) -> 0
B35: VRN - vedľajšie rozpočtové náklady
A36: VRN-1 | B36: Ostatné (doprava, vplyvy, pridružené výkony, réžia, drobné montážne práce a materiál...) | D36: % | G36: =ROUND((E36*C36/100),2) -> 0
B38: Spolu: | G38: =G33+H34+G36 -> 0
B39: Spolu s 23% DPH: | G39: =G38*1.23 -> 0

Sheet SO36-ELI
A1: =TL!A13 -> VÝKAZ VÝMER | G1: celkový počet
A2: Stavba: | D2: =Obsah!N1 -> 15709 - Nižná / Tr 110/22kV
D3: =Obsah!N2 -> - komplexná rekonštrukcia
D4: =Obsah!N3
A5: Časť: | D5: =TL!C11 -> E. Prílohy
A6: Objekt: | D6: SO06 SO36 Technologické domčeky / Elektroinštalácia
A8: Stavebník: | D8: =Obsah!Z1 -> Stredoslovenská distribučná, a. s., Pri Rajčianke 2927/8, 010 47 Žilina | H8: Spracoval: | I8: Gyore
A9: Miesto: | D9: =Obsah!Z2 -> Tr 110/22 kV Nižná | H9: Dátum: | I9: =Obsah!Z3 -> 46174
A11: P.Č. | B11: Kód položky | C11: TTŠ / SAP | D11: Popis | E11: MJ | F11: Množstvo celkom | G11: Množstvo celkom | H11: Cena jednotková | I11: Cena celkom
B12: M | D12: Práce a dodávky M | I12: =SUM(I13,I18,I67,I126) -> 0
B13: 21-D2 | D13: Dodávky zhotoviteľa | I13: =SUM(I14,I17) -> 0
D14: ROZVÁDZAČE | E14: kpl | F14: 1 | H14: =SUM(I15:I16) -> 0 | I14: =F14*H14 -> 0
A15: 1 | B15: Dod.-1.1 | D15: Rozvádzač RS36 (Obsah podľa ZSaZ) | E15: ks | F15: 1 | G15: =$F$14*F15 -> 1 | I15: =H15*F15 -> 0
A16: =A15+1 -> 2 | B16: Dod.-1.3 | D16: Miestna skrinka MX (Obsah podľa ZSaZ) | E16: ks | F16: 1 | G16: =$F$14*F16 -> 1 | I16: =H16*F16 -> 0
A17: =A16+1 -> 3 | B17: 21-MD | D17: Medzistavenisková doprava | E17: % | F17: =G17 -> 0 | H17: =SUM(I15:I16) -> 0 | I17: =(F17*H17)/100 -> 0
B18: 21-Mont | D18: Elektromontáže | I18: =SUM(I19:I66) -> 0
A19: =A17+1 -> 4 | B19: 210190003 | D19: Montáž rozvádzača skriňového,panelového za l pole - delený rozvádzač do váhy 100 kg | E19: ks | F19: 1 | G19: =F19 -> 1 | I19: =F19*H19 -> 0
A20: =A19+1 -> 5 | B20: 210190151 | D20: Montáž krabíc alebo skríň s prístrojmi do váhy 5 kg | E20: ks | F20: 1 | G20: =F20 -> 1 | I20: =F20*H20 -> 0
A21: =A20+1 -> 6 | B21: 210201430 | D21: Zapojenie svietidla 1x svetelný zdroj, parkového a záhradného na stĺp LED | E21: ks | F21: 3 | G21: =F21 -> 3 | I21: =F21*H21 -> 0
A22: =A21+1 -> 7 | B22: 210111004 | D22: Zásuvka vstavaná 230 V / 16A vrátane zapojenia, vyhotovenie 3P | E22: ks | F22: 2 | G22: =F22 -> 2 | I22: =F22*H22 -> 0
A23: =A22+1 -> 8 | B23: 220733042 | D23: Montáž inštalačnej krabice na stenu | E23: ks | F23: 5 | G23: =F23 -> 5 | I23: =F23*H23 -> 0
A24: =A23+1 -> 9 | B24: 210110011 | D24: Jednopólový spínač - radenie 1, nástenný IP 55, vrátane zapojenia | E24: ks | F24: 1 | G24: =F24 -> 1 | I24: =F24*H24 -> 0
A25: =A24+1 -> 10 | B25: 210800163 | D25: Kábel medený uložený pevne CYKY 450/750 V 5x16 | E25: m | F25: 130 | G25: =F25 -> 130 | I25: =F25*H25 -> 0
A26: =A25+1 -> 11 | B26: 210800148 | D26: Kábel medený uložený pevne CYKY 450/750 V 3x4 | E26: m | F26: 25 | G26: =F26 -> 25 | I26: =F26*H26 -> 0
A27: =A26+1 -> 12 | B27: 210800147 | D27: Kábel medený uložený pevne CYKY 450/750 V 3x2,5 | E27: m | F27: 25 | G27: =F27 -> 25 | I27: =F27*H27 -> 0
A28: =A27+1 -> 13 | B28: 210800158 | D28: Kábel medený uložený pevne CYKY 450/750 V 5x1,5 | E28: m | F28: 10 | G28: =F28 -> 10 | I28: =F28*H28 -> 0
A29: =A28+1 -> 14 | B29: 210800146 | D29: Kábel medený uložený pevne CYKY 450/750 V 3x1,5 | E29: m | F29: 25 | G29: =F29 -> 25 | I29: =F29*H29 -> 0
A30: =A29+1 -> 15 | B30: 210800140 | D30: Kábel medený uložený pevne CYKY 450/750 V 2x1,5 | E30: m | F30: 5 | G30: =F30 -> 5 | I30: =F30*H30 -> 0
A31: =A30+1 -> 16 | B31: 210810183 | D31: Kábel medený silový uložený pevne 1-CYKFY 1 kV 5x2,5 | E31: m | F31: 270 | G31: =F31 -> 270 | I31: =F31*H31 -> 0
... A35: =A34+1 -> 20 | B35: 210100003 | D35: Ukončenie vodičov v rozvádzač. vč. zapojenia a vodičovej koncovky do 16 mm2 | E35: ks | F35: 10 | G35: =F35 -> 10 | I35: =F35*H35 -> 0
A36: =A35+1 -> 21 | B36: 210100262P | D36: Ukončenie celoplastových káblov zmrašť. záklopkou alebo páskou do 5 x 35 mm2 | E36: ks | F36: 2 | G36: =F36 -> 2 | I36: =F36*H36 -> 0
A37: =A36+1 -> 22 | B37: 210100301 | D37: Príplatok za ukončenie tienenia kábla (v plášti) vrátane zapojenia | E37: ks | F37: 2 | G37: =F37 -> 2 | I37: =F37*H37 -> 0
A38: =A37+1 -> 23 | B38: 210950101 | D38: Označovací štítok na kábel | E38: ks | F38: 50 | G38: =F38 -> 50 | I38: =F38*H38 -> 0
A39: =A38+1 -> 24 | B39: 210010026 | D39: Rúrka ohybná elektroinštalačná z PVC typ FXP 25, uložená pevne | E39: m | F39: 10 | G39: =F39 -> 10 | I39: =F39*H39 -> 0
A40: =A39+1 -> 25 | B40: 210010583 | D40: Rúrka tuhá elektroinštalačná z PVC, D 25 uložená pevne | E40: m | F40: 50 | G40: =F40 -> 50 | I40: =F40*H40 -> 0
A41: =A40+1 -> 26 | B41: 210220453p | D41: Prepojenie rozvádzčov k FeZn | E41: ks | F41: 1 | G41: =F41 -> 1 | I41: =F41*H41 -> 0
A42: =A41+1 -> 27 | B42: 210222252 | D42: Svorka FeZn odbočovacia spojovacia SR 01, SR 02 (pásovina do 120 mm2), pre vonkajšie práce | E42: ks | F42: 5 | G42: =F42 -> 5 | I42: =F42*H42 -> 0
A43: =A42+1 -> 28 | B43: 210220002 | D43: Uzemňovacie vedenie na povrchu FeZn páska uzemňovacia do 120 mm2 | E43: m | F43: 60 | G43: =F43 -> 60 | I43: =F43*H43 -> 0
A44: =A43+1 -> 29 | B44: 210011316 | D44: Osadenie polyamidovej príchytky (hmoždinky) HM 16 do ostro pálených tehál, alebo stredne tvrdého kameňa | E44: ks | F44: 15 | G44: =F44 -> 15 | I44: =F44*H44 -> 0
A45: =A44+1 -> 30 | B45: Mont.-3 | D45: Montáž úchytu FeZN na stenu | E45: hod | F45: 2 | G45: =F45 -> 2 | I45: =F45*H45 -> 0
A46: =A45+1 -> 31 | B46: Mont.-4 | D46: Zvarovanie križujúceho sa zemňovacie vedenie v zemi FeZn (9ks) | E46: hod | F46: 1 | G46: =F46 -> 1 | I46: =F46*H46 -> 0
A47: =A46+1 -> 32 | B47: Mont.-5 | D47: Narezanie samolepiaca hydroizolácia na štvorce rozmeru 25x25cm (4m2) | E47: hod | F47: 1 | G47: =F47 -> 1 | I47: =F47*H47 -> 0
A48: =A47+1 -> 33 | B48: Mont.-6 | D48: Prelepenie zvarovaných spojov zemniaceho pásku lepenkou (9ks) | E48: hod | F48: 1 | G48: =F48 -> 1 | I48: =F48*H48 -> 0
A49: =A48+1 -> 34 | B49: Mont.-7 | D49: Vodorovný penetračnýnáter proti zemnej vlhkosti | E49: hod | F49: 1 | G49: =F49 -> 1 | I49: =F49*H49 -> 0
A50: =A49+1 -> 35 | B50: Mont.-8 | D50: Montáž pomocnej uzemňovacej prípojnice (1ks) | E50: hod | F50: 2 | G50: =F50 -> 2 | I50: =F50*H50 -> 0
A51: =A50+1 -> 36 | B51: 210220001 | D51: Uzemňovacie vedenie na povrchu FeZn drôt zvodový Ø 8-10 | E51: m | F51: 10 | G51: =F51 -> 10 | I51: =F51*H51 -> 0
A52: =A51+1 -> 37 | B52: Mont.-9 | D52: Podpery vedenia FeZn na rovnú strechu | E52: ks | F52: 4 | G52: =F52 -> 4 | I52: =F52*H52 -> 0
A53: =A52+1 -> 38 | B53: Mont.-10 | D53: Zachytávacaia tyč | E53: ks | F53: 2 | G53: =F53 -> 2 | I53: =F53*H53 -> 0
A54: =A53+1 -> 39 | B54: Mont.-11 | D54: Podstavec k zachytávacej tyči | E54: ks | F54: 2 | G54: =F54 -> 2 | I54: =F54*H54 -> 0
A55: =A54+1 -> 40 | B55: 210220220 | D55: Držiak zachytávacej tyče FeZn DJ1-8 | E55: ks | F55: 2 | G55: =F55 -> 2 | I55: =F55*H55 -> 0
A56: =A55+1 -> 41 | B56: 210220247 | D56: Svorka FeZn skúšobná SZ | E56: ks | F56: 2 | G56: =F56 -> 2 | I56: =F56*H56 -> 0
A57: =A56+1 -> 42 | B57: 210220243 | D57: Svorka FeZn spojovacia SS | E57: ks | F57: 2 | G57: =F57 -> 2 | I57: =F57*H57 -> 0
A58: =A57+1 -> 43 | B58: 210220240 | D58: Svorka FeZn k zachytávacej, uzemňovacej tyči SJ | E58: ks | F58: 2 | G58: =F58 -> 2 | I58: =F58*H58 -> 0
A59: =A58+1 -> 44 | B59: 210220260 | D59: Ochranný uholník FeZn OU | E59: ks | F59: 2 | G59: =F59 -> 2 | I59: =F59*H59 -> 0
A60: =A59+1 -> 45 | B60: 210220242 | D60: Svorka FeZn rozpojovacia RS | E60: ks | F60: 5 | G60: =F60 -> 5 | I60: =F60*H60 -> 0
A61: =A60+1 -> 46 | B61: Mont.-1 | D61: Systémový prestup , poskladanie (3ks) | E61: hod | F61: 3 | G61: =F61 -> 3 | I61: =H61*F61 -> 0
A62: =A61+1 -> 47 | B62: 210800515 | D62: Vodič medený uložený voľne H07V-U (CY) 450/750 V 16 | E62: m | F62: 15 | G62: =F62 -> 15 | I62: =H62*F62 -> 0
A63: =A62+1 -> 48 | B63: 210100003 | D63: Ukončenie vodičov v rozvádzač. vrátane zapojenia a vodičovej koncovky do 16 mm2 | E63: ks | F63: 6 | G63: =F63 -> 6 | I63: =H63*F63 -> 0
A64: =A60+1 -> 46 | B64: 21-NP-M | D64: Drobné montážne práce | E64: % | F64: =G64 -> 0 | H64: =SUM(I19:I63) -> 0 | I64: =(F64*H64)/100 -> 0
A65: =A64+1 -> 47 | B65: PPV-M | D65: Podiel pridružených výkonov | E65: % | F65: =G65 -> 0 | H65: =SUM(I19:I64) -> 0 | I65: =(F65*H65)/100 -> 0
A66: =A65+1 -> 48 | B66: 21-PD | D66: Presun dávok objednávateľa | E66: % | F66: =G66 -> 0 | H66: =H17 -> 0 | I66: =(F66*H66)/100 -> 0
B67: 21-Mat | D67: Materiál | I67: =SUM(I68,I77,I89,I104,I118,I124,I125) -> 0
D68: Svietidlá, vypínače, zásuvky, snímače atd. | E68: kpl | F68: 1 | H68: =SUM(I69:I76) -> 0 | I68: =H68*F68 -> 0
A69: =A66+1 -> 49 | B69: Mat.-1 | D69: Svietidlo priemyselné LED 4728 lm, 36W, 230V, EUROPA-LED-5100-236-4K, IP66 | E69: ks | F69: 1 | G69: =$F$68*F69 -> 1 | I69: =F69*H69 -> 0
A70: =A69+1 -> 50 | B70: Mat.-2 | D70: Priemyselné LED svietidlo otočné, 35 W, 230V, so snímačom pohybu COMBIAL 20-AM9R/3500-730 1G1W ET, IP65 | E70: ks | F70: 1 | G70: =$F$68*F70 -> 1 | I70: =F70*H70 -> 0
A71: =A70+1 -> 51 | B71: Mat.-3 | D71: Núdzové LED svietidlo s piktogramom, 11W, 230V AC, 3h, IP65 | E71: ks | F71: 1 | G71: =$F$68*F71 -> 1 | I71: =F71*H71 -> 0
A72: =A71+1 -> 52 | B72: Mat.-4 | D72: Zásuvka 230V/16A, IP54, povrchová montáž | E72: ks | F72: 2 | G72: =$F$68*F72 -> 2 | I72: =F72*H72 -> 0
A73: =A72+1 -> 53 | B73: Mat.-5 | D73: Spínač jednopólový, radenie 1, 230V/10A, IP54, povrchová montáž | E73: ks | F73: 1 | G73: =$F$68*F73 -> 1 | I73: =F73*H73 -> 0
A74: =A73+1 -> 54 | B74: Mat.-6 | D74: Inštalačná krabica IP54, povrchová montáž | E74: ks | F74: 5 | G74: =$F$68*F74 -> 5 | I74: =F74*H74 -> 0
A75: =A74+1 -> 55 | B75: Mat.-7 | D75: Svorka wago 3x2,5 | E75: ks | F75: 15 | G75: =$F$68*F75 -> 15 | I75: =F75*H75 -> 0
A76: =A75+1 -> 56 | B76: Mat.-8 | D76: Pomocný materiál pre uchytávanie svietidiel, zásuviek, atď. | E76: sada | F76: 1 | G76: =$F$68*F76 -> 1 | I76: =F76*H76 -> 0
D77: Vodičové prepoje, káble, pomocný materiál | E77: kpl | F77: 1 | H77: =SUM(I78:I88) -> 0 | I77: =H77*F77 -> 0
A78: =A75+1 -> 56 | B78: Mat.-9 | D78: CYKY-J 5x16 | E78: m | F78: 120 | G78: =$F$77*F78 -> 120 | I78: =F78*H78 -> 0
A79: =A78+1 -> 57 | B79: Mat.-10 | D79: CYKY-J 3x4 | E79: m | F79: 25 | G79: =$F$77*F79 -> 25 | I79: =F79*H79 -> 0
A80: =A79+1 -> 58 | B80: Mat.-11 | D80: CYKY-J 3x2,5 | E80: m | F80: 25 | G80: =$F$77*F80 -> 25 | I80: =F80*H80 -> 0
A81: =A80+1 -> 59 | B81: Mat.-12 | D81: CYKY-J 3x1,5 | E81: m | F81: 25 | G81: =$F$77*F81 -> 25 | I81: =F81*H81 -> 0
A82: =A81+1 -> 60 | B82: Mat.-13 | D82: CYKY-O 5x1,5 | E82: m | F82: 10 | G82: =$F$77*F82 -> 10 | I82: =F82*H82 -> 0
A83: =A82+1 -> 61 | B83: Mat.-14 | D83: CYKY-O 2x1,5 | E83: m | F83: 5 | G83: =$F$77*F83 -> 5 | I83: =F83*H83 -> 0
A84: =A83+1 -> 62 | B84: Mat.-15 | D84: 1-CYKFY-O 5x2,5 | E84: m | F84: 270 | G84: =$F$77*F84 -> 270 | I84: =F84*H84 -> 0
A85: =A84+1 -> 63 | B85: Mat.-16 | D85: Štítok na označenie kábla, kovový | E85: ks | F85: 50 | G85: =$F$77*F85 -> 50 | I85: =F85*H85 -> 0
A86: =A85+1 -> 64 | B86: Mat.-17 | D86: Rúrka pevná plastová PVC 1250N | E86: m | F86: 50 | G86: =$F$77*F86 -> 50 | I86: =F86*H86 -> 0
A87: =A86+1 -> 65 | B87: Mat.-18 | D87: Rúrka ohybná plastová PVC | E87: m | F87: 10 | G87: =$F$77*F87 -> 10 | I87: =F87*H87 -> 0
A88: =A87+1 -> 66 | B88: Mat.-19 | D88: Drobný a pomocný materiál pre upevňovanie a ukončovanie | E88: sada | F88: 1 | G88: =$F$77*F88 -> 1 | I88: =F88*H88 -> 0
D89: UZEMNENIE | E89: kpl | F89: 1 | H89: =SUM(I90:I103) -> 0 | I89: =H89*F89 -> 0
A90: =A88+1 -> 67 | B90: Mat.-20 | D90: Oceľ pásková pozinkovaná FeZn 30x4 | E90: m | F90: 50 | G90: =$F$89*F90 -> 50 | I90: =F90*H90 -> 0
A91: =A90+1 -> 68 | B91: Mat.-21 | D91: Úchyty FeZN na stenu | E91: ks | F91: 15 | G91: =$F$89*F91 -> 15 | I91: =F91*H91 -> 0
A92: =A91+1 -> 69 | B92: Mat.-22 | D92: DELTA-THENE samolepiaca hydroizolácia - izolácia zemniacich spojov (25x25vm = 2ks na jeden spoj) | E92: m2 | F92: 1 | G92: =$F$89*F92 -> 1 | I92: =F92*H92 -> 0
A93: =A92+1 -> 70 | B93: Mat.-23 | D93: DELTA-THENE penetračný náter | E93: kg | F93: 1 | G93: =$F$89*F93 -> 1 | I93: =F93*H93 -> 0
A94: =A93+1 -> 71 | B94: Mat.-24 | D94: Odbočná spojovacia svorka SR 02 | E94: ks | F94: 5 | G94: =$F$89*F94 -> 5 | I94: =F94*H94 -> 0
A95: =A94+1 -> 72 | B95: Mat.-25 | D95: Pomocná uzemňovacia prípojnica | E95: ks | F95: 1 | G95: =$F$89*F95 -> 1 | I95: =F95*H95 -> 0
A96: =A95+1 -> 73 | B96: Mat.-26 | D96: Základná syntetická farba na kov Šedá | E96: kg | F96: 1 | G96: =$F$89*F96 -> 1 | I96: =F96*H96 -> 0
A97: =A96+1 -> 74 | B97: Mat.-27 | D97: Vrchná syntetická farba na kov Žltá | E97: kg | F97: 1 | G97: =$F$89*F97 -> 1 | I97: =F97*H97 -> 0
A98: =A97+1 -> 75 | B98: Mat.-28 | D98: Vrchná syntetická farba na kov Zelená | E98: kg | F98: 1 | G98: =$F$89*F98 -> 1 | I98: =F98*H98 -> 0
A99: =A98+1 -> 76 | B99: Mat.-29 | D99: Riedidlo na syntetickú farbu | E99: kg | F99: 1 | G99: =$F$89*F99 -> 1 | I99: =F99*H99 -> 0
A100: =A99+1 -> 77 | B100: Mat.-30 | D100: Vodič CY 6mm2 | E100: m | F100: 2 | G100: =$F$89*F100 -> 2 | I100: =F100*H100 -> 0
A101: =A100+1 -> 78 | B101: Mat.-31 | D101: Vodič CY 10mm2 | E101: m | F101: 2 | G101: =$F$89*F101 -> 2 | I101: =F101*H101 -> 0
A102: =A101+1 -> 79 | B102: Mat.-32 | D102: Vodič CY 16mm2 | E102: m | F102: 2 | G102: =$F$89*F102 -> 2 | I102: =F102*H102 -> 0
A103: =A102+1 -> 80 | B103: Mat.-33 | D103: Vodič CY 50 (uzemnenie rozvádzačov) | E103: m | F103: 2 | G103: =$F$89*F103 -> 2 | I103: =F103*H103 -> 0
D104: BLESKOZVOD | E104: kpl | F104: 1 | H104: =SUM(I105:I117) -> 0 | I104: =H104*F104 -> 0
A105: =A103+1 -> 81 | B105: Mat.-34 | D105: Vodič AlMgSi Ø8mm | E105: ks | F105: 10 | G105: =$F$104*F105 -> 10 | I105: =F105*H105 -> 0
...

Sheet SO37
A1: =+TL!A13 -> VÝKAZ VÝMER | G1: celkový počet
A2: Stavba: | D2: =Obsah!N1 -> 15709 - Nižná / Tr 110/22kV
D3: =Obsah!N2 -> - komplexná rekonštrukcia
A5: Časť: | D5: =Obsah!B6 -> D. Dokumentácia stavebných objektov a prevádzkových súborov
A6: Objekt: | D6: =Obsah!B41 -> S07_SO37_SO38_SO39_Vonkajšie osvetlenie
A8: Stavebník: | D8: =Obsah!Z1 -> Stredoslovenská distribučná, a. s., Pri Rajčianke 2927/8, 010 47 Žilina | H8: Spracoval: | I8: Ing. Laluha
A9: Miesto: | D9: =Obsah!Z2 -> Tr 110/22 kV Nižná | H9: Dátum: | I9: =Obsah!Z3 -> 46174
A11: P.Č. | B11: Kód položky | C11: TTŠ / SAP | D11: Popis | E11: MJ | F11: Množstvo celkom | G11: Množstvo celkom | H11: Cena jednotková | I11: Cena celkom
B12: M | D12: Práce a dodávky M | I12: =SUM(I13,I18,I56,I109,I127,I139) -> 0
B13: 21-D2 | D13: Dodávky zhotoviteľa | I13: =SUM(I14,I17) -> 0
D14: ROZVÁDZAČE | E14: kpl | F14: 1 | H14: =SUM(I15:I16) -> 0 | I14: =F14*H14 -> 0
A15: 1 | B15: Dod.-1.1 | D15: Rozvádzač RVO (Špecifikované v VVaZ) | E15: ks | F15: 1 | G15: =F15*$F$14 -> 1 | I15: =H15*F15 -> 0
A16: =A15+1 -> 2 | B16: Dod.-1.2 | D16: Miestna skrinka MX (Špecifikované v VVaZ) | E16: ks | F16: 2 | G16: =F16*$F$14 -> 2 | I16: =H16*F16 -> 0
A17: =A16+1 -> 3 | B17: 21-MD | D17: Medzistavenisková doprava | E17: % | F17: =G17 -> 0 | H17: =SUM(I15:I16) -> 0 | I17: =(F17*H17)/100 -> 0
B18: 21-Mont | D18: Elektromontáže | I18: =SUM(I19:I55) -> 0
A19: =A17+1 -> 4 | B19: 210190052 | D19: Montáž rozvádzača skriňového, panelového za l pole - delený rozvádzač do váhy 300 kg | E19: ks | F19: 1 | G19: =F19 -> 1 | I19: =F19*H19 -> 0
A20: =A19+1 -> 5 | B20: 210190151 | D20: Montáž krabíc alebo skríň s prístrojmi do váhy 5 kg | E20: ks | F20: 2 | G20: =F20 -> 2 | I20: =F20*H20 -> 0
A21: =A20+1 -> 6 | B21: 210201430 | D21: Zapojenie svietidla 1x svetelný LED zdroj | E21: ks | F21: 42 | G21: =F21 -> 42 | I21: =F21*H21 -> 0
A22: =A21+1 -> 7 | B22: 210201810 | D22: Montáž a zapojenie LED svietidla / reflektora na konzolu, 1x svetelný zdroj | E22: ks | F22: 22 | G22: =F22 -> 22 | I22: =F22*H22 -> 0
A23: =A22+1 -> 8 | B23: 210201810 | D23: Montáž svietidla na portipožiarnu stenu stanovišťa tr. | E23: ks | F23: 20 | G23: =F23 -> 20 | I23: =F23*H23 -> 0
A24: =A23+1 -> 9 | B24: 210201440 | D24: Osadenie betónového prefabrikovaného základu, uchytenie a vystredenie do roviny | E24: ks | F24: 16 | G24: =F24 -> 16 | I24: =F24*H24 -> 0
A25: =A24+1 -> 10 | B25: 210201442 | D25: Montáž prírubových stožiarov | E25: ks | F25: 16 | G25: =F25 -> 16 | I25: =F25*H25 -> 0
A26: =A25+1 -> 11 | B26: 210201441 | D26: Montáž konzoly pre svietidlá vonkajšieho osvetlenia | E26: ks | F26: 6 | G26: =F26 -> 6 | I26: =F26*H26 -> 0
A27: =A26+1 -> 12 | B27: 210020151 | D27: Montáž konzoly pre uchytenie reflektoru/skrinky na stožiar | E27: ks | F27: 4 | G27: =F27 -> 4 | I27: =F27*H27 -> 0
A28: =A27+1 -> 13 | B28: 210204201 | D28: Elektrovýstroj stožiara pre 1 okruh | E28: ks | F28: 16 | G28: =F28 -> 16 | I28: =F28*H28 -> 0
A29: =A28+1 -> 14 | B29: 220733042 | D29: Montáž inštalačnej krabice na stenu (pod ovládacie tlačítko) | E29: ks | F29: 16 | G29: =F29 -> 16 | I29: =F29*H29 -> 0
A30: =A29+1 -> 15 | B30: 210110011 | D30: Jednopólový spínač - radenie 1, nástenný IP 55, vrátane zapojenia | E30: ks | F30: 4 | G30: =F30 -> 4 | I30: =F30*H30 -> 0
A31: =A30+1 -> 16 | B31: 210810182 | D31: Kábel medený silový uložený pevne 1-CYKFY 1 kV 5x1,5 | E31: m | F31: 30 | G31: =F31 -> 30 | I31: =H31*F31 -> 0
A32: =A31+1 -> 17 | B32: 210800140 | D32: Kábel medený uložený pevne CYKY 450/750 V 2x1,5 | E32: m | F32: 250 | G32: =F32 -> 250 | I32: =F32*H32 -> 0
A33: =A32+1 -> 18 | B33: 210800147 | D33: Kábel medený uložený pevne CYKY 450/750 V 3x2,5 | E33: m | F33: 300 | G33: =F33 -> 300 | I33: =F33*H33 -> 0
A34: =A33+1 -> 19 | B34: 210800158 | D34: Kábel medený uložený pevne CYKY 450/750 V 5x1,5 | E34: m | F34: 35 | G34: =F34 -> 35 | I34: =H34*F34 -> 0
A35: =A34+1 -> 20 | B35: 210800159 | D35: Kábel medený uložený pevne CYKY 450/750 V 5x2,5 | E35: m | F35: 210 | G35: =F35 -> 210 | I35: =H35*F35 -> 0
A36: =A35+1 -> 21 | B36: 210800161 | D36: Kábel medený uložený pevne CYKY 450/750 V 5x6 | E36: m | F36: 445 | G36: =F36 -> 445 | I36: =F36*H36 -> 0
A37: =A36+1 -> 22 | B37: 210800163 | D37: Kábel medený uložený pevne CYKY 450/750 V 5x16 | E37: m | F37: 60 | G37: =F37 -> 60 | I37: =F37*H37 -> 0
A38: =A37+1 -> 23 | B38: 210100001 | D38: Ukončenie vodičov v rozvádzač. vrátane zapojenia a vodičovej koncovky do 2,5 mm2 | E38: ks | F38: 256 | G38: =F38 -> 256 | I38: =F38*H38 -> 0
A39: =A38+1 -> 24 | B39: 210100002 | D39: Ukončenie vodičov v rozvádzač. vrátane zapojenia a vodičovej koncovky do 6 mm2 | E39: ks | F39: 160 | G39: =F39 -> 160 | I39: =F39*H39 -> 0
A40: =A39+1 -> 25 | B40: 210100003 | D40: Ukončenie vodičov v rozvádzač. vrátane zapojenia a vodičovej koncovky do 16 mm2 | E40: ks | F40: 20 | G40: =F40 -> 20 | I40: =F40*H40 -> 0
A41: =A40+1 -> 26 | B41: 210100258 | D41: Ukončenie celoplastových káblov zmrašť. záklopkou alebo páskou do 5 x 4 mm2 | E41: ks | F41: 256 | G41: =F41 -> 256 | I41: =F41*H41 -> 0
A42: =A41+1 -> 27 | B42: 210100259p1 | D42: Ukončenie celoplastových káblov zmrašť. záklopkou alebo páskou do 5 x 10-16 mm2 | E42: ks | F42: 180 | G42: =F42 -> 180 | I42: =F42*H42 -> 0
A43: =A42+1 -> 28 | B43: 210100311 | D43: Príplatok za ukončenie tienenia kábla vrátane zapojenia | E43: ks | F43: 2 | G43: =F43 -> 2 | I43: =F43*H43 -> 0
A44: =A43+1 -> 29 | B44: 210800618 | D44: Vodič medený uložený voľne H07V-K (CYA) 450/750 V 50 | E44: m | F44: 5 | G44: =F44 -> 5 | I44: =H44*F44 -> 0
A45: =A44+1 -> 30 | B45: 210100102 | D45: Ukončenie Cu a Al drôtov a lán včítane zapojenie, jedna žila, vodič s priemerom do 50mm2 | E45: ks | F45: 2 | G45: =F45 -> 2 | I45: =F45*H45 -> 0
A46: =A45+1 -> 31 | B46: 210950101 | D46: Označovací štítok na kábel hliníkový (naviac proti norme) | E46: ks | F46: 100 | G46: =F46 -> 100 | I46: =F46*H46 -> 0
A47: =A46+1 -> 32 | B47: 210220453 | D47: Prepojenie rozvádzčov k uzemneniu | E47: ks | F47: 1 | G47: =F47 -> 1 | I47: =F47*H47 -> 0
A48: =A47+1 -> 33 | B48: 210020901 | D48: Protipožiarna upchávka pod rozvádzač, jednoduchá | E48: m2 | F48: 1 | G48: =F48 -> 1 | I48: =H48*F48 -> 0
A49: =A48+1 -> 34 | B49: 210220002 | D49: Uzemňovacie vedenie na povrchu FeZn páska uzemňovacia do 120 mm2 | E49: m | F49: 16 | G49: =F49 -> 16 | I49: =H49*F49 -> 0
A50: =A49+1 -> 35 | B50: 210220010 | D50: Náter zemniaceho pásku do 120 mm2(1x náter včít.svo riek a vyznač.žlt.pruhov) | E50: m | F50: 16 | G50: =F50 -> 16 | I50: =H50*F50 -> 0
A51: =A50+1 -> 36 | B51: 210010029 | D51: Rúrka ohybná elektroinštalačná z PVC typ Ø32, uložená pevne | E51: m | F51: 16 | G51: =F51 -> 16 | I51: =H51*F51 -> 0
A52: =A51+1 -> 37 | B52: 210010026 | D52: Rúrka pevná oceľová typ Ø20, uložená pevne | E52: m | F52: 60 | G52: =F52 -> 60 | I52: =H52*F52 -> 0
A53: =A52+1 -> 38 | B53: 21-NP-M | D53: Drobné montážne práce | E53: % | F53: =G53 -> 0 | H53: =SUM(I19:I52) -> 0 | I53: =(F53*H53)/100 -> 0
A54: =A53+1 -> 39 | B54: PPV-M | D54: Podiel pridružených výkonov | E54: % | F54: =G54 -> 0 | H54: =SUM(I19:I53) -> 0 | I54: =(F54*H54)/100 -> 0
A55: =A54+1 -> 40 | B55: 21-PD | D55: Presun dávok objednávateľa | E55: % | F55: =G55 -> 0 | H55: =H17 -> 0 | I55: =(F55*H55)/100 -> 0
B56: 21-Mat | D56: Materiál | I56: =I57+I62+I69+I74+I92+I101+I103+I107+I108 -> 0
D57: SVIETIDLÁ | E57: kpl | F57: 1 | H57: =SUM(I58:I61) -> 0 | I57: =H57*F57 -> 0
A58: =A55+1 -> 41 | B58: Mat.-1 | D58: LED svietidlo BGP281 T25 LED30-4S/740 PSA DM11 FG 18,9 W, 3000 lm, 4000K, CRI=70, IP66 | E58: ks | F58: 13 | G58: =F58*$F$57 -> 13 | I58: =H58*F58 -> 0
A59: =A58+1 -> 42 | B59: Mat.-2 | D59: LED svietidlo BGP281 T25 LED80-4S/740 PSA DX50 FG 50,0 W, 8000 lm, 4000K, CRI=70, IP66 | E59: ks | F59: 5 | G59: =F59*$F$57 -> 5 | I59: =H59*F59 -> 0
A60: =A59+1 -> 43 | B60: Mat.-3 | D60: LED svietidlo BVP651 T25 1 xLED550-4S/740 S 345,0 W, 56000 lm, 4000K, CRI=70, IP66 | E60: ks | F60: 4 | G60: =F60*$F$57 -> 4 | I60: =H60*F60 -> 0
A61: =A60+1 -> 44 | B61: Mat.-4 | D61: LED svietidlo EUROPA-LED-7600-258-4K 54,0 W, 7600 lm, 4000K, CRI=80, IP66 | E61: ks | F61: 20 | G61: =F61*$F$57 -> 20 | I61: =H61*F61 -> 0
D62: STOŽIARE, KOZNOLY A ZÁKLADY | E62: kpl | F62: 1 | H62: =SUM(I63:I68) -> 0 | I62: =H62*F62 -> 0
A63: =A61+1 -> 45 | B63: Mat.-5 | D63: Stožiar vonkajšieho osvetlenia kuželový, žiarovo zinkovaný, prírubový STK 60/50/3PK12-Z, H=5m | E63: ks | F63: 12 | G63: =F63*$F$62 -> 12 | I63: =H63*F63 -> 0
A64: =A63+1 -> 46 | B64: Mat.-6 | D64: Stožiar vonkajšieho osvetlenia kuželový, žiarovo zinkovaný, prírubový STK 76/100/3PK12-Z, H=10m | E64: ks | F64: 4 | G64: =F64*$F$62 -> 4 | I64: =H64*F64 -> 0
A65: =A64+1 -> 47 | B65: Mat.-7 | D65: Konzola pre uchytenie reflektorov na vrch stožiara, pozinkovaná, dĺžka ramena 1m, K-1000-D76-Z | E65: ks | F65: 4 | G65: =F65*$F$62 -> 4 | I65: =H65*F65 -> 0
A66: =A65+1 -> 48 | B66: Mat.-8 | D66: Nástenná konzola kolmá NKK 400/60 | E66: ks | F66: 6 | G66: =F66*$F$62 -> 6 | I66: =H66*F66 -> 0
A67: =A66+1 -> 49 | B67: Mat.-9 | D67: Betónový prefbarikovaný základ PZR1 pre prírubové stožiare do výšky stožiara 5m | E67: ks | F67: 12 | G67: =F67*$F$62 -> 12 | I67: =H67*F67 -> 0
A68: =A67+1 -> 50 | B68: Mat.-10 | D68: Betónový prefbarikovaný základ PZR2 pre prírubové stožiare do výšky stožiara 10m | E68: ks | F68: 4 | G68: =F68*$F$62 -> 4 | I68: =H68*F68 -> 0
D69: OSTATNÉ | E69: kpl | F69: 1 | H69: =SUM(I70:I73) -> 0 | I69: =H69*F69 -> 0
A70: =A68+1 -> 51 | B70: Mat.-11 | D70: Svorkovnica pre stožiar VO, TN-S, priechodná až pre 3 káble, vrátane poistiek. Typ Guro EKM 2020 | E70: ks | F70: 16 | G70: =F70*$F$69 -> 16 | I70: =H70*F70 -> 0
A71: =A70+1 -> 52 | B71: Mat.-12 | D71: Ovládacie tlačidlo, 230V, 10A, IP54, povrchová montáž | E71: ks | F71: 4 | G71: =F71*$F$69 -> 4 | I71: =H71*F71 -> 0
A72: =A71+1 -> 53 | B72: Mat.-13 | D72: Inštalačná krabica IP54, povrchová montáž | E72: ks | F72: 16 | G72: =F72*$F$69 -> 16 | I72: =H72*F72 -> 0
A73: =A72+1 -> 54 | B73: Mat.-14 | D73: Svorka wago 3x2,5 | E73: ks | F73: 40 | G73: =F73*$F$69 -> 40 | I73: =H73*F73 -> 0
