Workbook
Name __A: #REF!
Name __Anonymous_Sheet_DB__1: #REF!
Name __Anonymous_Sheet_DB__1_1: #REF!
Name __Anonymous_Sheet_DB__1_2: #REF!
Name __Anonymous_Sheet_DB__1_3: #REF!
Name __Anonymous_Sheet_DB__1_4: #REF!
Name __Anonymous_Sheet_DB__1_5: #REF!
Name __Anonymous_Sheet_DB__1_6: #REF!
Name __Anonymous_Sheet_DB__1_7: #REF!
Name __Anonymous_Sheet_DB__2: #REF!
Name _A666666: #REF!
Name _A666666: #REF!
Name _B65555: #REF!
Name _B65555: #REF!
Name _B666666: #REF!
Name _C666666: #REF!
Name _D666666: #REF!
Name _E666666: #REF!
Name _Toc531607230: 'Likvidácia odpadov'!#REF!
Name czk: #REF!
Name D: #REF!
Name D: #REF!
Name D: #REF!
Name D: #REF!
Name D: #REF!
Name D: #REF!
Name D: #REF!
Name D: #REF!
Name D: #REF!
Name D: #REF!
Name D: #REF!
Name dflt1: #REF!
Name dflt2: #REF!
Name dflt3: #REF!
Name doch100: #REF!
Name doch150: #REF!
Name doch200: #REF!
Name doch25: #REF!
Name doch50: #REF!
Name E: #REF!
Name E: #REF!
Name E: #REF!
Name E: #REF!
Name E: #REF!
Name E: #REF!
Name E: #REF!
Name E: #REF!
Name E: #REF!
Name E: #REF!
Name E: #REF!
Name Excel_BuiltIn__FilterDatabase_2: #REF!
Name Excel_BuiltIn__FilterDatabase_3: #REF!
Name Excel_BuiltIn__FilterDatabase_4: #REF!
Name Excel_BuiltIn__FilterDatabase_6: #REF!
Name Excel_BuiltIn__FilterDatabase_7: #REF!
Name Excel_BuiltIn__FilterDatabase_8: #REF!
Name Excel_BuiltIn_Print_Area_1: SO36b!$A$4:$H$41
Name Excel_BuiltIn_Print_Area_1: 'SO34.04'!$A$4:$H$341
Name Excel_BuiltIn_Print_Area_1_1: SO36b!$A$4:$H$41
Name Excel_BuiltIn_Print_Area_1_1: 'SO34.04'!$A$4:$H$341

Sheet TL
A8: Názov zákazky: | C8: =+Obsah!N1 -> 15709 - Nižná / Tr 110/22kV | G8: Stupeň:
C9: =+Obsah!N2 -> - komplexná rekonštrukcia | G9: VPP
C10: =+Obsah!N3
A11: Časť: | C11: E. Prílohy
A12: Objekt: | G12: DCC: | H12: &ECA
A13: VÝKAZ VÝMER
A15: Vypracoval: | D15: Schválil: | F15: Dátum: | G15: Počet listov:
A16: Kolektív | D16: Ing. Bálik, Ing. Ladiver | F16: =Obsah!Z3 -> 46174 | G16: 181
G46: Výtlačok
A53: c
A54: b
A55: a
A56: Zmena | B56: Názov zmeny | F56: Dátum | G56: Vykonal

Sheet Obsah
K1: Stavba: | N1: 15709 - Nižná / Tr 110/22kV | W1: Stavebník: | Z1: Stredoslovenská distribučná, a. s., Pri Rajčianke 2927/8, 010 47 Žilina
N2: - komplexná rekonštrukcia | W2: Miesto: | Z2: Tr 110/22 kV Nižná
W3: Dátum: | Z3: 46174
A4: Obsah:
B5: Rekapitulácia
B6: D. Dokumentácia stavebných objektov a prevádzkových súborov
B7: P01_PS01_Demontáže
B8: P02_PS04_Transformátory 110kV
B9: P03_PS06_Tlmivky a odporníky
B10: P04_PS09_R110kV
B11: P05_PS10_R22kV
B12: P06_PS30_RIS
B13: P07_PS31_Elektrické ochrany
B14: P08_PS50_VLSP striedavá
B15: P09_PS51_VLSP jednosmerná
B16: P10_PS52_VLSP zabezpečená
... B62: I_Odpady

Sheet Rekapitulácia stavby
A1: Rekapitulácia objektov stavby
A2: Stavba: | B2: =Obsah!N1 -> 15709 - Nižná / Tr 110/22kV
B3: =Obsah!N2 -> - komplexná rekonštrukcia
B4: =Obsah!N3
A5: Investor / stavebník: | B5: =Obsah!Z1 -> Stredoslovenská distribučná, a. s., Pri Rajčianke 2927/8, 010 47 Žilina | E5: Projektant: | F5: LiV-EPI, s.r.o. Trenčianska 56/F, 82109 Bratislava
A6: Zhotoviteľ: | B6: Bude stanovený výberovým konaním | E6: Spracoval: | F6: Ing. Bálik, Ing. Ladiver
A7: Miesto: | B7: =Obsah!Z2 -> Tr 110/22 kV Nižná | E7: Dátum: | F7: =Obsah!Z3 -> 46174
A9: Kód | B9: Zákazka | C9: Cena bez DPH | D9: DPH | E9: Cena s DPH | F9: ZRN | G9: HZS | H9: VRN
B11: =B4 | C11: =SUM(C12:C44,C46,C49:C52,C55:C56,C58:C60) -> 0
A12: =+MID(B12,5,4) -> SO11 | B12: =Obsah!B24 -> S01_SO11_Vedenia 22kV | C12: =SUM(F12:H12) -> 0 | D12: =C12*23% -> 0 | E12: =D12+C12 -> 0 | F12: ='SO11'!H107 -> 0 | G12: ='SO11'!H113 -> 0 | H12: ='SO11'!H116 -> 0
A13: =+MID(B13,5,4) -> SO31 | B13: =Obsah!B25 -> S02_SO31_Rozvodňa 110kV | C13: =SUM(F13:H13) -> 0 | D13: =C13*23% -> 0 | E13: =D13+C13 -> 0 | F13: ='SO31'!J97 -> 0 | G13: 0 | H13: ='SO31'!J104 -> 0
A14: =+MID(B14,5,4) -> SO32 | B14: =Obsah!B26 -> S03_SO32_Stanovište transformátorov | C14: =SUM(F14:H14) -> 0 | D14: =C14*23% -> 0 | E14: =D14+C14 -> 0 | F14: ='SO32'!J97 -> 0 | G14: 0 | H14: ='SO32'!J102 -> 0
A15: =+MID(B15,5,4) -> SO33 | B15: =Obsah!B27 -> S04_SO33_Stanovište tlmiviek a odporníkov | C15: =SUM(F15:H15) -> 0 | D15: =C15*23% -> 0 | E15: =D15+C15 -> 0 | F15: ='SO33'!J97 -> 0 | G15: 0 | H15: ='SO33'!J102 -> 0
A16: =+MID(B16,5,4) -> SO34 | B16: =Obsah!B28 -> S05_SO34_Budová spoločných prevádzok
A17: =+MID(B17,5,7) -> SO34.01 | B17: =Obsah!B29 -> S05_SO34.01_ASR (+ statika) | C17: =SUM(F17:H17) -> 0 | D17: =C17*23% -> 0 | E17: =D17+C17 -> 0 | F17: ='SO34.01 '!J97+'SO34.01 '!J106+'SO34.01 '!J124 -> 0 | G17: 0 | H17: ='SO34.01 '!J128 -> 0
A18: =+MID(B18,5,7) -> SO34.03 | B18: =Obsah!B30 -> S05_SO34.03_Zdravotechnická inštalácia | C18: =SUM(F18:H18) -> 0 | D18: =C18*23% -> 0 | E18: =D18+C18 -> 0 | F18: ='SO34.03'!G13+'SO34.03'!G26 -> 0 | G18: 0 | H18: ='SO34.03'!G125 -> 0
A19: =+MID(B19,5,7) -> SO34.04 | B19: =Obsah!B31 -> S05_SO34.04_Vzduchotechnika a chladenie | C19: =SUM(F19:H19) -> 0 | D19: =C19*23% -> 0 | E19: =D19+C19 -> 0 | F19: ='SO34.04'!G333 -> 0 | G19: ='SO34.04'!H334 -> 0 | H19: ='SO34.04'!G336 -> 0
A20: =+MID(B20,5,7) -> SO34.05 | B20: =Obsah!B32 -> S05_SO34.05_Vykurovanie | C20: =SUM(F20:H20) -> 0 | D20: =C20*23% -> 0 | E20: =D20+C20 -> 0 | F20: ='SO34.05'!J120 -> 0 | G20: 0 | H20: ='SO34.05'!J132 -> 0
A21: =+MID(B21,5,7) -> SO34.06 | B21: =Obsah!B33 -> S05_SO34.06_Elektroinštalácia | C21: =SUM(F21:H21) -> 0 | D21: =C21*23% -> 0 | E21: =D21+C21 -> 0 | F21: =SO34_06!I226 -> 0 | G21: =SO34_06!I233 -> 0 | H21: =SO34_06!I236 -> 0
A22: =+MID(B22,5,7) -> SO34.07 | B22: =Obsah!B34 -> S05_SO34.07_Výzbroj káblových trás | C22: =SUM(F22:H22) -> 0 | D22: =C22*23% -> 0 | E22: =D22+C22 -> 0 | F22: ='SO34.07'!I135 -> 0 | G22: ='SO34.07'!I138 -> 0 | H22: ='SO34.07'!I138 -> 0
A23: =+MID(B23,5,7) -> SO34.08 | B23: =Obsah!B35 -> S05_SO34.08_Systémové prestupy | C23: =SUM(F23:H23) -> 0 | D23: =C23*23% -> 0 | E23: =D23+C23 -> 0 | F23: ='SO34.08'!I45 -> 0 | G23: ='SO34.08'!I48 -> 0 | H23: ='SO34.08'!I48 -> 0
A24: =+MID(B28,5,4) -> SO36 | B24: =Obsah!B36 -> S06_SO36_Technologické domčeky
A25: =+MID(B25,5,4) -> SO36 | B25: =Obsah!B37 -> S06_SO36_ASR | C25: =SUM(F25:H25) -> 0 | D25: =C25*23% -> 0 | E25: =D25+C25 -> 0 | F25: ='SO36'!J125+'SO36'!J134 -> 0 | G25: 0 | H25: ='SO36'!J137 -> 0
A26: =+MID(B26,5,5) -> SO36a | B26: =Obsah!B38 -> S06_SO36a_Vyurovanie | C26: =SUM(F26:H26) -> 0 | D26: =C26*23% -> 0 | E26: =D26+C26 -> 0 | F26: =SO36a!J120 -> 0 | G26: 0 | H26: =SO36a!J128 -> 0
A27: =+MID(B27,5,5) -> SO36b | B27: =Obsah!B39 -> S06_SO36b_Vzduchotechnika | C27: =SUM(F27:H27) -> 0 | D27: =C27*23% -> 0 | E27: =D27+C27 -> 0 | F27: =SO36b!G33 -> 0 | G27: =SO36b!H34 -> 0 | H27: =SO36b!G36 -> 0
A28: =+MID(B28,5,7) -> SO36_El | B28: =Obsah!B40 -> S06_SO36_Elektroinštalácia | C28: =SUM(F28:H28) -> 0 | D28: =C28*23% -> 0 | E28: =D28+C28 -> 0 | F28: ='SO36-ELI'!I129 -> 0 | G28: ='SO36-ELI'!I136 -> 0 | H28: ='SO36-ELI'!I139 -> 0
A29: =+MID(B29,5,4) -> SO37 | B29: =Obsah!B41 -> S07_SO37_SO38_SO39_Vonkajšie osvetlenie | C29: =SUM(F29:H29) -> 0 | D29: =C29*23% -> 0 | E29: =D29+C29 -> 0 | F29: ='SO37'!I144 -> 0 | G29: ='SO37'!I150 -> 0 | H29: ='SO37'!I153 -> 0
A30: =+MID(B30,5,4) -> SO41 | B30: =Obsah!B42 -> S08_SO41_Vnútorné komunikácie | C30: =SUM(F30:H30) -> 0 | D30: =C30*23% -> 0 | E30: =D30+C30 -> 0 | F30: ='SO41'!J97 -> 0 | G30: 0 | H30: ='SO41'!J105 -> 0
A31: =+MID(B31,5,4) -> SO42 | B31: =Obsah!B43 -> S09_SO42_Káblové kanály
A32: =+MID(B32,5,7) -> SO42.01 | B32: =Obsah!B44 -> S09_SO42.01_ASR (+ Statika) | C32: =SUM(F32:H32) -> 0 | D32: =C32*23% -> 0 | E32: =D32+C32 -> 0 | F32: ='SO42.01'!J97+'SO42.01'!J106+'SO42.01'!J109 -> 0 | G32: 0 | H32: ='SO42.01'!J111 -> 0
A33: =+MID(B33,5,7) -> SO42.03 | B33: =Obsah!B45 -> S09_SO42.03_Výzbroj káblových trás | C33: =SUM(F33:H33) -> 0 | D33: =C33*23% -> 0 | E33: =D33+C33 -> 0 | F33: ='SO42.03'!I77 -> 0 | G33: 0 | H33: ='SO42.03'!I80 -> 0
A34: =+MID(B34,5,7) -> SO42.04 | B34: =Obsah!B46 -> S09_SO42.04_Systémové prestupy | C34: =SUM(F34:H34) -> 0 | D34: =C34*23% -> 0 | E34: =D34+C34 -> 0 | F34: ='SO42.04'!I46 -> 0 | G34: 0 | H34: ='SO42.04'!I49 -> 0
A35: =+MID(B35,5,4) -> SO45 | B35: =Obsah!B47 -> S10_SO45_Hrubá úprava terénu | C35: =SUM(F35:H35) -> 0 | D35: =C35*23% -> 0 | E35: =D35+C35 -> 0 | F35: ='SO45'!J97 -> 0 | G35: 0 | H35: ='SO45'!J101 -> 0
A36: =+MID(B36,5,4) -> SO46 | B36: =Obsah!B48 -> S10_SO46_Konečná úprava terénu | C36: =SUM(F36:H36) -> 0 | D36: =C36*23% -> 0 | E36: =D36+C36 -> 0 | F36: ='SO46'!J97 -> 0 | G36: 0 | H36: ='SO46'!J104 -> 0
A37: =+MID(B37,5,4) -> SO47 | B37: =Obsah!B49 -> S11_SO47_Vonkajšie oplotenie | C37: =SUM(F37:H37) -> 0 | D37: =C37*23% -> 0 | E37: =D37+C37 -> 0 | F37: ='SO47'!J97+'SO47'!J105+'SO47'!J107 -> 0 | G37: 0 | H37: ='SO47'!J109 -> 0
A38: =+MID(B38,5,4) -> SO48 | B38: =Obsah!B50 -> S12_SO48_Vnútorné oplotenie | C38: =SUM(F38:H38) -> 0 | D38: =C38*23% -> 0 | E38: =D38+C38 -> 0 | F38: ='SO48'!J97+'SO48'!J103+'SO48'!J105 -> 0 | G38: 0 | H38: ='SO48'!J107 -> 0
A39: =+MID(B39,5,4) -> SO49 | B39: =Obsah!B51 -> S13_SO49_Demolácie | C39: =SUM(F39:H39) -> 0 | D39: =C39*23% -> 0 | E39: =D39+C39 -> 0 | F39: ='SO49'!J97+'SO49'!J102+'SO49'!J104 -> 0 | G39: 0 | H39: ='SO49'!J107 -> 0
A40: =+MID(B40,5,4) -> SO50 | B40: =Obsah!B52 -> S14_SO50_Uzemnenie | C40: =SUM(F40:H40) -> 0 | D40: =C40*23% -> 0 | E40: =D40+C40 -> 0 | F40: ='SO50'!I45 -> 0 | G40: ='SO50'!I48 -> 0 | H40: ='SO50'!I51 -> 0
A41: =+MID(B41,5,4) -> SO63 | B41: =Obsah!B53 -> S15_SO63_Dažďová kanalizácia | C41: =SUM(F41:H41) -> 0 | D41: =C41*23% -> 0 | E41: =D41+C41 -> 0 | F41: ='SO63'!G13+'SO63'!G89+'SO63'!G93 -> 0 | G41: 0 | H41: ='SO63'!G104 -> 0
A42: =+MID(B42,5,4) -> SO64 | B42: =Obsah!B54 -> S16_SO64_Splašková kanalizácia | C42: =SUM(F42:H42) -> 0 | D42: =C42*23% -> 0 | E42: =D42+C42 -> 0 | F42: ='SO64 '!J97 -> 0 | G42: 0 | H42: ='SO64 '!J102 -> 0
...

Sheet SO11
A1: =+TL!A13 -> VÝKAZ VÝMER
A2: Stavba: | D2: =Obsah!N1 -> 15709 - Nižná / Tr 110/22kV
D3: =Obsah!N2 -> - komplexná rekonštrukcia
D4: =Obsah!N3
A5: Časť: | D5: =Obsah!B6 -> D. Dokumentácia stavebných objektov a prevádzkových súborov
A6: Objekt: | D6: =Obsah!B24 -> S01_SO11_Vedenia 22kV
A8: Stavebník: | D8: =Obsah!Z1 -> Stredoslovenská distribučná, a. s., Pri Rajčianke 2927/8, 010 47 Žilina | G8: Spracoval: | H8: Ing. Repka
A9: Miesto: | D9: =Obsah!Z2 -> Tr 110/22 kV Nižná | G9: Dátum: | H9: =Obsah!Z3 -> 46174
A11: P.Č. | B11: Kód položky | C11: TTŠ / SAP | D11: Popis | E11: MJ | F11: Množstvo celkom | G11: Cena jednotková | H11: Cena celkom
B12: M | D12: Práce a dodávky M | H12: =SUM(H13,H28,H48,H53,H55,H104) -> 0
C13: 025 | D13: Zemné práce | H13: =SUM(H14:H27) -> 0
A14: 1 | B14: EL10 | C14: 460120002.3 | D14: ZAHOZ JAMY PRE KABEL.SPOJKU RUCNE TR.3-4 | E14: M3 | F14: 4 | H14: =F14*G14 -> 0
A15: =A14+1 -> 2 | B15: EH39 | C15: 460200304.1 | D15: HLBENIE KABEL.RYHY 50X120CM STROJ.TR.4 | E15: M | F15: 40 | H15: =F15*G15 -> 0
A16: =A15+1 -> 3 | B16: EH92 | C16: 460200884.1 | D16: HLBENIE KABEL.RYHY 80X120CM STROJ.TR.4 | E16: M | F16: 50 | H16: =F16*G16 -> 0
A17: =A16+1 -> 4 | B17: EL07 | C17: 460230014 | D17: VYKOP JAMY-SPOJKA NAD 10KV RUCNE TR.4 | E17: KUS | F17: 2 | H17: =F17*G17 -> 0
A18: =A17+1 -> 5 | B18: EI81 | C18: 460300002.3 | D18: ZAHRN KABEL.RYHY STROJ.VO VOLNOM TERENE | E18: M3 | F18: 72 | H18: =F18*G18 -> 0
A19: =A18+1 -> 6 | B19: EN03 | C19: 460300006 | D19: HUTNENIE ZEMINY STROJNE,VRSTVA 20CM | E19: M3 | F19: 72 | H19: =F19*G19 -> 0
A20: =A19+1 -> 7 | B20: EJ41 | C20: 460490012 | D20: FOLIA VYSTRAZNA Z PVC ,SIRKA 33 CM - VN | E20: M | F20: 190 | H20: =F20*G20 -> 0
A21: =A20+1 -> 8 | B21: EL19 | C21: 460490053 | D21: VYPODLOZ.,ODDELENIE,KRYTIE SPOJKY DO 35K | E21: KUS | F21: 2 | H21: =F21*G21 -> 0
A22: =A21+1 -> 9 | B22: EK19 | C22: 460510025.1 | D22: RURA NA OPTICKY KABEL 40x3 | E22: M | F22: 140 | H22: =F22*G22 -> 0
A23: =A22+1 -> 10 | B23: EK19A | C23: 460510025.2 | D23: KONCOVKA PRE HDPE CHRANICKU 40MM | E23: KUS | F23: 4 | H23: =F23*G23 -> 0
A24: =A23+1 -> 11 | B24: EK19C | C24: 460510025.4 | D24: MARKER ELEKTRONICKY S ID | E24: KUS | F24: 6 | H24: =F24*G24 -> 0
A25: =A24+1 -> 12 | B25: EK11 | C25: 460510032 | D25: PRESTUP Z FXKV RUR 16CM | E25: M | F25: 200 | H25: =F25*G25 -> 0
A26: =A25+1 -> 13 | B26: EN01 | C26: 460600001 | D26: ODVOZ ZEMINY DO VZDIALENOSTI 1KM | E26: M3 | F26: 24 | H26: =F26*G26 -> 0
A27: =A26+1 -> 14 | B27: EQ06 | C27: 460620014 | D27: PROVIZORNA UPRAVA TERENU ZEMINOU TR.4 | E27: M2 | F27: 90 | H27: =F27*G27 -> 0
A28: =A27+1 -> 15 | C28: 031 | D28: Montážne a demontážne práce | H28: =SUM(H29:H47) -> 0
A29: =A28+1 -> 16 | B29: CU09 | C29: 0G0180 | D29: OBMEDZOVAC PREPAT.HDA-24N-NFQ NA SIET | E29: KUS | F29: 9 | H29: =F29*G29 -> 0 | I29: DODAVKA SSD
A30: =A29+1 -> 17 | B30: CU11 | C30: 0G0181.A | D30: TIENENY 22kV ZVODIC PREPATIA | E30: SADA | F30: 5 | H30: =F30*G30 -> 0 | I30: DODAVKA SSD
A31: =A30+1 -> 18 | B31: BB11 | C31: 210010249 | D31: ZLAB OCHRANNY 12X12X250CM | E31: KUS | F31: 3 | H31: =F31*G31 -> 0 | I31: DODAVKA SSD
A32: =A31+1 -> 19 | B32: HG81A | C32: 210021051.2 | D32: MONT.DREV.PRICHYTKY PRE KAB.DO 4 OTVOROV 240MM-PRIEHR STOZ. | E32: KUS | F32: 12 | H32: =F32*G32 -> 0 | I32: DODAVKA SSD
A33: =A32+1 -> 20 | B33: HY02 | C33: 210040201.10 | D33: KONZOLA 1200 NA ST. - KKK | E33: KUS | F33: 6 | H33: =F33*G33 -> 0 | I33: DODAVKA SSD
A34: =A33+1 -> 21 | B34: BX41 | C34: 210070512 | D34: PRUZNA SPOJKA PS 50/10 PRE AL PAS | E34: KUS | F34: 9 | H34: =F34*G34 -> 0 | I34: DODAVKA SSD
A35: =A34+1 -> 22 | B35: BT62 | C35: 210100103 | D35: SVORKA PPN - FARGO DO 120MM2 | E35: KUS | F35: 9 | H35: =F35*G35 -> 0 | I35: DODAVKA SSD
A36: =A35+1 -> 23 | B36: CI20 | C36: 210100105 | D36: UKONC.A ZAPOJ.VODICA 120MM2 VCITANE OKA | E36: KUS | F36: 9 | H36: =F36*G36 -> 0 | I36: DODAVKA SSD
A37: =A36+1 -> 24 | B37: CK70 | C37: 210100821.8 | D37: KONCOVKA STUDENA 150-240 MM2 VONKAJSIA | E37: SADA | F37: 3 | H37: =F37*G37 -> 0 | I37: DODAVKA SSD
A38: =A37+1 -> 25 | B38: CL82 | C38: 210102021.2 | D38: SPOJKA KAB.SXSU 5131 185-240MM2 AXEKCY | E38: KUS | F38: 6 | H38: =F38*G38 -> 0 | I38: DODAVKA SSD
A39: =A38+1 -> 26 | B39: CM08 | C39: 210102142 | D39: PRIPLATOK K MONT.KONC.22-35KV Z PLOSINY | E39: KUS | F39: 3 | H39: =F39*G39 -> 0 | I39: DODAVKA SSD
A40: =A39+1 -> 27 | B40: CU46 | C40: 210120322.1 | D40: MONT.OBMED.PREPAT.VN HDA-24N-NFQ NA SIET | E40: KUS | F40: 9 | H40: =F40*G40 -> 0 | I40: DODAVKA SSD
... A47: =A46+1 -> 34 | B47: CK18 | C47: 210P100811.1 | D47: KONCOVKA VNUTORNA DO 1X240 MM2 AXEKCY | E47: KUS | F47: 5 | H47: =F47*G47 -> 0 | I47: DODAVKA SSD
A48: =A47+1 -> 35 | C48: 116 | D48: Ostatné náklady | H48: =SUM(H49:H52) -> 0
...

Sheet SO31
L2: >> skryté stĺpce << | AT2: {3d040ad9-634c-46a2-9f11-f0f6ebf4a03e}
AT3: 0
D4: KRYCÍ LIST ROZPOČTU | M4: v --- nižšie sa nachádzajú doplnkové a pomocné údaje k zostavám --- v | AT4: False
D6: Stavba:
E7: =_xlfn.CONCAT(Obsah!N1," ",Obsah!N2) -> 15709 - Nižná / Tr 110/22kV - komplexná rekonštrukcia
D8: Objekt:
E9: SO31 - Rozvodňa 110 kV
D11: JKSO: | I11: ČS:
D12: Miesto: | F12: Nižná | I12: Dátum: | J12: =Obsah!Z3 -> 46174
D14: Objednávateľ: | I14: IČO:
E15: STREDOSLOVENSKÁ DISTRIBUčNÁ a.s. | I15: IČ DPH:
D17: Zhotoviteľ: | I17: IČO:
E18: určený výberom | I18: IČ DPH:
D20: Projektant: | I20: IČO:
E21: LiV-EPI, s.r.o. | I21: IČ DPH:
D23: Spracovateľ: | I23: IČO:
E24: Ing Peter Lukačovič | I24: IČ DPH:
D26: Poznámka:
D30: Cena bez DPH | J30: =ROUND(J96,2) -> 0
F32: Základ dane | I32: Sadzba dane | J32: Výška dane
D33: DPH | E33: základná | F33: =ROUND((SUM(BE125:BE155)), 2) -> 0 | I33: 0.23 | J33: =ROUND(((SUM(BE125:BE155))*I33), 2) -> 0
E34: znížená | F34: =J30 -> 0 | I34: 0.23 | J34: =ROUND((F34*I34), 2) -> 0
E35: zákl. prenesená | F35: =ROUND((SUM(BG125:BG155)), 2) -> 0 | I35: 0.23 | J35: =0 -> 0
E36: zníž. prenesená | F36: =ROUND((SUM(BH125:BH155)), 2) -> 0 | I36: 0.23 | J36: =0 -> 0
E37: nulová | F37: =ROUND((SUM(BI125:BI155)), 2) -> 0 | I37: 0 | J37: =0 -> 0
D39: Cena s DPH | G39: v | H39: EUR | J39: =SUM(J30:J37) -> 0
D50: Projektant | G50: Spracovateľ
D61: Dátum a podpis: | F61: Pečiatka | G61: Dátum a podpis: | J61: Pečiatka
D65: Objednávateľ | G65: Zhotoviteľ
D76: Dátum a podpis: | F76: Pečiatka | G76: Dátum a podpis: | J76: Pečiatka
C82: REKAPITULÁCIA ROZPOČTU
C84: Stavba:
E85: =E7 -> 15709 - Nižná / Tr 110/22kV - komplexná rekonštrukcia
C86: Objekt:
E87: =E9 -> SO31 - Rozvodňa 110 kV
C89: Miesto: | F89: =F12 -> Nižná | I89: Dátum: | J89: =IF(J12="","",J12) -> 46174
C91: Objednávateľ: | F91: =E15 -> STREDOSLOVENSKÁ DISTRIBUčNÁ a.s. | I91: Projektant: | J91: =E21 -> LiV-EPI, s.r.o.
C92: Zhotoviteľ: | F92: =IF(E18="","",E18) -> určený výberom | I92: Spracovateľ: | J92: =E24 -> Ing Peter Lukačovič
C94: Kód dielu - Popis | J94: Cena celkom [EUR]
C96: Náklady z rozpočtu | J96: =J97+J104 -> 0 | AU96: -1
...

Sheet SO32
L2: >> skryté stĺpce << | AT2: {8a0ad8f9-d107-4ef1-9877-3699258ff9f0}
AT3: 0
D4: KRYCÍ LIST ROZPOČTU | M4: v --- nižšie sa nachádzajú doplnkové a pomocné údaje k zostavám --- v | AT4: False
D6: Stavba:
E7: =_xlfn.CONCAT(Obsah!N1," ",Obsah!N2) -> 15709 - Nižná / Tr 110/22kV - komplexná rekonštrukcia
D8: Objekt:
E9: SO32 - Stanovište transformátorov
D11: JKSO: | I11: ČS:
D12: Miesto: | F12: Nižná | I12: Dátum: | J12: =Obsah!Z3 -> 46174
D14: Objednávateľ: | I14: IČO:
E15: STREDOSLOVENSKÁ DISTRIBUčNÁ a.s. | I15: IČ DPH:
D17: Zhotoviteľ: | I17: IČO:
E18: určený výberom | I18: IČ DPH:
D20: Projektant: | I20: IČO:
E21: LiV-EPI, s.r.o. | I21: IČ DPH:
D23: Spracovateľ: | I23: IČO:
E24: Ing Peter Lukačovič | I24: IČ DPH:
D26: Poznámka:
D30: Cena bez DPH | J30: =ROUND(J96, 2) -> 0
F32: Základ dane | I32: Sadzba dane | J32: Výška dane
D33: DPH | E33: základná | F33: =ROUND((SUM(BE123:BE142)), 2) -> 0 | I33: 0.23 | J33: =ROUND(((SUM(BE123:BE142))*I33), 2) -> 0
E34: znížená | F34: =ROUND(J30, 2) -> 0 | I34: 0.23 | J34: =ROUND((F34*I34), 2) -> 0
E35: zákl. prenesená | F35: =ROUND((SUM(BG123:BG142)), 2) -> 0 | I35: 0.23 | J35: =0 -> 0
E36: zníž. prenesená | F36: =ROUND((SUM(BH123:BH142)), 2) -> 0 | I36: 0.23 | J36: =0 -> 0
E37: nulová | F37: =ROUND((SUM(BI123:BI142)), 2) -> 0 | I37: 0 | J37: =0 -> 0
D39: Cena s DPH | G39: v | H39: EUR | J39: =SUM(J30:J37) -> 0
D50: Projektant | G50: Spracovateľ
D61: Dátum a podpis: | F61: Pečiatka | G61: Dátum a podpis: | J61: Pečiatka
D65: Objednávateľ | G65: Zhotoviteľ
D76: Dátum a podpis: | F76: Pečiatka | G76: Dátum a podpis: | J76: Pečiatka
C82: REKAPITULÁCIA ROZPOČTU
C84: Stavba:
E85: =E7 -> 15709 - Nižná / Tr 110/22kV - komplexná rekonštrukcia
C86: Objekt:
E87: =E9 -> SO32 - Stanovište transformátorov
C89: Miesto: | F89: =F12 -> Nižná | I89: Dátum: | J89: =IF(J12="","",J12) -> 46174
C91: Objednávateľ: | F91: =E15 -> STREDOSLOVENSKÁ DISTRIBUčNÁ a.s. | I91: Projektant: | J91: =E21 -> LiV-EPI, s.r.o.
C92: Zhotoviteľ: | F92: =IF(E18="","",E18) -> určený výberom | I92: Spracovateľ: | J92: =E24 -> Ing Peter Lukačovič
C94: Kód dielu - Popis | J94: Cena celkom [EUR]
C96: Náklady z rozpočtu | J96: =J97+J102 -> 0 | AU96: -1
...

Sheet SO33
L2: >> skryté stĺpce << | AT2: {a6a041a3-27c0-497c-b730-f38eab34a894}
AT3: 0
D4: KRYCÍ LIST ROZPOČTU | M4: v --- nižšie sa nachádzajú doplnkové a pomocné údaje k zostavám --- v | AT4: False
D6: Stavba:
E7: =_xlfn.CONCAT(Obsah!N1," ",Obsah!N2) -> 15709 - Nižná / Tr 110/22kV - komplexná rekonštrukcia
D8: Objekt:
E9: SO33 - Stanovište tlmiviek
D11: JKSO: | I11: ČS:
D12: Miesto: | F12: Nižná | I12: Dátum: | J12: =Obsah!Z3 -> 46174
D14: Objednávateľ: | I14: IČO:
E15: STREDOSLOVENSKÁ DISTRIBUčNÁ a.s. | I15: IČ DPH:
D17: Zhotoviteľ: | I17: IČO:
E18: určený výberom | I18: IČ DPH:
D20: Projektant: | I20: IČO:
E21: LiV-EPI, s.r.o. | I21: IČ DPH:
D23: Spracovateľ: | I23: IČO:
E24: Ing Peter Lukačovič | I24: IČ DPH:
D26: Poznámka:
D30: Cena bez DPH | J30: =ROUND(J96, 2) -> 0
F32: Základ dane | I32: Sadzba dane | J32: Výška dane
D33: DPH | E33: základná | F33: =ROUND((SUM(BE123:BE143)), 2) -> 0 | I33: 0.23 | J33: =ROUND(((SUM(BE123:BE143))*I33), 2) -> 0
E34: znížená | F34: =ROUND(J30, 2) -> 0 | I34: 0.23 | J34: =ROUND((F34*I34), 2) -> 0
E35: zákl. prenesená | F35: =ROUND((SUM(BG123:BG143)), 2) -> 0 | I35: 0.23 | J35: =0 -> 0
E36: zníž. prenesená | F36: =ROUND((SUM(BH123:BH143)), 2) -> 0 | I36: 0.23 | J36: =0 -> 0
E37: nulová | F37: =ROUND((SUM(BI123:BI143)), 2) -> 0 | I37: 0 | J37: =0 -> 0
D39: Cena s DPH | G39: v | H39: EUR | J39: =SUM(J30:J37) -> 0
D50: Projektant | G50: Spracovateľ
D61: Dátum a podpis: | F61: Pečiatka | G61: Dátum a podpis: | J61: Pečiatka
D65: Objednávateľ | G65: Zhotoviteľ
D76: Dátum a podpis: | F76: Pečiatka | G76: Dátum a podpis: | J76: Pečiatka
C82: REKAPITULÁCIA ROZPOČTU
C84: Stavba:
E85: =E7 -> 15709 - Nižná / Tr 110/22kV - komplexná rekonštrukcia
C86: Objekt:
E87: =E9 -> SO33 - Stanovište tlmiviek
C89: Miesto: | F89: =F12 -> Nižná | I89: Dátum: | J89: =IF(J12="","",J12) -> 46174
C91: Objednávateľ: | F91: =E15 -> STREDOSLOVENSKÁ DISTRIBUčNÁ a.s. | I91: Projektant: | J91: =E21 -> LiV-EPI, s.r.o.
C92: Zhotoviteľ: | F92: =IF(E18="","",E18) -> určený výberom | I92: Spracovateľ: | J92: =E24 -> Ing Peter Lukačovič
C94: Kód dielu - Popis | J94: Cena celkom [EUR]
C96: Náklady z rozpočtu | J96: =J97+J102 -> 0 | AU96: -1
...

Sheet SO34.01 
L2: >> skryté stĺpce << | AT2: {1bd41712-9c08-401f-84b0-a3f3778a2f00}
AT3: 0
D4: KRYCÍ LIST ROZPOČTU | M4: v --- nižšie sa nachádzajú doplnkové a pomocné údaje k zostavám --- v | AT4: False
D6: Stavba:
E7: =_xlfn.CONCAT(Obsah!N1," ",Obsah!N2) -> 15709 - Nižná / Tr 110/22kV - komplexná rekonštrukcia
D8: Objekt:
E9: SO34 - Budova spoločných prevádzok - ASR
D11: JKSO: | I11: ČS:
D12: Miesto: | F12: Nižná | I12: Dátum: | J12: =Obsah!Z3 -> 46174
D14: Objednávateľ: | I14: IČO:
E15: STREDOSLOVENSKÁ DISTRIBUčNÁ a.s. | I15: IČ DPH:
D17: Zhotoviteľ: | I17: IČO:
E18: určený výberom | I18: IČ DPH:
D20: Projektant: | I20: IČO:
E21: LiV-EPI, s.r.o. | I21: IČ DPH:
D23: Spracovateľ: | I23: IČO:
E24: Ing Peter Lukačovič | I24: IČ DPH:
D26: Poznámka:
D30: Cena bez DPH | J30: =ROUND(J96, 2) -> 0
F32: Základ dane | I32: Sadzba dane | J32: Výška dane
D33: DPH | E33: základná | F33: =ROUND((SUM(BE149:BE717)), 2) -> 0 | I33: 0.23 | J33: =ROUND(((SUM(BE149:BE717))*I33), 2) -> 0
E34: znížená | F34: =ROUND(J30, 2) -> 0 | I34: 0.23 | J34: =ROUND((F34*I34), 2) -> 0
E35: zákl. prenesená | F35: =ROUND((SUM(BG149:BG717)), 2) -> 0 | I35: 0.23 | J35: =0 -> 0
E36: zníž. prenesená | F36: =ROUND((SUM(BH149:BH717)), 2) -> 0 | I36: 0.23 | J36: =0 -> 0
E37: nulová | F37: =ROUND((SUM(BI149:BI717)), 2) -> 0 | I37: 0 | J37: =0 -> 0
D39: Cena s DPH | G39: v | H39: EUR | J39: =SUM(J30:J37) -> 0
D50: Projektant | G50: Spracovateľ
D61: Dátum a podpis: | F61: Pečiatka | G61: Dátum a podpis: | J61: Pečiatka
D65: Objednávateľ | G65: Zhotoviteľ
D76: Dátum a podpis: | F76: Pečiatka | G76: Dátum a podpis: | J76: Pečiatka
C82: REKAPITULÁCIA ROZPOČTU
C84: Stavba:
E85: =E7 -> 15709 - Nižná / Tr 110/22kV - komplexná rekonštrukcia
C86: Objekt:
E87: =E9 -> SO34 - Budova spoločných prevádzok - ASR
C89: Miesto: | F89: =F12 -> Nižná | I89: Dátum: | J89: =IF(J12="","",J12) -> 46174
C91: Objednávateľ: | F91: =E15 -> STREDOSLOVENSKÁ DISTRIBUčNÁ a.s. | I91: Projektant: | J91: =E21 -> LiV-EPI, s.r.o.
C92: Zhotoviteľ: | F92: =IF(E18="","",E18) -> určený výberom | I92: Spracovateľ: | J92: =E24 -> Ing Peter Lukačovič
C94: Kód dielu - Popis | J94: Cena celkom [EUR]
C96: Náklady z rozpočtu | J96: =J97+J106+J124+J128 -> 0 | AU96: -1
...

Sheet SO34.03
A1: ROZPOČET
A2: Stavba: 15709 - Nižná / Tr 110/22kV - komplexná rekonštrukcia
A3: Objekt: Zdravotechnická inštalácia / ZTI
A4: Časť: | C4: S05 - SO34 Budova spoločných prevádzok / ZTI
A6: Objednávateľ: Stredoslovenská distribučná, a.s.
A7: Zhotoviteľ: | E7: Spracoval: | F7: Vágner
A8: Miesto: Nižná, okres Tvrdošín, Žilinský kraj | E8: Dátum: | F8: =Obsah!Z3 -> 46174
A10: Č. | B10: Kód položky | C10: Popis | D10: MJ | E10: Množstvo celkom | F10: Cena jednotková | G10: Cena celkom | H10: Hmotnosť celkom
A11: 1 | B11: 2 | C11: 3 | D11: 4 | E11: 5 | F11: 6 | G11: 7 | H11: 8
B13: HSV | C13: Práce a dodávky HSV | G13: =G14+G24 -> 0 | H13: =H14+H24 -> 6.8794793
B14: 1 | C14: Zemné práce | G14: =SUM(G15:G23) -> 0 | H14: =SUM(H15:H23) -> 4.845
A15: 1 | B15: 132201101.S | C15: Výkop ryhy do šírky 600 mm v horn.3 do 100 m3 | D15: m3 | E15: 9.321 | G15: =F15*E15 -> 0 | H15: 0
A16: 2 | B16: 132201109.S | C16: Príplatok k cene za lepivosť pri hĺbení rýh šírky do 600 mm zapažených i nezapažených s urovnaním dna v hornine 3 | D16: m3 | E16: 2.796 | G16: =F16*E16 -> 0 | H16: 0
A17: 3 | B17: 162301101.S | C17: Vodorovné premiestnenie výkopku po spevnenej ceste z horniny tr.1-4, do 100 m3 na vzdialenosť do 500 m | D17: m3 | E17: 4.123 | G17: =F17*E17 -> 0 | H17: 0
A18: 4 | B18: 167101101.S | C18: Nakladanie neuľahnutého výkopku z hornín tr.1-4 do 100 m3 | D18: m3 | E18: 4.123 | G18: =F18*E18 -> 0 | H18: 0
A19: 5 | B19: 171201201.S | C19: Uloženie sypaniny na skládky do 100 m3 | D19: m3 | E19: 4.123 | G19: =F19*E19 -> 0 | H19: 0
A20: 6 | B20: 171206111.S | C20: Uloženie zemín schopných zúrodnenia alebo zemín výsypiek do násypov predpísaných tvarov s urovnaním | D20: m3 | E20: 4.123 | G20: =F20*E20 -> 0 | H20: 0
A21: 7 | B21: 174101001.S | C21: Zásyp sypaninou so zhutnením jám, šachiet, rýh, zárezov alebo okolo objektov do 100 m3 | D21: m3 | E21: 5.198 | G21: =F21*E21 -> 0 | H21: 0
A22: 8 | B22: 175101101.S | C22: Obsyp potrubia sypaninou z vhodných hornín 1 až 4 bez prehodenia sypaniny | D22: m3 | E22: 2.901 | G22: =F22*E22 -> 0 | H22: 0
A23: 9 | B23: 583310002700.S | C23: Štrkopiesok frakcia 0-8 mm | D23: t | E23: 4.845 | G23: =F23*E23 -> 0 | H23: 4.845
B24: 4 | C24: Vodorovné konštrukcie | G24: =G25 -> 0 | H24: =H25 -> 2.0344793
A25: 10 | B25: 451573111.S | C25: Lôžko pod potrubie, stoky a drobné objekty, v otvorenom výkope z piesku a štrkopiesku do 63 mm | D25: m3 | E25: 1.076 | G25: =F25*E25 -> 0 | H25: 2.0344793
B26: PSV | C26: Práce a dodávky PSV | G26: =SUM(G27,G34,G50,G77) -> 0 | H26: =H27+H34+H50+H77 -> 0.5546384
B27: 713 | C27: Izolácie tepelné | G27: =SUM(G28:G33) -> 0 | H27: =SUM(H28:H33) -> 0.06471072
A28: 11 | B28: 713482121.S | C28: Montáž trubíc z PE, hr.15-20 mm,vnút.priemer do 38 mm | D28: m | E28: 68.86 | G28: =F28*E28 -> 0 | H28: 0.0013772
A29: 12 | B29: 283310004700.S | C29: Izolačná PE trubica dxhr. 22x20 mm, nadrezaná, na izolovanie rozvodov vody, kúrenia, zdravotechniky | D29: m | E29: 37.352 | G29: =F29*E29 -> 0 | H29: 0.00037352
A30: 13 | B30: 283310004800.S | C30: Izolačná PE trubica dxhr. 28x20 mm, nadrezaná, na izolovanie rozvodov vody, kúrenia, zdravotechniky | D30: m | E30: 28.393 | G30: =F30*E30 -> 0 | H30: 0.00056786
A31: 14 | B31: 283310004900.S | C31: Izolačná PE trubica dxhr. 35x20 mm, nadrezaná, na izolovanie rozvodov vody, kúrenia, zdravotechniky | D31: m | E31: 5.049 | G31: =F31*E31 -> 0 | H31: 0.00020196
A32: 15 | B32: 713483010.S | C32: Montáž technickej izolácie samolepiacej rohože hr. 20 mm na potrubia s rovnou plochou | D32: m2 | E32: 13.509 | G32: =F32*E32 -> 0 | H32: 0.00027018
A33: 16 | B33: 356.016.00.1 | C33: Samolepiaca zvukovo-izolačná rohož Geberit Isol Flex: B=78cm | D33: ks | E33: 16 | G33: =F33*E33 -> 0 | H33: 0.06192
B34: 721 | C34: Zdravotechnika - vnútorná kanalizácia | G34: =SUM(G35:G49) -> 0 | H34: =SUM(H35:H49) -> 0.0792192
A35: 17 | B35: 721171309 | C35: Potrubie z rúr PE-HD GEBERIT Dxt 125x4,9 mm ležaté | D35: m | E35: 11.95 | G35: =F35*E35 -> 0 | H35: 0.023661
A36: 18 | B36: 721171570 | C36: Potrubie z rúr GEBERIT SILENT - PP zvislé Dxt 75x2,6 mm | D36: m | E36: 3.73 | G36: =F36*E36 -> 0 | H36: 0.0032451
A37: 19 | B37: 721171571 | C37: Potrubie z rúr GEBERIT SILENT - PP zvislé Dxt 110x3,6 mm | D37: m | E37: 19.3 | G37: =F37*E37 -> 0 | H37: 0.034547
A38: 20 | B38: 721171580 | C38: Potrubie z rúr GEBERIT SILENT - PP prípojné Dxt 50x2,0 mm | D38: m | E38: 15.17 | G38: =F38*E38 -> 0 | H38: 0.0048544
A39: 21 | B39: 721171581 | C39: Potrubie z rúr GEBERIT SILENT - PP prípojné Dxt 75x2,6 mm | D39: m | E39: 5.98 | G39: =F39*E39 -> 0 | H39: 0.0038272
A40: 22 | B40: 721171581 | C40: Potrubie z rúr GEBERIT SILENT - PP prípojné Dxt 90x2,6 mm | D40: m | E40: 4.6 | G40: =F40*E40 -> 0 | H40: 0.002944
A41: 23 | B41: 721171582 | C41: Potrubie z rúr GEBERIT SILENT - PP prípojné Dxt 110x3,6 mm | D41: m | E41: 2.3 | G41: =F41*E41 -> 0 | H41: 0.002875
A42: 24 | B42: 721172503.S | C42: Montáž čistiaceho kusu pre odhlučnené potrubia DN 110 | D42: ks | E42: 2 | G42: =F42*E42 -> 0 | H42: 0.000408
A43: 25 | B43: 390.527.14.1 | C43: Čistiaca tvarovka Geberit Silent-PP 90° s kruhovým servisným otvorom: d=110mm | D43: ks | E43: 2 | G43: =F43*E43 -> 0 | H43: 0.00168
...

Sheet SO34.04
A1: 15709 – Nižná / Tr 110/22kV – komplexná rekonštrukcia
A2: SO 34 - Budova spoločných prevádzok; E34.3 Vzduchotechnika
A3: Orientačný rozpočet pre časť VZT a CHL, VP
A4: p.č. | B4: skrátený popis | C4: množstvo | E4: jednotková cena | G4: dodávka | H4: montáž
B5: Zar. č. 1 – Vetranie miestností č. 1.11 (Transformátor T21) a 1.12 (Transformátor T22) a Sklad 1.04
A6: 1.1 | B6: Exteriérová protidažďová mriežka, dverová, 600x700 mm | C6: 6 | D6: ks | G6: =E6*C6 -> 0 | H6: =G6*0.21 -> 0
B7: * s ochrannou sieťkou proti hmyzu
A8: 1.2 | B8: Spojovací a závesný materiál | C8: 1 | D8: kpl
A9: 1.3 | B9: Tesniaci a kotviaci materiál | C9: 1 | D9: kpl
A10: 1.4 | B10: Montážny materiál | C10: 1 | D10: kpl
B11: Spolu zariadenie č. 1
B13: Zar. č. 2 – Chladenie a vetranie m. č. 1.08 (Miestnosť vlastnej spotreby)
A14: 2.8 | B14: Kondenzačná jednotka Mitsubishi, typ: PUHZ-ZRP35VKA | C14: 2 | D14: ks | G14: =E14*C14 -> 0 | H14: =G14*0.21 -> 0
B15: Qchl: 3.5 kW; Quk: 4,0 kW; el. pripojenie: 230V / 0,92kW, hmotnosť: 40 kg
A16: 2.9 | B16: Vnútorná nástenná jednotka. Mitsubishi. typ: PKA-M50LAL | C16: 2 | D16: ks | G16: =E16*C16 -> 0 | H16: =G16*0.21 -> 0
B17: Qchl: 3.5 kW; Quk: 4,0 kW, hmotnosť: 10 kg
B18: Príslušenstvo zariadenia:
A19: 2.8a | B19: * nástenný ovládač | C19: 2 | D19: ks | G19: =E19*C19 -> 0 | H19: =G19*0.21 -> 0
B20: * adaptér pre ovládanie cez Modbus | C20: 2 | D20: ks | G20: =E20*C20 -> 0 | H20: =G20*0.21 -> 0
B21: * závesy | C21: 2 | D21: kpl | G21: =E21*C21 -> 0 | H21: =G21*0.21 -> 0
B22: * el. napájanie vnútornej jednotky cez komunikačný kábel
A23: 2.8c | B23: * ZTI: pripojenie na odvod kondenzátu, spádovaný vývod do exteriéru, PVC DN25 | C23: 7 | D23: bm | G23: =E23*C23 -> 0 | H23: =G23*0.21 -> 0
B24: * opatriť odvod v exteriéri kondenzátu odporoým vykurovacím káblom | C24: 1 | D24: kpl | G24: =E24*C24 -> 0 | H24: =G24*0.21 -> 0
B26: CHLADIVO, NAPÁJANIE A MONTÁŽ
B27: Doplnenie chladiva R410a | C27: 1 | D27: kpl | G27: =E27*C27 -> 0 | H27: =G27*0.21 -> 0
B28: Komunikačná a napájacia | C28: 1 | D28: kpl | G28: =E28*C28 -> 0 | H28: =G28*0.21 -> 0
B29: Montáž zariadení a ostatné bližšie nešpecifikované práce a náklady, súvisiace s montážou, kompletizáciou a spúšťaním chladenia | C29: 1 | D29: kpl | G29: =E29*C29 -> 0 | H29: =G29*0.21 -> 0
B31: KOVOVÉ DOPLNKOVÉ KONŠTRUKCIE
B32: Konzoly stenové; s nosnosťou do 50kg | C32: 1 | D32: kpl | G32: =E32*C32 -> 0 | H32: =G32*0.21 -> 0
B33: Montáž kovových doplnkových konštrukcií | C33: 1 | D33: kpl | G33: =E33*C33 -> 0 | H33: =G33*0.21 -> 0
B35: ROZVODY POTRUBIA CHL
B36: Medené potrubie predizolované ∅12,7 | C36: 25 | D36: bm | G36: =E36*C36 -> 0 | H36: =G36*0.21 -> 0
B37: Medené potrubie predizolované ∅6,35 | C37: 25 | D37: bm | G37: =E37*C37 -> 0 | H37: =G37*0.21 -> 0
B38: Ostatné bližšie nešpecifikované náklady súvisiace s kompletizáciou rozvodov | C38: 1 | D38: kpl | G38: =E38*C38 -> 0 | H38: =G38*0.21 -> 0
A40: 2.1 | B40: Odvodný ventilátor do kruhového potrubia | C40: 1 | D40: kpl | G40: =E40*C40 -> 0 | H40: =G40*0.21 -> 0
B41: Výrobca: Systemair Typ: K 250 L Sileo
B42: Qodvod = 650 m3/h
B43: El. pripojenie : 230 V / 0,158kW / 0,677 A
B44: m=4,6kg
B45: Príslušenstvo zariadenia:
...

Sheet SO34.05
L2: >> skryté stĺpce << | AT2: {8a0ad8f9-d107-4ef1-9877-3699258ff9f0}
AT3: 0
D4: KRYCÍ LIST ROZPOČTU | M4: v --- nižšie sa nachádzajú doplnkové a pomocné údaje k zostavám --- v | AT4: False
D6: Stavba:
E7: =_xlfn.CONCAT(Obsah!N1," ",Obsah!N2) -> 15709 - Nižná / Tr 110/22kV - komplexná rekonštrukcia
D8: Objekt:
E9: SO34.05 - BSP - Vykurovanie
D11: JKSO: | I11: ČS:
D12: Miesto: | F12: Nižná | I12: Dátum: | J12: =Obsah!Z3 -> 46174
D14: Objednávateľ: | I14: IČO:
E15: STREDOSLOVENSKÁ DISTRIBUČNÁ a.s. | I15: IČ DPH:
D17: Zhotoviteľ: | I17: IČO:
E18: určený výberom | I18: IČ DPH:
D20: Projektant: | I20: IČO:
E21: LiV-EPI, s.r.o. | I21: IČ DPH:
D23: Spracovateľ: | I23: IČO:
E24: Ing Mária Russinová | I24: IČ DPH:
D26: Poznámka:
D30: Cena bez DPH | J30: =ROUND(J119, 2) -> 0
F32: Základ dane | I32: Sadzba dane | J32: Výška dane
D33: DPH | E33: základná | F33: =ROUND((SUM(BE119:BE136)), 2) -> 0 | I33: 0.23 | J33: =ROUND(((SUM(BE119:BE136))*I33), 2) -> 0
E34: znížená | F34: =ROUND((SUM(BF119:BF136)), 2) -> 0 | I34: 0.23 | J34: =ROUND(((SUM(BF119:BF136))*I34), 2) -> 0
E35: zákl. prenesená | F35: =ROUND((SUM(BG119:BG136)), 2) -> 0 | I35: 0.23 | J35: =0 -> 0
E36: zníž. prenesená | F36: =ROUND((SUM(BH119:BH136)), 2) -> 0 | I36: 0.23 | J36: =0 -> 0
E37: nulová | F37: =ROUND((SUM(BI119:BI136)), 2) -> 0 | I37: 0 | J37: =0 -> 0
D39: Cena s DPH | G39: v | H39: EUR | J39: =SUM(J30:J37) -> 0
D50: Projektant | G50: Spracovateľ
D61: Dátum a podpis: | F61: Pečiatka | G61: Dátum a podpis: | J61: Pečiatka
D65: Objednávateľ | G65: Zhotoviteľ
D76: Dátum a podpis: | F76: Pečiatka | G76: Dátum a podpis: | J76: Pečiatka
C82: REKAPITULÁCIA ROZPOČTU
C84: Stavba:
E85: =E7 -> 15709 - Nižná / Tr 110/22kV - komplexná rekonštrukcia
C86: Objekt:
E87: =E9 -> SO34.05 - BSP - Vykurovanie
C89: Miesto: | F89: =F12 -> Nižná | I89: Dátum: | J89: =IF(J12="","",J12) -> 46174
C91: Objednávateľ: | F91: =E15 -> STREDOSLOVENSKÁ DISTRIBUČNÁ a.s. | I91: Projektant: | J91: =E21 -> LiV-EPI, s.r.o.
C92: Zhotoviteľ: | F92: =IF(E18="","",E18) -> určený výberom | I92: Spracovateľ: | J92: =E24 -> Ing Mária Russinová
C94: Kód dielu - Popis | J94: Cena celkom [EUR]
C96: Náklady z rozpočtu | J96: =J119 -> 0 | AU96: -1
...

Sheet SO34_06
A1: =+TL!A13 -> VÝKAZ VÝMER | G1: celkový počet
A2: Stavba: | D2: =Obsah!N1 -> 15709 - Nižná / Tr 110/22kV
D3: =Obsah!N2 -> - komplexná rekonštrukcia
D4: =Obsah!N3
A5: Časť: | D5: =Obsah!B6 -> D. Dokumentácia stavebných objektov a prevádzkových súborov
A6: Objekt: | D6: =Obsah!B33 -> S05_SO34.06_Elektroinštalácia
A8: Stavebník: | D8: =Obsah!Z1 -> Stredoslovenská distribučná, a. s., Pri Rajčianke 2927/8, 010 47 Žilina | H8: Spracoval: | I8: Gyore
A9: Miesto: | D9: =Obsah!Z2 -> Tr 110/22 kV Nižná | H9: Dátum: | I9: =Obsah!Z3 -> 46174
A11: P.Č. | B11: Kód položky | C11: TTŠ / SAP | D11: Popis | E11: MJ | F11: Množstvo celkom | G11: Množstvo celkom | H11: Cena jednotková | I11: Cena celkom
B12: M | D12: Práce a dodávky M | I12: =SUM(I13,I19,I97,I204,I222) -> 0
B13: 21-D2 | D13: Dodávky zhotoviteľa | I13: =SUM(I14,I18) -> 0
D14: ROZVÁDZAČE | E14: kpl | F14: 1 | H14: =SUM(I15:I17) -> 0 | I14: =F14*H14 -> 0
A15: 1 | B15: Dod.-1.1 | D15: Rozvádzač RS34 (Obsah podľa ZSaZ) | E15: ks | F15: 1 | G15: =$F$14*F15 -> 1 | I15: =H15*F15 -> 0
A16: =A15+1 -> 2 | B16: Dod.-1.2 | D16: Rozvádzač DT34 (Obsah podľa ZSaZ) | E16: ks | F16: 1 | G16: =$F$14*F16 -> 1 | I16: =H16*F16 -> 0
A17: =A16+1 -> 3 | B17: Dod.-1.3 | D17: Miestna skrinka MX (Obsah podľa ZSaZ) | E17: ks | F17: 5 | G17: =$F$14*F17 -> 5 | I17: =H17*F17 -> 0
A18: =A17+1 -> 4 | B18: 21-MD | D18: Medzistavenisková doprava | E18: % | F18: =G18 -> 0 | H18: =SUM(I15:I17) -> 0 | I18: =(F18*H18)/100 -> 0
B19: 21-Mont | D19: Elektromontáže | I19: =SUM(I20:I96) -> 0
A20: =A18+1 -> 5 | B20: 210190052 | D20: Montáž rozvádzača skriňového, panelového za l pole - delený rozvádzač do váhy 300 kg | E20: ks | F20: 2 | G20: =F20 -> 2 | I20: =F20*H20 -> 0
A21: =A20+1 -> 6 | B21: 210190151 | D21: Montáž krabíc alebo skríň s prístrojmi do váhy 5 kg | E21: ks | F21: 5 | G21: =F21 -> 5 | I21: =F21*H21 -> 0
A22: =A21+1 -> 7 | B22: 210190151p | D22: Montáž krabíc alebo skríň s prístrojmi do váhy 5 kg, pre zásuvkovú skriňu | E22: ks | F22: 1 | G22: =F22 -> 1 | I22: =F22*H22 -> 0
A23: =A22+1 -> 8 | B23: 210201430 | D23: Zapojenie svietidla 1x svetelný zdroj, parkového a záhradného na stĺp LED | E23: ks | F23: 150 | G23: =F23 -> 150 | I23: =F23*H23 -> 0
A24: =A23+1 -> 9 | B24: 210111004 | D24: Zásuvka vstavaná 230 V / 16A vrátane zapojenia, vyhotovenie 3P | E24: ks | F24: 68 | G24: =F24 -> 68 | I24: =F24*H24 -> 0
A25: =A24+1 -> 10 | B25: 210111003 | D25: Zásuvka vstavaná 400 V / 16A vrátane zapojenia, vyhotovenie 4P, 5P | E25: ks | F25: 2 | G25: =F25 -> 2 | I25: =F25*H25 -> 0
A26: =A25+1 -> 11 | B26: 220733042 | D26: Montáž inštalačnej krabice na stenu | E26: ks | F26: 85 | G26: =F26 -> 85 | I26: =F26*H26 -> 0
A27: =A26+1 -> 12 | B27: 210110011 | D27: Jednopólový spínač - radenie 1, nástenný IP 55, vrátane zapojenia | E27: ks | F27: 9 | G27: =F27 -> 9 | I27: =F27*H27 -> 0
A28: =A27+1 -> 13 | B28: 210110012p | D28: Dvojpólový spínač - radenie 2, nástenný IP 55, vrátane zapojenia | E28: ks | F28: 1 | G28: =F28 -> 1 | I28: =F28*H28 -> 0
A29: =A28+1 -> 14 | B29: 210110012 | D29: Sériový spínač - radenie 5, nástenný IP 55 vrátane zapojenia | E29: ks | F29: 3 | G29: =F29 -> 3 | I29: =F29*H29 -> 0
A30: =A29+1 -> 15 | B30: 210110013 | D30: Sériový prepínač - radenie 6, nástenný IP 55 vrátane zapojenia | E30: ks | F30: 12 | G30: =F30 -> 12 | I30: =F30*H30 -> 0
A31: =A30+1 -> 16 | B31: 210110025 | D31: Krížový prepínač - radenie 7, nástenný IP 55 vrátane zapojenia | E31: ks | F31: 1 | G31: =F31 -> 1 | I31: =F31*H31 -> 0
A32: =A31+1 -> 17 | B32: 210110016 | D32: Tlačítko - radenie 1/0 nástenný IP 55, vrátane zapojenia | E32: ks | F32: 14 | G32: =F32 -> 14 | I32: =F32*H32 -> 0
A33: =A32+1 -> 18 | B33: Mont.-2 | D33: Montáž zariadení: - Priestorový termostat - Iskrovo bezpečný snímač teploty a vlhkosti - Snímač teploty a vlhkosti - Detektor úniku spáliteľných plynov - Siréna s optickou signalizáciou - Ponorná vodivostná sonda | E33: hod | F33: 25 | G33: =F33 -> 25 | I33: =F33*H33 -> 0
A34: =A33+1 -> 19 | B34: 210810065 | D34: Kábel medený silový uložený pevne 1-CYKY 0,6/1 kV 5x35 | E34: m | F34: 60 | G34: =F34 -> 60 | I34: =F34*H34 -> 0
A35: =A34+1 -> 20 | B35: 210800161 | D35: Kábel medený uložený pevne CYKY 450/750 V 5x6 | E35: m | F35: 130 | G35: =F35 -> 130 | I35: =F35*H35 -> 0
A36: =A35+1 -> 21 | B36: 210800147 | D36: Kábel medený uložený pevne CYKY 450/750 V 3x2,5 | E36: m | F36: 1950 | G36: =F36 -> 1950 | I36: =F36*H36 -> 0
A37: =A36+1 -> 22 | B37: 210800148 | D37: Kábel medený uložený pevne CYKY 450/750 V 3x4 | E37: m | F37: 190 | G37: =F37 -> 190 | I37: =F37*H37 -> 0
A38: =A37+1 -> 23 | B38: 210800164 | D38: Kábel medený uložený pevne CYKY 450/750 V 7x1,5 | E38: m | F38: 70 | G38: =F38 -> 70 | I38: =F38*H38 -> 0
A39: =A38+1 -> 24 | B39: 210800158 | D39: Kábel medený uložený pevne CYKY 450/750 V 5x1,5 | E39: m | F39: 236 | G39: =F39 -> 236 | I39: =F39*H39 -> 0
A40: =A39+1 -> 25 | B40: 210800146 | D40: Kábel medený uložený pevne CYKY 450/750 V 3x1,5 | E40: m | F40: 890 | G40: =F40 -> 890 | I40: =F40*H40 -> 0
A41: =A40+1 -> 26 | B41: 210800152 | D41: Kábel medený uložený pevne CYKY 450/750 V 4x1,5 | E41: m | F41: 560 | G41: =F41 -> 560 | I41: =F41*H41 -> 0
A42: =A41+1 -> 27 | B42: 210800140 | D42: Kábel medený uložený pevne CYKY 450/750 V 2x1,5 | E42: m | F42: 830 | G42: =F42 -> 830 | I42: =F42*H42 -> 0
...

Sheet SO34.07
A1: =+TL!A13 -> VÝKAZ VÝMER | G1: celkový počet
A2: Stavba: | D2: =Obsah!N1 -> 15709 - Nižná / Tr 110/22kV
D3: =Obsah!N2 -> - komplexná rekonštrukcia
D4: =Obsah!N3
A5: Časť: | D5: =Obsah!B6 -> D. Dokumentácia stavebných objektov a prevádzkových súborov
A6: Objekt: | D6: =Obsah!B34 -> S05_SO34.07_Výzbroj káblových trás
A8: Stavebník: | D8: =Obsah!Z1 -> Stredoslovenská distribučná, a. s., Pri Rajčianke 2927/8, 010 47 Žilina | H8: Spracoval: | I8: Gyore
A9: Miesto: | D9: =Obsah!Z2 -> Tr 110/22 kV Nižná | H9: Dátum: | I9: =Obsah!Z3 -> 46174
A11: P.Č. | B11: Kód položky | C11: TTŠ / SAP | D11: Popis | E11: MJ | F11: Množstvo celkom | G11: Množstvo celkom | H11: Cena jednotková | I11: Cena celkom
B12: M | D12: Práce a dodávky M | I12: =SUM(I13,I20,I130,I133) -> 0
B13: 21-Mont | D13: Elektromontáže | I13: =SUM(I14:I19) -> 0
A14: 1 | B14: 210020310p | D14: Káblový rebrík a Drôtený žľab, pozink. vrátane príslušenstva, na výložníku bez veka | E14: m | F14: 324 | G14: =F14 -> 324 | I14: =H14*F14 -> 0
A15: 2 | B15: 210011310 | D15: Osadenie kotvy prievlakovej HM 8 do tvrdého kameňa, jednoduchého betónu a železobetónu | E15: ks | F15: 103 | G15: =F15 -> 103 | I15: =H15*F15 -> 0
A16: 3 | B16: 210011311 | D16: Osadenie kotvy prievlakovej HM 10 do tvrdého kameňa, jednoduchého betónu a železobetónu | E16: ks | F16: 48 | G16: =F16 -> 48 | I16: =H16*F16 -> 0
A17: 4 | B17: 210020801 | D17: Protipožiarná doska PROMATECT H (uložená do žlabu a na oddelenie VN vývodov od T101 T102) | E17: m2 | F17: 15.5 | G17: =F17 -> 15.5 | I17: =H17*F17 -> 0
A18: =A17+1 -> 5 | B18: 21-NP-M | D18: Drobné montážne práce | E18: % | F18: =G18 -> 0 | H18: =SUM(I14:I17) -> 0 | I18: =(F18*H18)/100 -> 0
A19: =A18+1 -> 6 | B19: PPV-M | D19: Podiel pridružených výkonov | E19: % | F19: =G19 -> 0 | H19: =SUM(I14:I18) -> 0 | I19: =(F19*H19)/100 -> 0
B20: 21-Mat | D20: Materiál | I20: =SUM(I21,I72,I94,I108,I125,I128:I129) -> 0
D21: Káblové trasy v BSP, 1kpl obsahuje: | E21: kpl | F21: 1 | H21: =SUM(I22:I71) -> 0 | I21: =H21*F21 -> 0
A22: =A19+1 -> 7 | B22: 1 | D22: Káblový žľab klik šírka 400mm, výška 60mm | E22: m | F22: 99 | G22: =F22*$F$21 -> 99 | I22: =H22*F22 -> 0
A23: =A22+1 -> 8 | B23: =B22+1 -> 2 | D23: Spojka káblového žľab | E23: ks | F23: 10 | G23: =F23*$F$21 -> 10 | I23: =H23*F23 -> 0
A24: =A23+1 -> 9 | B24: =B23+1 -> 3 | D24: Spojka káblového žľabu uhlová | E24: ks | F24: 30 | G24: =F24*$F$21 -> 30 | I24: =H24*F24 -> 0
A25: =A23+1 -> 9 | B25: =B24+1 -> 4 | D25: Spojka káblového žľabu otočná | E25: ks | F25: 40 | G25: =F25*$F$21 -> 40 | I25: =H25*F25 -> 0
A26: =A25+1 -> 10 | B26: =B25+1 -> 5 | D26: Koleno káblového žľabu 90° | E26: ks | F26: 3 | G26: =F26*$F$21 -> 3 | I26: =H26*F26 -> 0
A27: =A25+1 -> 10 | B27: =B26+1 -> 6 | D27: T-kus káblového žľabu | E27: ks | F27: 15 | G27: =F27*$F$21 -> 15 | I27: =H27*F27 -> 0
A28: =A27+1 -> 11 | B28: =B27+1 -> 7 | D28: C-uholník montážny | E28: ks | F28: 15 | G28: =F28*$F$21 -> 15 | I28: =H28*F28 -> 0
A29: =A27+1 -> 11 | B29: =B28+1 -> 8 | D29: C-uholník montážny | E29: ks | F29: 3 | G29: =F29*$F$21 -> 3 | I29: =H29*F29 -> 0
A30: =A29+1 -> 12 | B30: =B29+1 -> 9 | D30: Držiak prítlačný | E30: ks | F30: 220 | G30: =F30*$F$21 -> 220 | I30: =H30*F30 -> 0
A31: =A29+1 -> 12 | B31: =B30+1 -> 10 | D31: Skrutka (komplet) (100ks) | E31: bal. | F31: 3 | G31: =F31*$F$21 -> 3 | I31: =H31*F31 -> 0
A32: =A31+1 -> 13 | B32: =B31+1 -> 11 | D32: Skrutka (komplet) (100ks) | E32: bal. | F32: 1 | G32: =F32*$F$21 -> 1 | I32: =H32*F32 -> 0
A33: =A31+1 -> 13 | B33: =B32+1 -> 12 | D33: Podložka veľkoplošná (100ks) | E33: bal. | F33: 3 | G33: =F33*$F$21 -> 3 | I33: =H33*F33 -> 0
A34: =A33+1 -> 14 | B34: =B33+1 -> 13 | D34: Podložka veľkoplošná (100ks) | E34: bal. | F34: 2 | G34: =F34*$F$21 -> 2 | I34: =H34*F34 -> 0
A35: =A33+1 -> 14 | B35: =B34+1 -> 14 | D35: Skrutka do betónu - Zinc Flake | E35: ks | F35: 48 | G35: =F35*$F$21 -> 48 | I35: =H35*F35 -> 0
A36: =A35+1 -> 15 | B36: =B35+1 -> 15 | D36: Ochranná koncovka | E36: ks | F36: 270 | G36: =F36*$F$21 -> 270 | I36: =H36*F36 -> 0
A37: =A35+1 -> 15 | B37: =B36+1 -> 16 | D37: Výložník šírka 200mm | E37: ks | F37: 13 | G37: =F37*$F$21 -> 13 | I37: =H37*F37 -> 0
A38: =A37+1 -> 16 | B38: =B37+1 -> 17 | D38: Výložník šírka 400mm | E38: ks | F38: 56 | G38: =F38*$F$21 -> 56 | I38: =H38*F38 -> 0
A39: =A37+1 -> 16 | B39: =B38+1 -> 18 | D39: Výložník šírka 500mm | E39: ks | F39: 40 | G39: =F39*$F$21 -> 40 | I39: =H39*F39 -> 0
A40: =A39+1 -> 17 | B40: =B39+1 -> 19 | D40: Výložník šírka 300mm | E40: ks | F40: 6 | G40: =F40*$F$21 -> 6 | I40: =H40*F40 -> 0
A41: =A39+1 -> 17 | B41: =B40+1 -> 20 | D41: Výložník šírka 500mm | E41: ks | F41: 16 | G41: =F41*$F$21 -> 16 | I41: =H41*F41 -> 0
A42: =A41+1 -> 18 | B42: =B41+1 -> 21 | D42: Výložník šírka 700mm | E42: ks | F42: 23 | G42: =F42*$F$21 -> 23 | I42: =H42*F42 -> 0
...

Sheet SO34.08
A1: =+TL!A13 -> VÝKAZ VÝMER | G1: celkový počet
A2: Stavba: | D2: =Obsah!N1 -> 15709 - Nižná / Tr 110/22kV
D3: =Obsah!N2 -> - komplexná rekonštrukcia
D4: =Obsah!N3
A5: Časť: | D5: =Obsah!B6 -> D. Dokumentácia stavebných objektov a prevádzkových súborov
A6: Objekt: | D6: =Obsah!B35 -> S05_SO34.08_Systémové prestupy
A8: Stavebník: | D8: =Obsah!Z1 -> Stredoslovenská distribučná, a. s., Pri Rajčianke 2927/8, 010 47 Žilina | H8: Spracoval: | I8: Gyore
A9: Miesto: | D9: =Obsah!Z2 -> Tr 110/22 kV Nižná | H9: Dátum: | I9: =Obsah!Z3 -> 46174
A11: P.Č. | B11: Kód položky | C11: TTŠ / SAP | D11: Popis | E11: MJ | F11: Množstvo celkom | G11: Množstvo celkom | H11: Cena jednotková | I11: Cena celkom
B12: M | D12: Práce a dodávky M | I12: =SUM(I13,I20,I37,I40) -> 0
B13: 21-M | D13: Elektromontáže | I13: =SUM(I14:I19) -> 0
A14: 1 | B14: 210800515 | D14: Vodič medený uložený voľne H07V-U (CY) 450/750 V 16 | E14: m | F14: 7 | G14: =F14 -> 7 | I14: =H14*F14 -> 0 | J14: DODAVKA SSD
A15: =A14+1 -> 2 | B15: 210100003 | D15: Ukončenie vodičov v rozvádzač. vrátane zapojenia a vodičovej koncovky do 16 mm2 | E15: ks | F15: 28 | G15: =F15 -> 28 | I15: =H15*F15 -> 0 | J15: DODAVKA SSD
A16: =A15+1 -> 3 | B16: Mont.-1 | D16: Tesniaci prestup , poskladanie (14ks) | E16: hod | F16: =6*15 -> 90 | G16: =F16 -> 90 | I16: =H16*F16 -> 0 | J16: DODAVKA SSD
A17: =A16+1 -> 4 | B17: 210020901 | D17: Protipožiarna prepážka jednodochá, Mäkká upchávka | E17: m2 | F17: 7.79 | G17: =F17 -> 7.79 | I17: =H17*F17 -> 0 | J17: DODAVKA SSD
A18: =A17+1 -> 5 | B18: 21-NP-M | D18: Drobné montážne práce | E18: % | F18: =G18 -> 0 | H18: =SUM(I14:I17) -> 0 | I18: =H18*F18/100 -> 0 | J18: DODAVKA SSD
A19: =A18+1 -> 6 | B19: PPV-M | D19: Podiel pridružených výkonov | E19: % | F19: =G19 -> 0 | H19: =SUM(I14:I18) -> 0 | I19: =H19*F19/100 -> 0 | J19: DODAVKA SSD
B20: 21-Mat | D20: Materiál | I20: =SUM(I21,I31,I35:I36) -> 0 | J20: DODAVKA SSD
D21: Systémové prestupy Roxtec alebo alternatívny výrobca | E21: kpl | F21: 1 | H21: =SUM(I22:I30) -> 0 | I21: =H21*F21 -> 0 | J21: DODAVKA SSD
A22: =A19+1 -> 7 | B22: 1 | D22: Kruhový rám s požiarnou odolnosťou B-s1 Ø 200 mm, materiál: Nerez R 200 | E22: ks | F22: 14 | G22: =F22*$F$21 -> 14 | I22: =H22*F22 -> 0 | J22: DODAVKA SSD
A23: =A22+1 -> 8 | B23: =B22+1 -> 2 | D23: Tesniaci modul s požiarnou odolnosťou triedy B-s1, vode (IP68) a hlodavcom pre káble v rozsahu Ø 3-11 mm - RM 15 | E23: ks | F23: 32 | G23: =F23*$F$21 -> 32 | I23: =H23*F23 -> 0 | J23: DODAVKA SSD
A24: =A23+1 -> 9 | B24: =B23+1 -> 3 | D24: Tesniaci modul s požiarnou odolnosťou triedy B-s1, vode (IP68) a hlodavcom pre káble v rozsahu Ø 3,5-16,5 mm - RM 20W40 | E24: ks | F24: 36 | G24: =F24*$F$21 -> 36 | I24: =H24*F24 -> 0 | J24: DODAVKA SSD
A25: =A24+1 -> 10 | B25: =B24+1 -> 4 | D25: Tesniaci modul s požiarnou odolnosťou triedy B-s1, vode (IP68) a hlodavcom pre káble v rozsahu Ø 10-25 mm - RM 30 | E25: ks | F25: 60 | G25: =F25*$F$21 -> 60 | I25: =H25*F25 -> 0 | J25: DODAVKA SSD
A26: =A25+1 -> 11 | B26: =B25+1 -> 5 | D26: Tesniaci modul s požiarnou odolnosťou triedy B-s1, vode (IP68) a hlodavcom, rezerva - RM30/0 | E26: ks | F26: 28 | G26: =F26*$F$21 -> 28 | I26: =H26*F26 -> 0 | J26: DODAVKA SSD
A27: =A26+1 -> 12 | B27: =B26+1 -> 6 | D27: Tesniaci modul s požiarnou odolnosťou triedy B-s1, vode (IP68) a hlodavcom pre káble v rozsahu Ø 28-54 mm - RM 60 | E27: ks | F27: 9 | G27: =F27*$F$21 -> 9 | I27: =H27*F27 -> 0 | J27: DODAVKA SSD
A28: =A27+1 -> 13 | B28: =B27+1 -> 7 | D28: Tesniaci modul bez jadra s požiarnou odolnosťou triedy B-s1, vode (IP68) a hlodavcom pre káble v rozsahu Ø 28-54 mm - RM 60 WOC | E28: ks | F28: 15 | G28: =F28*$F$21 -> 15 | I28: =H28*F28 -> 0 | J28: DODAVKA SSD
A29: =A28+1 -> 14 | B29: =B28+1 -> 8 | D29: CY-J 1x16mm2 z/ž | E29: m | F29: 7 | G29: =F29*$F$21 -> 7 | I29: =H29*F29 -> 0 | J29: DODAVKA SSD
A30: =A29+1 -> 15 | B30: =B29+1 -> 9 | D30: Káblové oko pre vodič 16mm2 | E30: ks | F30: 28 | G30: =F30*$F$21 -> 28 | I30: =H30*F30 -> 0 | J30: DODAVKA SSD
D31: Protipožiarne prepážky | E31: kpl | F31: 1 | H31: =SUM(I32:I34) -> 0 | I31: =H31*F31 -> 0 | J31: DODAVKA SSD
A32: =A30+1 -> 16 | B32: =B30+1 -> 10 | D32: Protipožiarna prepážka jednoduchá, pre 2x2 rúr - Protipožiarná doska, hr. 25mm (2,43 m2) - Doska z mineralnej vlny, hr.50mm, min. 140 kg/m3, trieda reakcie na oheň A1 (1,13 m2) - Minerálna vlna, hr. 100mm, min. 40 kg/m3, trieda reakcie na oheň A1, hr.100mm) (0,33 m2) - Protipožiarny tmel (1400ml) - Protipožiarny náter, na vodnej báze (3,7 kg) | E32: ks | F32: 1 | G32: =F32*$F$31 -> 1 | I32: =H32*F32 -> 0 | J32: DODAVKA SSD
A33: =A32+1 -> 17 | B33: =B32+1 -> 11 | D33: Protipožiarna prepážka jednoduchá, pre 3x1 rúr - Protipožiarná doska, hr. 25mm (1,93 m2) - Doska z mineralnej vlny, hr.50mm, min. 140 kg/m3, trieda reakcie na oheň A1 (1,69 m2) - Minerálna vlna, hr. 100mm, min. 40 kg/m3, trieda reakcie na oheň A1, hr.100mm) (0,49 m2) - Protipožiarny tmel (1900ml) - Protipožiarny náter, na vodnej báze (5,2 kg) | E33: ks | F33: 2 | G33: =F33*$F$31 -> 2 | I33: =H33*F33 -> 0 | J33: DODAVKA SSD
A34: =A33+1 -> 18 | B34: =B33+1 -> 12 | D34: Protipožiarna prepážka jednoduchá, pre 4x1 rúr - Protipožiarná doska, hr. 25mm (1,5 m2) - Doska z mineralnej vlny, hr.50mm, min. 140 kg/m3, trieda reakcie na oheň A1 (1,70 m2) - Minerálna vlna, hr. 100mm, min. 40 kg/m3, trieda reakcie na oheň A1, hr.100mm) (0,45 m2) - Protipožiarny tmel (1700ml) - Protipožiarny náter, na vodnej báze (3,5 kg) | E34: ks | F34: 1 | G34: =F34*$F$31 -> 1 | I34: =H34*F34 -> 0 | J34: DODAVKA SSD
A35: =A34+1 -> 19 | B35: 21-M | D35: Podružný materiál | E35: % | F35: =G35 -> 0 | H35: =SUM(I21,I31) -> 0 | I35: =H35*F35/100 -> 0 | J35: DODAVKA SSD
A36: =A35+1 -> 20 | B36: 21-ZR | D36: Zásobovacia réžia | E36: % | F36: =G36 -> 0 | H36: =SUM(I35,I21,I31) -> 0 | I36: =H36*F36/100 -> 0 | J36: DODAVKA SSD
B37: 21-MCP | D37: Mimocenníkové položky | I37: =SUM(I38:I39) -> 0 | J37: DODAVKA SSD
A38: =A36+1 -> 21 | B38: MCP-1 | D38: Dopravné náklady poradcu na stavbu pre VN tesniac prestupu | E38: kpl | F38: 1 | G38: =F38 -> 1 | I38: =H38*F38 -> 0 | J38: DODAVKA SSD
A39: =A38+1 -> 22 | B39: MCP-2 | D39: Vypracovanie dielenskej dokumentácie | E39: hod | F39: 4 | G39: =F39 -> 4 | I39: =H39*F39 -> 0 | J39: DODAVKA SSD
B40: 21-HZS | D40: Zúčtovacie hodinové sadzby | I40: =SUM(I41:I44) -> 0 | J40: DODAVKA SSD
A41: =A39+1 -> 23 | B41: HZS-1 | D41: Individuálne skúšky | E41: hod | F41: 24 | G41: =F41 -> 24 | I41: =H41*F41 -> 0 | J41: DODAVKA SSD
A42: =A41+1 -> 24 | B42: HZS-2 | D42: Predkomplexné skúšky | E42: hod | F42: 8 | G42: =F42 -> 8 | I42: =H42*F42 -> 0 | J42: DODAVKA SSD
...

Sheet SO36
L2: >> skryté stĺpce << | AT2: {b2a851f8-3cb7-40c2-b00e-d9516499835c}
AT3: 0
D4: KRYCÍ LIST ROZPOČTU | M4: v --- nižšie sa nachádzajú doplnkové a pomocné údaje k zostavám --- v | AT4: False
D6: Stavba:
E7: =_xlfn.CONCAT(Obsah!N1," ",Obsah!N2) -> 15709 - Nižná / Tr 110/22kV - komplexná rekonštrukcia
D8: Objekt:
E9: SO36 - Technologické domčeky - ASR
D11: JKSO: | I11: ČS:
D12: Miesto: | F12: Nižná | I12: Dátum: | J12: =Obsah!Z3 -> 46174
D14: Objednávateľ: | I14: IČO:
E15: STREDOSLOVENSKÁ DISTRIBUčNÁ a.s. | I15: IČ DPH:
D17: Zhotoviteľ: | I17: IČO:
E18: určený výberom | I18: IČ DPH:
D20: Projektant: | I20: IČO:
E21: LiV-EPI, s.r.o. | I21: IČ DPH:
D23: Spracovateľ: | I23: IČO:
E24: Ing Peter Lukačovič | I24: IČ DPH:
D26: Poznámka:
D30: Cena bez DPH | J30: =ROUND(J96, 2) -> 0
F32: Základ dane | I32: Sadzba dane | J32: Výška dane
D33: DPH | E33: základná | F33: =ROUND((SUM(BE124:BE136)), 2) -> 0 | I33: 0.23 | J33: =ROUND(((SUM(BE124:BE136))*I33), 2) -> 0
E34: znížená | F34: =ROUND(J30, 2) -> 0 | I34: 0.23 | J34: =ROUND((F34*I34), 2) -> 0
E35: zákl. prenesená | F35: =ROUND((SUM(BG124:BG136)), 2) -> 0 | I35: 0.23 | J35: =0 -> 0
E36: zníž. prenesená | F36: =ROUND((SUM(BH124:BH136)), 2) -> 0 | I36: 0.23 | J36: =0 -> 0
E37: nulová | F37: =ROUND((SUM(BI124:BI136)), 2) -> 0 | I37: 0 | J37: =0 -> 0
D39: Cena s DPH | G39: v | H39: EUR | J39: =SUM(J30:J37) -> 0
D50: Projektant | G50: Spracovateľ
D61: Dátum a podpis: | F61: Pečiatka | G61: Dátum a podpis: | J61: Pečiatka
D65: Objednávateľ | G65: Zhotoviteľ
D76: Dátum a podpis: | F76: Pečiatka | G76: Dátum a podpis: | J76: Pečiatka
C82: REKAPITULÁCIA ROZPOČTU
C84: Stavba:
E85: =E7 -> 15709 - Nižná / Tr 110/22kV - komplexná rekonštrukcia
C86: Objekt:
E87: =E9 -> SO36 - Technologické domčeky - ASR
C89: Miesto: | F89: =F12 -> Nižná | I89: Dátum: | J89: =IF(J12="","",J12) -> 46174
C91: Objednávateľ: | F91: =E15 -> STREDOSLOVENSKÁ DISTRIBUčNÁ a.s. | I91: Projektant: | J91: =E21 -> LiV-EPI, s.r.o.
C92: Zhotoviteľ: | F92: =IF(E18="","",E18) -> určený výberom | I92: Spracovateľ: | J92: =E24 -> Ing Peter Lukačovič
C94: Kód dielu - Popis | J94: Cena celkom [EUR]
C96: Náklady z rozpočtu | J96: =J97+J101+J103 -> 0 | AU96: -1
...

Sheet SO36a
L2: >> skryté stĺpce << | AT2: {bfea1967-9d84-4a38-841a-9c5d53de72b7}
AT3: 0
D4: KRYCÍ LIST ROZPOČTU | M4: v --- nižšie sa nachádzajú doplnkové a pomocné údaje k zostavám --- v | AT4: False
D6: Stavba:
E7: =_xlfn.CONCAT(Obsah!N1," ",Obsah!N2) -> 15709 - Nižná / Tr 110/22kV - komplexná rekonštrukcia
D8: Objekt:
E9: SO36a - Technologické domčeky - UK
D11: JKSO: | I11: ČS:
D12: Miesto: | F12: Nižná | I12: Dátum: | J12: =Obsah!Z3 -> 46174
D14: Objednávateľ: | I14: IČO:
E15: STREDOSLOVENSKÁ DISTRIBUčNÁ a.s. | I15: IČ DPH:
D17: Zhotoviteľ: | I17: IČO:
E18: určený výberom | I18: IČ DPH:
D20: Projektant: | I20: IČO:
E21: LiV-EPI, s.r.o. | I21: IČ DPH:
D23: Spracovateľ: | I23: IČO:
E24: Ing Peter Lukačovič | I24: IČ DPH:
D26: Poznámka:
D30: Cena bez DPH | J30: =ROUND(J119, 2) -> 0
F32: Základ dane | I32: Sadzba dane | J32: Výška dane
D33: DPH | E33: základná | F33: =ROUND((SUM(BE119:BE129)), 2) -> 0 | I33: 0.23 | J33: =ROUND(((SUM(BE119:BE129))*I33), 2) -> 0
E34: znížená | F34: =ROUND((SUM(BF119:BF129)), 2) -> 0 | I34: 0.23 | J34: =ROUND(((SUM(BF119:BF129))*I34), 2) -> 0
E35: zákl. prenesená | F35: =ROUND((SUM(BG119:BG129)), 2) -> 0 | I35: 0.23 | J35: =0 -> 0
E36: zníž. prenesená | F36: =ROUND((SUM(BH119:BH129)), 2) -> 0 | I36: 0.23 | J36: =0 -> 0
E37: nulová | F37: =ROUND((SUM(BI119:BI129)), 2) -> 0 | I37: 0 | J37: =0 -> 0
D39: Cena s DPH | G39: v | H39: EUR | J39: =SUM(J30:J37) -> 0
D50: Projektant | G50: Spracovateľ
D61: Dátum a podpis: | F61: Pečiatka | G61: Dátum a podpis: | J61: Pečiatka
D65: Objednávateľ | G65: Zhotoviteľ
D76: Dátum a podpis: | F76: Pečiatka | G76: Dátum a podpis: | J76: Pečiatka
C82: REKAPITULÁCIA ROZPOČTU
C84: Stavba:
E85: =E7 -> 15709 - Nižná / Tr 110/22kV - komplexná rekonštrukcia
C86: Objekt:
E87: =E9 -> SO36a - Technologické domčeky - UK
C89: Miesto: | F89: =F12 -> Nižná | I89: Dátum: | J89: =IF(J12="","",J12) -> 46174
C91: Objednávateľ: | F91: =E15 -> STREDOSLOVENSKÁ DISTRIBUčNÁ a.s. | I91: Projektant: | J91: =E21 -> LiV-EPI, s.r.o.
C92: Zhotoviteľ: | F92: =IF(E18="","",E18) -> určený výberom | I92: Spracovateľ: | J92: =E24 -> Ing Peter Lukačovič
C94: Kód dielu - Popis | J94: Cena celkom [EUR]
C96: Náklady z rozpočtu | J96: =J119 -> 0 | AU96: -1
...

Sheet SO36b
A1: 15709 – Nižná / Tr 110/22kV – komplexná rekonštrukcia
A2: SO36b - Technologické domčeky - Vzduchotechnika
A3: Orientačný rozpočet pre časť VZT a CHL, VP
A4: p.č. | B4: skrátený popis | C4: množstvo | E4: jednotková cena | G4: dodávka | H4: montáž
B5: Zar. č. 1 – Chladenie a vetranie SO 36 - Technologické domčeky
A6: 2.8 | B6: Kondenzačná jednotka Daikin, typ: RXM20A | C6: 1 | D6: ks | G6: =E6*C6 -> 0 | H6: =G6*0.21 -> 0
B7: Qchl: 2.00 kW; Quk: 2.5 kW; el. pripojenie: 230V / 0,5kW, hmotnosť: 36 kg
A8: 2.9 | B8: Vnútorná nástenná jednotka. Daikin. typ: Perfera FTXM20A | C8: 1 | D8: ks | G8: =E8*C8 -> 0 | H8: =G8*0.21 -> 0
B9: Qchl: 2.0 kW; Quk: 2.5 kW, hmotnosť: 10 kg
B10: Príslušenstvo zariadenia:
A11: 2.8a | B11: * RTD-RA adaptér pre Split | C11: 1 | D11: ks | G11: =E11*C11 -> 0 | H11: =G11*0.21 -> 0
B12: * závesy
B13: * el. napájanie vnútornej jednotky cez komunikačný kábel
A14: 2.8b | B14: * chladivo R32 (0,8kg predplnené)
A15: 2.8c | B15: * ZTI: pripojenie na odvod kondenzátu, spádovaný vývod do exteriéru, PVC DN25 | C15: 3.5 | D15: bm | G15: =E15*C15 -> 0 | H15: =G15*0.21 -> 0
B16: * opatriť odvod v exteriéri kondenzátu odporoým vykurovacím káblom | C16: 1 | D16: kpl | G16: =E16*C16 -> 0 | H16: =G16*0.21 -> 0
B18: CHLADIVO, NAPÁJANIE A MONTÁŽ
B19: Doplnenie chladiva R32 | C19: 1 | D19: kpl | G19: =E19*C19 -> 0 | H19: =G19*0.21 -> 0
B20: Komunikačná a napájacia | C20: 1 | D20: kpl | G20: =E20*C20 -> 0 | H20: =G20*0.21 -> 0
B21: Montáž zariadení a ostatné bližšie nešpecifikované práce a náklady, súvisiace s montážou, kompletizáciou a spúšťaním chladenia | C21: 1 | D21: kpl | G21: =E21*C21 -> 0 | H21: =G21*0.21 -> 0
B23: KOVOVÉ DOPLNKOVÉ KONŠTRUKCIE
B24: Konzoly stenové; s nosnosťou do 50kg | C24: 1 | D24: kpl | G24: =E24*C24 -> 0 | H24: =G24*0.21 -> 0
B25: Montáž kovových doplnkových konštrukcií | C25: 1 | D25: kpl | G25: =E25*C25 -> 0 | H25: =G25*0.21 -> 0
B27: ROZVODY POTRUBIA CHL
B28: Medené potrubie predizolované ∅9,53 | C28: 5 | D28: bm | G28: =E28*C28 -> 0 | H28: =G28*0.21 -> 0
B29: Medené potrubie predizolované ∅6,35 | C29: 5 | D29: bm | G29: =E29*C29 -> 0 | H29: =G29*0.21 -> 0
B30: Ostatné bližšie nešpecifikované náklady súvisiace s kompletizáciou rozvodov | C30: 1 | D30: kpl | G30: =E30*C30 -> 0 | H30: =G30*0.21 -> 0
B33: Dodávka spolu: | G33: =SUM(G5:G31) -> 0
B34: Montáž spolu: | H34: =SUM(H5:H31) -> 0
B35: VRN - vedľajšie rozpočtové náklady
A36: VRN-1 | B36: Ostatné (doprava, vplyvy, pridružené výkony, réžia, drobné montážne práce a materiál...) | D36: % | G36: =ROUND((E36*C36/100),2) -> 0
B38: Spolu: | G38: =G33+H34+G36 -> 0
B39: Spolu s 23% DPH: | G39: =G38*1.23 -> 0

Sheet SO36-ELI
A1: =TL!A13 -> VÝKAZ VÝMER | G1: celkový počet
A2: Stavba: | D2: =Obsah!N1 -> 15709 - Nižná / Tr 110/22kV
D3: =Obsah!N2 -> - komplexná rekonštrukcia
D4: =Obsah!N3
A5: Časť: | D5: =TL!C11 -> E. Prílohy
A6: Objekt: | D6: SO06 SO36 Technologické domčeky / Elektroinštalácia
A8: Stavebník: | D8: =Obsah!Z1 -> Stredoslovenská distribučná, a. s., Pri Rajčianke 2927/8, 010 47 Žilina | H8: Spracoval: | I8: Gyore
A9: Miesto: | D9: =Obsah!Z2 -> Tr 110/22 kV Nižná | H9: Dátum: | I9: =Obsah!Z3 -> 46174
A11: P.Č. | B11: Kód položky | C11: TTŠ / SAP | D11: Popis | E11: MJ | F11: Množstvo celkom | G11: Množstvo celkom | H11: Cena jednotková | I11: Cena celkom
B12: M | D12: Práce a dodávky M | I12: =SUM(I13,I18,I67,I126) -> 0
B13: 21-D2 | D13: Dodávky zhotoviteľa | I13: =SUM(I14,I17) -> 0
D14: ROZVÁDZAČE | E14: kpl | F14: 1 | H14: =SUM(I15:I16) -> 0 | I14: =F14*H14 -> 0
A15: 1 | B15: Dod.-1.1 | D15: Rozvádzač RS36 (Obsah podľa ZSaZ) | E15: ks | F15: 1 | G15: =$F$14*F15 -> 1 | I15: =H15*F15 -> 0
A16: =A15+1 -> 2 | B16: Dod.-1.3 | D16: Miestna skrinka MX (Obsah podľa ZSaZ) | E16: ks | F16: 1 | G16: =$F$14*F16 -> 1 | I16: =H16*F16 -> 0
A17: =A16+1 -> 3 | B17: 21-MD | D17: Medzistavenisková doprava | E17: % | F17: =G17 -> 0 | H17: =SUM(I15:I16) -> 0 | I17: =(F17*H17)/100 -> 0
B18: 21-Mont | D18: Elektromontáže | I18: =SUM(I19:I66) -> 0
A19: =A17+1 -> 4 | B19: 210190003 | D19: Montáž rozvádzača skriňového,panelového za l pole - delený rozvádzač do váhy 100 kg | E19: ks | F19: 1 | G19: =F19 -> 1 | I19: =F19*H19 -> 0
A20: =A19+1 -> 5 | B20: 210190151 | D20: Montáž krabíc alebo skríň s prístrojmi do váhy 5 kg | E20: ks | F20: 1 | G20: =F20 -> 1 | I20: =F20*H20 -> 0
A21: =A20+1 -> 6 | B21: 210201430 | D21: Zapojenie svietidla 1x svetelný zdroj, parkového a záhradného na stĺp LED | E21: ks | F21: 3 | G21: =F21 -> 3 | I21: =F21*H21 -> 0
A22: =A21+1 -> 7 | B22: 210111004 | D22: Zásuvka vstavaná 230 V / 16A vrátane zapojenia, vyhotovenie 3P | E22: ks | F22: 2 | G22: =F22 -> 2 | I22: =F22*H22 -> 0
A23: =A22+1 -> 8 | B23: 220733042 | D23: Montáž inštalačnej krabice na stenu | E23: ks | F23: 5 | G23: =F23 -> 5 | I23: =F23*H23 -> 0
